BEGIN:VCALENDAR
VERSION:1.0
BEGIN:VEVENT
DTSTART:20240329T080000
DTEND:20240329T093000
SUMMARY:365 PROSPECTS vs. EKB 11U
DESCRIPTION:11U AAA - Top Prospect Athletics
LOCATION:Las palmas
CATEGORIES:QuickScores; Baseball Game
TRANSP:0
DALARM:20240329T060000;PT10M;2;365 PROSPECTS vs. EKB 11U
END:VEVENT
BEGIN:VEVENT
DTSTART:20240329T095000
DTEND:20240329T112000
SUMMARY:365 PROSPECTS vs. Renegades 11U Blue
DESCRIPTION:11U AAA - Top Prospect Athletics
LOCATION:Las palmas
CATEGORIES:QuickScores; Baseball Game
TRANSP:0
DALARM:20240329T075000;PT10M;2;365 PROSPECTS vs. Renegades 11U Blue
END:VEVENT
BEGIN:VEVENT
DTSTART:20240329T114000
DTEND:20240329T131000
SUMMARY:365 Gold vs. EKB 11U
DESCRIPTION:11U AAA - Top Prospect Athletics
LOCATION:Las palmas
CATEGORIES:QuickScores; Baseball Game
TRANSP:0
DALARM:20240329T094000;PT10M;2;365 Gold vs. EKB 11U
END:VEVENT
BEGIN:VEVENT
DTSTART:20240329T133000
DTEND:20240329T150000
SUMMARY:Braves Navy 11U vs. Renegades 11U Blue
DESCRIPTION:11U AAA - Top Prospect Athletics
LOCATION:Las palmas
CATEGORIES:QuickScores; Baseball Game
TRANSP:0
DALARM:20240329T113000;PT10M;2;Braves Navy 11U vs. Renegades 11U Blue
END:VEVENT
BEGIN:VEVENT
DTSTART:20240329T152000
DTEND:20240329T165000
SUMMARY:Braves Navy 11U vs. 365 Gold
DESCRIPTION:11U AAA - Top Prospect Athletics
LOCATION:Las palmas
CATEGORIES:QuickScores; Baseball Game
TRANSP:0
DALARM:20240329T132000;PT10M;2;Braves Navy 11U vs. 365 Gold
END:VEVENT
BEGIN:VEVENT
DTSTART:20240329T171000
DTEND:20240329T184000
SUMMARY:[1] Renegades 11U Blue vs. [2] 365 PROSPECTS
DESCRIPTION:11U AAA - Top Prospect Athletics
LOCATION:Las palmas
CATEGORIES:QuickScores; Baseball Game
TRANSP:0
DALARM:20240329T151000;PT10M;2;[1] Renegades 11U Blue vs. [2] 365 PROSPECTS
END:VEVENT
END:VCALENDAR
