BEGIN:VCALENDAR
VERSION:1.0
BEGIN:VEVENT
DTSTART:20240404T180000
DTEND:20240404T184000
SUMMARY:Starzyk/Kalish vs. Dubois/Herdt
DESCRIPTION:PUPC Thursday Spring Low Int. Lg - Paddle Up Pickleball Club
LOCATION:Court 2
CATEGORIES:QuickScores; Pickleball Game
TRANSP:0
DALARM:20240404T160000;PT10M;2;Starzyk/Kalish vs. Dubois/Herdt
END:VEVENT
BEGIN:VEVENT
DTSTART:20240404T180000
DTEND:20240404T184000
SUMMARY:Penberthy/Penberthy vs. McElfresh/McElfresh
DESCRIPTION:PUPC Thursday Spring Low Int. Lg - Paddle Up Pickleball Club
LOCATION:Court 3
CATEGORIES:QuickScores; Pickleball Game
TRANSP:0
DALARM:20240404T160000;PT10M;2;Penberthy/Penberthy vs. McElfresh/McElfresh
END:VEVENT
BEGIN:VEVENT
DTSTART:20240404T184000
DTEND:20240404T192000
SUMMARY:McElfresh/McElfresh vs. Starzyk/Kalish
DESCRIPTION:PUPC Thursday Spring Low Int. Lg - Paddle Up Pickleball Club
LOCATION:Court 2
CATEGORIES:QuickScores; Pickleball Game
TRANSP:0
DALARM:20240404T164000;PT10M;2;McElfresh/McElfresh vs. Starzyk/Kalish
END:VEVENT
BEGIN:VEVENT
DTSTART:20240404T184000
DTEND:20240404T192000
SUMMARY:Fears/Fay vs. Penberthy/Penberthy
DESCRIPTION:PUPC Thursday Spring Low Int. Lg - Paddle Up Pickleball Club
LOCATION:Court 3
CATEGORIES:QuickScores; Pickleball Game
TRANSP:0
DALARM:20240404T164000;PT10M;2;Fears/Fay vs. Penberthy/Penberthy
END:VEVENT
BEGIN:VEVENT
DTSTART:20240404T192000
DTEND:20240404T200000
SUMMARY:Dubois/Herdt vs. Wilson/Arnel
DESCRIPTION:PUPC Thursday Spring Low Int. Lg - Paddle Up Pickleball Club
LOCATION:Court 2
CATEGORIES:QuickScores; Pickleball Game
TRANSP:0
DALARM:20240404T172000;PT10M;2;Dubois/Herdt vs. Wilson/Arnel
END:VEVENT
BEGIN:VEVENT
DTSTART:20240404T192000
DTEND:20240404T200000
SUMMARY:Rivolta/Nabholz vs. Fears/Fay
DESCRIPTION:PUPC Thursday Spring Low Int. Lg - Paddle Up Pickleball Club
LOCATION:Court 3
CATEGORIES:QuickScores; Pickleball Game
TRANSP:0
DALARM:20240404T172000;PT10M;2;Rivolta/Nabholz vs. Fears/Fay
END:VEVENT
BEGIN:VEVENT
DTSTART:20240404T200000
DTEND:20240404T204000
SUMMARY:Painter/Painter vs. Rivolta/Nabholz
DESCRIPTION:PUPC Thursday Spring Low Int. Lg - Paddle Up Pickleball Club
LOCATION:Court 2
CATEGORIES:QuickScores; Pickleball Game
TRANSP:0
DALARM:20240404T180000;PT10M;2;Painter/Painter vs. Rivolta/Nabholz
END:VEVENT
BEGIN:VEVENT
DTSTART:20240404T204000
DTEND:20240404T212000
SUMMARY:Wilson/Arnel vs. Painter/Painter
DESCRIPTION:PUPC Thursday Spring Low Int. Lg - Paddle Up Pickleball Club
LOCATION:Court 2
CATEGORIES:QuickScores; Pickleball Game
TRANSP:0
DALARM:20240404T184000;PT10M;2;Wilson/Arnel vs. Painter/Painter
END:VEVENT
BEGIN:VEVENT
DTSTART:20240411T180000
DTEND:20240411T184000
SUMMARY:McElfresh/McElfresh vs. Painter/Painter
DESCRIPTION:PUPC Thursday Spring Low Int. Lg - Paddle Up Pickleball Club
LOCATION:Court 3
CATEGORIES:QuickScores; Pickleball Game
TRANSP:0
DALARM:20240411T160000;PT10M;2;McElfresh/McElfresh vs. Painter/Painter
END:VEVENT
BEGIN:VEVENT
DTSTART:20240411T180000
DTEND:20240411T184000
SUMMARY:Mueller/Stuhlman vs. Wilson/Arnel
DESCRIPTION:PUPC Thursday Spring Low Int. Lg - Paddle Up Pickleball Club
LOCATION:Court 2
CATEGORIES:QuickScores; Pickleball Game
TRANSP:0
DALARM:20240411T160000;PT10M;2;Mueller/Stuhlman vs. Wilson/Arnel
END:VEVENT
BEGIN:VEVENT
DTSTART:20240411T184000
DTEND:20240411T192000
SUMMARY:Starzyk/Kalish vs. Wilson/Arnel
DESCRIPTION:PUPC Thursday Spring Low Int. Lg - Paddle Up Pickleball Club
LOCATION:Court 3
CATEGORIES:QuickScores; Pickleball Game
TRANSP:0
DALARM:20240411T164000;PT10M;2;Starzyk/Kalish vs. Wilson/Arnel
END:VEVENT
BEGIN:VEVENT
DTSTART:20240411T184000
DTEND:20240411T192000
SUMMARY:Mueller/Stuhlman vs. McElfresh/McElfresh
DESCRIPTION:PUPC Thursday Spring Low Int. Lg - Paddle Up Pickleball Club
LOCATION:Court 2
CATEGORIES:QuickScores; Pickleball Game
TRANSP:0
DALARM:20240411T164000;PT10M;2;Mueller/Stuhlman vs. McElfresh/McElfresh
END:VEVENT
BEGIN:VEVENT
DTSTART:20240411T192000
DTEND:20240411T200000
SUMMARY:Fears/Fay vs. Starzyk/Kalish
DESCRIPTION:PUPC Thursday Spring Low Int. Lg - Paddle Up Pickleball Club
LOCATION:Court 2
CATEGORIES:QuickScores; Pickleball Game
TRANSP:0
DALARM:20240411T172000;PT10M;2;Fears/Fay vs. Starzyk/Kalish
END:VEVENT
BEGIN:VEVENT
DTSTART:20240411T192000
DTEND:20240411T200000
SUMMARY:Painter/Painter vs. Penberthy/Penberthy
DESCRIPTION:PUPC Thursday Spring Low Int. Lg - Paddle Up Pickleball Club
LOCATION:Court 3
CATEGORIES:QuickScores; Pickleball Game
TRANSP:0
DALARM:20240411T172000;PT10M;2;Painter/Painter vs. Penberthy/Penberthy
END:VEVENT
BEGIN:VEVENT
DTSTART:20240411T200000
DTEND:20240411T204000
SUMMARY:Dubois/Herdt vs. Fears/Fay
DESCRIPTION:PUPC Thursday Spring Low Int. Lg - Paddle Up Pickleball Club
LOCATION:Court 3
CATEGORIES:QuickScores; Pickleball Game
TRANSP:0
DALARM:20240411T180000;PT10M;2;Dubois/Herdt vs. Fears/Fay
END:VEVENT
BEGIN:VEVENT
DTSTART:20240411T200000
DTEND:20240411T204000
SUMMARY:Penberthy/Penberthy vs. Rivolta/Nabholz
DESCRIPTION:PUPC Thursday Spring Low Int. Lg - Paddle Up Pickleball Club
LOCATION:Court 2
CATEGORIES:QuickScores; Pickleball Game
TRANSP:0
DALARM:20240411T180000;PT10M;2;Penberthy/Penberthy vs. Rivolta/Nabholz
END:VEVENT
BEGIN:VEVENT
DTSTART:20240411T204000
DTEND:20240411T212000
SUMMARY:Dubois/Herdt vs. Rivolta/Nabholz
DESCRIPTION:PUPC Thursday Spring Low Int. Lg - Paddle Up Pickleball Club
LOCATION:Court 2
CATEGORIES:QuickScores; Pickleball Game
TRANSP:0
DALARM:20240411T184000;PT10M;2;Dubois/Herdt vs. Rivolta/Nabholz
END:VEVENT
BEGIN:VEVENT
DTSTART:20240418T180000
DTEND:20240418T184000
SUMMARY:Dubois/Herdt vs. McElfresh/McElfresh
DESCRIPTION:PUPC Thursday Spring Low Int. Lg - Paddle Up Pickleball Club
LOCATION:Court 3
CATEGORIES:QuickScores; Pickleball Game
TRANSP:0
DALARM:20240418T160000;PT10M;2;Dubois/Herdt vs. McElfresh/McElfresh
END:VEVENT
BEGIN:VEVENT
DTSTART:20240418T180000
DTEND:20240418T184000
SUMMARY:Painter/Painter vs. Starzyk/Kalish
DESCRIPTION:PUPC Thursday Spring Low Int. Lg - Paddle Up Pickleball Club
LOCATION:Court 2
CATEGORIES:QuickScores; Pickleball Game
TRANSP:0
DALARM:20240418T160000;PT10M;2;Painter/Painter vs. Starzyk/Kalish
END:VEVENT
BEGIN:VEVENT
DTSTART:20240418T184000
DTEND:20240418T192000
SUMMARY:Wilson/Arnel vs. McElfresh/McElfresh
DESCRIPTION:PUPC Thursday Spring Low Int. Lg - Paddle Up Pickleball Club
LOCATION:Court 2
CATEGORIES:QuickScores; Pickleball Game
TRANSP:0
DALARM:20240418T164000;PT10M;2;Wilson/Arnel vs. McElfresh/McElfresh
END:VEVENT
BEGIN:VEVENT
DTSTART:20240418T184000
DTEND:20240418T192000
SUMMARY:Dubois/Herdt vs. Painter/Painter
DESCRIPTION:PUPC Thursday Spring Low Int. Lg - Paddle Up Pickleball Club
LOCATION:Court 3
CATEGORIES:QuickScores; Pickleball Game
TRANSP:0
DALARM:20240418T164000;PT10M;2;Dubois/Herdt vs. Painter/Painter
END:VEVENT
BEGIN:VEVENT
DTSTART:20240418T192000
DTEND:20240418T200000
SUMMARY:Penberthy/Penberthy vs. Starzyk/Kalish
DESCRIPTION:PUPC Thursday Spring Low Int. Lg - Paddle Up Pickleball Club
LOCATION:Court 2
CATEGORIES:QuickScores; Pickleball Game
TRANSP:0
DALARM:20240418T172000;PT10M;2;Penberthy/Penberthy vs. Starzyk/Kalish
END:VEVENT
BEGIN:VEVENT
DTSTART:20240418T192000
DTEND:20240418T200000
SUMMARY:Wilson/Arnel vs. Rhea/Rhea
DESCRIPTION:PUPC Thursday Spring Low Int. Lg - Paddle Up Pickleball Club
LOCATION:Court 3
CATEGORIES:QuickScores; Pickleball Game
TRANSP:0
DALARM:20240418T172000;PT10M;2;Wilson/Arnel vs. Rhea/Rhea
END:VEVENT
BEGIN:VEVENT
DTSTART:20240418T200000
DTEND:20240418T204000
SUMMARY:Kornfeld/Stamper vs. Fears/Fay
DESCRIPTION:PUPC Thursday Spring Low Int. Lg - Paddle Up Pickleball Club
LOCATION:Court 3
CATEGORIES:QuickScores; Pickleball Game
TRANSP:0
DALARM:20240418T180000;PT10M;2;Kornfeld/Stamper vs. Fears/Fay
END:VEVENT
BEGIN:VEVENT
DTSTART:20240418T200000
DTEND:20240418T204000
SUMMARY:Penberthy/Penberthy vs. Rhea/Rhea
DESCRIPTION:PUPC Thursday Spring Low Int. Lg - Paddle Up Pickleball Club
LOCATION:Court 6
CATEGORIES:QuickScores; Pickleball Game
TRANSP:0
DALARM:20240418T180000;PT10M;2;Penberthy/Penberthy vs. Rhea/Rhea
END:VEVENT
BEGIN:VEVENT
DTSTART:20240418T200000
DTEND:20240418T204000
SUMMARY:Mueller/Stuhlman vs. Rivolta/Nabholz
DESCRIPTION:PUPC Thursday Spring Low Int. Lg - Paddle Up Pickleball Club
LOCATION:Court 2
CATEGORIES:QuickScores; Pickleball Game
TRANSP:0
DALARM:20240418T180000;PT10M;2;Mueller/Stuhlman vs. Rivolta/Nabholz
END:VEVENT
BEGIN:VEVENT
DTSTART:20240418T204000
DTEND:20240418T212000
SUMMARY:Rivolta/Nabholz vs. Kornfeld/Stamper
DESCRIPTION:PUPC Thursday Spring Low Int. Lg - Paddle Up Pickleball Club
LOCATION:Court 3
CATEGORIES:QuickScores; Pickleball Game
TRANSP:0
DALARM:20240418T184000;PT10M;2;Rivolta/Nabholz vs. Kornfeld/Stamper
END:VEVENT
BEGIN:VEVENT
DTSTART:20240418T204000
DTEND:20240418T212000
SUMMARY:Fears/Fay vs. Mueller/Stuhlman
DESCRIPTION:PUPC Thursday Spring Low Int. Lg - Paddle Up Pickleball Club
LOCATION:Court 2
CATEGORIES:QuickScores; Pickleball Game
TRANSP:0
DALARM:20240418T184000;PT10M;2;Fears/Fay vs. Mueller/Stuhlman
END:VEVENT
BEGIN:VEVENT
DTSTART:20240425T180000
DTEND:20240425T184000
SUMMARY:Painter/Painter vs. McElfresh/McElfresh
DESCRIPTION:PUPC Thursday Spring Low Int. Lg - Paddle Up Pickleball Club
LOCATION:Court 2
CATEGORIES:QuickScores; Pickleball Game
TRANSP:0
DALARM:20240425T160000;PT10M;2;Painter/Painter vs. McElfresh/McElfresh
END:VEVENT
BEGIN:VEVENT
DTSTART:20240425T180000
DTEND:20240425T184000
SUMMARY:Dubois/Herdt vs. Penberthy/Penberthy
DESCRIPTION:PUPC Thursday Spring Low Int. Lg - Paddle Up Pickleball Club
LOCATION:Court 3
CATEGORIES:QuickScores; Pickleball Game
TRANSP:0
DALARM:20240425T160000;PT10M;2;Dubois/Herdt vs. Penberthy/Penberthy
END:VEVENT
BEGIN:VEVENT
DTSTART:20240425T184000
DTEND:20240425T192000
SUMMARY:Dubois/Herdt vs. Mueller/Stuhlman
DESCRIPTION:PUPC Thursday Spring Low Int. Lg - Paddle Up Pickleball Club
LOCATION:Court 3
CATEGORIES:QuickScores; Pickleball Game
TRANSP:0
DALARM:20240425T164000;PT10M;2;Dubois/Herdt vs. Mueller/Stuhlman
END:VEVENT
BEGIN:VEVENT
DTSTART:20240425T184000
DTEND:20240425T192000
SUMMARY:Penberthy/Penberthy vs. Painter/Painter
DESCRIPTION:PUPC Thursday Spring Low Int. Lg - Paddle Up Pickleball Club
LOCATION:Court 2
CATEGORIES:QuickScores; Pickleball Game
TRANSP:0
DALARM:20240425T164000;PT10M;2;Penberthy/Penberthy vs. Painter/Painter
END:VEVENT
BEGIN:VEVENT
DTSTART:20240425T192000
DTEND:20240425T200000
SUMMARY:Rivolta/Nabholz vs. McElfresh/McElfresh
DESCRIPTION:PUPC Thursday Spring Low Int. Lg - Paddle Up Pickleball Club
LOCATION:Court 3
CATEGORIES:QuickScores; Pickleball Game
TRANSP:0
DALARM:20240425T172000;PT10M;2;Rivolta/Nabholz vs. McElfresh/McElfresh
END:VEVENT
BEGIN:VEVENT
DTSTART:20240425T192000
DTEND:20240425T200000
SUMMARY:Mueller/Stuhlman vs. Kornfeld/Stamper
DESCRIPTION:PUPC Thursday Spring Low Int. Lg - Paddle Up Pickleball Club
LOCATION:Court 2
CATEGORIES:QuickScores; Pickleball Game
TRANSP:0
DALARM:20240425T172000;PT10M;2;Mueller/Stuhlman vs. Kornfeld/Stamper
END:VEVENT
BEGIN:VEVENT
DTSTART:20240425T200000
DTEND:20240425T204000
SUMMARY:Starzyk/Kalish vs. Kornfeld/Stamper
DESCRIPTION:PUPC Thursday Spring Low Int. Lg - Paddle Up Pickleball Club
LOCATION:Court 2
CATEGORIES:QuickScores; Pickleball Game
TRANSP:0
DALARM:20240425T180000;PT10M;2;Starzyk/Kalish vs. Kornfeld/Stamper
END:VEVENT
BEGIN:VEVENT
DTSTART:20240425T200000
DTEND:20240425T204000
SUMMARY:Rhea/Rhea vs. Rivolta/Nabholz
DESCRIPTION:PUPC Thursday Spring Low Int. Lg - Paddle Up Pickleball Club
LOCATION:Court 6
CATEGORIES:QuickScores; Pickleball Game
TRANSP:0
DALARM:20240425T180000;PT10M;2;Rhea/Rhea vs. Rivolta/Nabholz
END:VEVENT
BEGIN:VEVENT
DTSTART:20240425T200000
DTEND:20240425T204000
SUMMARY:Wilson/Arnel vs. Fears/Fay
DESCRIPTION:PUPC Thursday Spring Low Int. Lg - Paddle Up Pickleball Club
LOCATION:Court 3
CATEGORIES:QuickScores; Pickleball Game
TRANSP:0
DALARM:20240425T180000;PT10M;2;Wilson/Arnel vs. Fears/Fay
END:VEVENT
BEGIN:VEVENT
DTSTART:20240425T204000
DTEND:20240425T212000
SUMMARY:Fears/Fay vs. Rhea/Rhea
DESCRIPTION:PUPC Thursday Spring Low Int. Lg - Paddle Up Pickleball Club
LOCATION:Court 3
CATEGORIES:QuickScores; Pickleball Game
TRANSP:0
DALARM:20240425T184000;PT10M;2;Fears/Fay vs. Rhea/Rhea
END:VEVENT
BEGIN:VEVENT
DTSTART:20240425T204000
DTEND:20240425T212000
SUMMARY:Wilson/Arnel vs. Starzyk/Kalish
DESCRIPTION:PUPC Thursday Spring Low Int. Lg - Paddle Up Pickleball Club
LOCATION:Court 2
CATEGORIES:QuickScores; Pickleball Game
TRANSP:0
DALARM:20240425T184000;PT10M;2;Wilson/Arnel vs. Starzyk/Kalish
END:VEVENT
BEGIN:VEVENT
DTSTART:20240502T180000
DTEND:20240502T184000
SUMMARY:Starzyk/Kalish vs. Painter/Painter
DESCRIPTION:PUPC Thursday Spring Low Int. Lg - Paddle Up Pickleball Club
LOCATION:Court 3
CATEGORIES:QuickScores; Pickleball Game
TRANSP:0
DALARM:20240502T160000;PT10M;2;Starzyk/Kalish vs. Painter/Painter
END:VEVENT
BEGIN:VEVENT
DTSTART:20240502T180000
DTEND:20240502T184000
SUMMARY:Mueller/Stuhlman vs. Penberthy/Penberthy
DESCRIPTION:PUPC Thursday Spring Low Int. Lg - Paddle Up Pickleball Club
LOCATION:Court 2
CATEGORIES:QuickScores; Pickleball Game
TRANSP:0
DALARM:20240502T160000;PT10M;2;Mueller/Stuhlman vs. Penberthy/Penberthy
END:VEVENT
BEGIN:VEVENT
DTSTART:20240502T184000
DTEND:20240502T192000
SUMMARY:Starzyk/Kalish vs. Penberthy/Penberthy
DESCRIPTION:PUPC Thursday Spring Low Int. Lg - Paddle Up Pickleball Club
LOCATION:Court 3
CATEGORIES:QuickScores; Pickleball Game
TRANSP:0
DALARM:20240502T164000;PT10M;2;Starzyk/Kalish vs. Penberthy/Penberthy
END:VEVENT
BEGIN:VEVENT
DTSTART:20240502T184000
DTEND:20240502T192000
SUMMARY:Wilson/Arnel vs. Mueller/Stuhlman
DESCRIPTION:PUPC Thursday Spring Low Int. Lg - Paddle Up Pickleball Club
LOCATION:Court 2
CATEGORIES:QuickScores; Pickleball Game
TRANSP:0
DALARM:20240502T164000;PT10M;2;Wilson/Arnel vs. Mueller/Stuhlman
END:VEVENT
BEGIN:VEVENT
DTSTART:20240502T192000
DTEND:20240502T200000
SUMMARY:Fears/Fay vs. Painter/Painter
DESCRIPTION:PUPC Thursday Spring Low Int. Lg - Paddle Up Pickleball Club
LOCATION:Court 2
CATEGORIES:QuickScores; Pickleball Game
TRANSP:0
DALARM:20240502T172000;PT10M;2;Fears/Fay vs. Painter/Painter
END:VEVENT
BEGIN:VEVENT
DTSTART:20240502T192000
DTEND:20240502T200000
SUMMARY:Wilson/Arnel vs. Dubois/Herdt
DESCRIPTION:PUPC Thursday Spring Low Int. Lg - Paddle Up Pickleball Club
LOCATION:Court 3
CATEGORIES:QuickScores; Pickleball Game
TRANSP:0
DALARM:20240502T172000;PT10M;2;Wilson/Arnel vs. Dubois/Herdt
END:VEVENT
BEGIN:VEVENT
DTSTART:20240502T200000
DTEND:20240502T204000
SUMMARY:Rhea/Rhea vs. Dubois/Herdt
DESCRIPTION:PUPC Thursday Spring Low Int. Lg - Paddle Up Pickleball Club
LOCATION:Court 6
CATEGORIES:QuickScores; Pickleball Game
TRANSP:0
DALARM:20240502T180000;PT10M;2;Rhea/Rhea vs. Dubois/Herdt
END:VEVENT
BEGIN:VEVENT
DTSTART:20240502T200000
DTEND:20240502T204000
SUMMARY:Rivolta/Nabholz vs. Fears/Fay
DESCRIPTION:PUPC Thursday Spring Low Int. Lg - Paddle Up Pickleball Club
LOCATION:Court 3
CATEGORIES:QuickScores; Pickleball Game
TRANSP:0
DALARM:20240502T180000;PT10M;2;Rivolta/Nabholz vs. Fears/Fay
END:VEVENT
BEGIN:VEVENT
DTSTART:20240502T200000
DTEND:20240502T204000
SUMMARY:McElfresh/McElfresh vs. Kornfeld/Stamper
DESCRIPTION:PUPC Thursday Spring Low Int. Lg - Paddle Up Pickleball Club
LOCATION:Court 2
CATEGORIES:QuickScores; Pickleball Game
TRANSP:0
DALARM:20240502T180000;PT10M;2;McElfresh/McElfresh vs. Kornfeld/Stamper
END:VEVENT
BEGIN:VEVENT
DTSTART:20240502T204000
DTEND:20240502T212000
SUMMARY:Kornfeld/Stamper vs. Rhea/Rhea
DESCRIPTION:PUPC Thursday Spring Low Int. Lg - Paddle Up Pickleball Club
LOCATION:Court 3
CATEGORIES:QuickScores; Pickleball Game
TRANSP:0
DALARM:20240502T184000;PT10M;2;Kornfeld/Stamper vs. Rhea/Rhea
END:VEVENT
BEGIN:VEVENT
DTSTART:20240502T204000
DTEND:20240502T212000
SUMMARY:Rivolta/Nabholz vs. McElfresh/McElfresh
DESCRIPTION:PUPC Thursday Spring Low Int. Lg - Paddle Up Pickleball Club
LOCATION:Court 2
CATEGORIES:QuickScores; Pickleball Game
TRANSP:0
DALARM:20240502T184000;PT10M;2;Rivolta/Nabholz vs. McElfresh/McElfresh
END:VEVENT
BEGIN:VEVENT
DTSTART:20240509T180000
DTEND:20240509T183500
SUMMARY:[4] Starzyk/Kalish vs. [5] McElfresh/McElfresh
DESCRIPTION:PUPC Thursday Spring Low Int. Lg - Paddle Up Pickleball Club
LOCATION:Court 6
CATEGORIES:QuickScores; Pickleball Game
TRANSP:0
DALARM:20240509T160000;PT10M;2;[4] Starzyk/Kalish vs. [5] McElfresh/McElfresh
END:VEVENT
BEGIN:VEVENT
DTSTART:20240509T180000
DTEND:20240509T183500
SUMMARY:[6] Rhea/Rhea vs. [11] Wilson/Arnel
DESCRIPTION:PUPC Thursday Spring Low Int. Lg - Paddle Up Pickleball Club
LOCATION:Court 4
CATEGORIES:QuickScores; Pickleball Game
TRANSP:0
DALARM:20240509T160000;PT10M;2;[6] Rhea/Rhea vs. [11] Wilson/Arnel
END:VEVENT
BEGIN:VEVENT
DTSTART:20240509T180000
DTEND:20240509T183500
SUMMARY:[7] Mueller/Stuhlman vs. [10] Dubois/Herdt
DESCRIPTION:PUPC Thursday Spring Low Int. Lg - Paddle Up Pickleball Club
LOCATION:Court 1
CATEGORIES:QuickScores; Pickleball Game
TRANSP:0
DALARM:20240509T160000;PT10M;2;[7] Mueller/Stuhlman vs. [10] Dubois/Herdt
END:VEVENT
BEGIN:VEVENT
DTSTART:20240509T180000
DTEND:20240509T183500
SUMMARY:[8] Painter/Painter vs. [9] Kornfeld/Stamper
DESCRIPTION:PUPC Thursday Spring Low Int. Lg - Paddle Up Pickleball Club
LOCATION:Court 2
CATEGORIES:QuickScores; Pickleball Game
TRANSP:0
DALARM:20240509T160000;PT10M;2;[8] Painter/Painter vs. [9] Kornfeld/Stamper
END:VEVENT
BEGIN:VEVENT
DTSTART:20240509T183500
DTEND:20240509T191000
SUMMARY:[1] Fears/Fay vs. Winner of Game 1
DESCRIPTION:PUPC Thursday Spring Low Int. Lg - Paddle Up Pickleball Club
LOCATION:Court 6
CATEGORIES:QuickScores; Pickleball Game
TRANSP:0
DALARM:20240509T163500;PT10M;2;[1] Fears/Fay vs. Winner of Game 1
END:VEVENT
BEGIN:VEVENT
DTSTART:20240509T183500
DTEND:20240509T191000
SUMMARY:[3] Penberthy/Penberthy vs. Winner of Game 3
DESCRIPTION:PUPC Thursday Spring Low Int. Lg - Paddle Up Pickleball Club
LOCATION:Court 4
CATEGORIES:QuickScores; Pickleball Game
TRANSP:0
DALARM:20240509T163500;PT10M;2;[3] Penberthy/Penberthy vs. Winner of Game 3
END:VEVENT
BEGIN:VEVENT
DTSTART:20240509T191000
DTEND:20240509T194500
SUMMARY:[2] Rivolta/Nabholz vs. Winner of Game 2
DESCRIPTION:PUPC Thursday Spring Low Int. Lg - Paddle Up Pickleball Club
LOCATION:Court 4
CATEGORIES:QuickScores; Pickleball Game
TRANSP:0
DALARM:20240509T171000;PT10M;2;[2] Rivolta/Nabholz vs. Winner of Game 2
END:VEVENT
BEGIN:VEVENT
DTSTART:20240509T191000
DTEND:20240509T194500
SUMMARY:Winner of Game 5 vs. Winner of Game 4
DESCRIPTION:PUPC Thursday Spring Low Int. Lg - Paddle Up Pickleball Club
LOCATION:Court 6
CATEGORIES:QuickScores; Pickleball Game
TRANSP:0
DALARM:20240509T171000;PT10M;2;Winner of Game 5 vs. Winner of Game 4
END:VEVENT
BEGIN:VEVENT
DTSTART:20240509T194500
DTEND:20240509T202000
SUMMARY:Winner of Game 6 vs. Winner of Game 7
DESCRIPTION:PUPC Thursday Spring Low Int. Lg - Paddle Up Pickleball Club
LOCATION:Court 4
CATEGORIES:QuickScores; Pickleball Game
TRANSP:0
DALARM:20240509T174500;PT10M;2;Winner of Game 6 vs. Winner of Game 7
END:VEVENT
BEGIN:VEVENT
DTSTART:20240509T202000
DTEND:20240509T205500
SUMMARY:Winner of Game 8 vs. Winner of Game 9
DESCRIPTION:PUPC Thursday Spring Low Int. Lg - Paddle Up Pickleball Club
LOCATION:Court 4
CATEGORIES:QuickScores; Pickleball Game
TRANSP:0
DALARM:20240509T182000;PT10M;2;Winner of Game 8 vs. Winner of Game 9
END:VEVENT
END:VCALENDAR
