BEGIN:VCALENDAR
VERSION:1.0
BEGIN:VEVENT
DTSTART:20240413T100000
DTEND:20240413T113000
SUMMARY:Myrtle Beach Impact vs. Sun City 60’s
DESCRIPTION:Men 60 AA - International Senior Softball Association<br>ISSA
LOCATION:GP 4
CATEGORIES:QuickScores; Softball Game
TRANSP:0
DALARM:20240413T080000;PT10M;2;Myrtle Beach Impact vs. Sun City 60’s
END:VEVENT
BEGIN:VEVENT
DTSTART:20240413T143000
DTEND:20240413T160000
SUMMARY:Myrtle Beach Impact vs. Sun City 60’s
DESCRIPTION:Men 60 AA - International Senior Softball Association<br>ISSA
LOCATION:GP 5
CATEGORIES:QuickScores; Softball Game
TRANSP:0
DALARM:20240413T123000;PT10M;2;Myrtle Beach Impact vs. Sun City 60’s
END:VEVENT
END:VCALENDAR
