BEGIN:VCALENDAR
VERSION:1.0
BEGIN:VEVENT
DTSTART:20240413T113000
DTEND:20240413T130000
SUMMARY:Motown Magic vs. Gems - Next Level
DESCRIPTION:Women 55 AAA/60 Major - International Senior Softball Association<br>ISSA
LOCATION:GP 1
CATEGORIES:QuickScores; Softball Game
TRANSP:0
DALARM:20240413T093000;PT10M;2;Motown Magic vs. Gems - Next Level
END:VEVENT
BEGIN:VEVENT
DTSTART:20240413T130000
DTEND:20240413T143000
SUMMARY:Gems - Next Level vs. Motown Magic
DESCRIPTION:Women 55 AAA/60 Major - International Senior Softball Association<br>ISSA
LOCATION:GP 1
CATEGORIES:QuickScores; Softball Game
TRANSP:0
DALARM:20240413T110000;PT10M;2;Gems - Next Level vs. Motown Magic
END:VEVENT
END:VCALENDAR
