BEGIN:VCALENDAR
VERSION:1.0
BEGIN:VEVENT
DTSTART:20240621T090000
DTEND:20240621T103000
SUMMARY:CPOA 60 AAA vs. Steele City A's 60 AAA
DESCRIPTION:60 AA/AAA - <BR> <b> The Buckeye Classic
LOCATION:Field 3
CATEGORIES:QuickScores; Softball - Adult Game
TRANSP:0
DALARM:20240621T070000;PT10M;2;CPOA 60 AAA vs. Steele City A's 60 AAA
END:VEVENT
BEGIN:VEVENT
DTSTART:20240621T090000
DTEND:20240621T103000
SUMMARY:Detriot Connection 60 AAA vs. Pelley Styx 60 AA Champions
DESCRIPTION:60 AA/AAA - <BR> <b> The Buckeye Classic
LOCATION:Field 2
CATEGORIES:QuickScores; Softball - Adult Game
TRANSP:0
DALARM:20240621T070000;PT10M;2;Detriot Connection 60 AAA vs. Pelley Styx 60 AA Champions
END:VEVENT
BEGIN:VEVENT
DTSTART:20240621T090000
DTEND:20240621T103000
SUMMARY:Hard Knox 60 AAA vs. Avalanche 60 AAA
DESCRIPTION:60 AA/AAA - <BR> <b> The Buckeye Classic
LOCATION:Field 1
CATEGORIES:QuickScores; Softball - Adult Game
TRANSP:0
DALARM:20240621T070000;PT10M;2;Hard Knox 60 AAA vs. Avalanche 60 AAA
END:VEVENT
BEGIN:VEVENT
DTSTART:20240621T090000
DTEND:20240621T103000
SUMMARY:Michigan Wizards 60 AAA vs. Bomani TTK 60 AAA
DESCRIPTION:60 AA/AAA - <BR> <b> The Buckeye Classic
LOCATION:Field 4
CATEGORIES:QuickScores; Softball - Adult Game
TRANSP:0
DALARM:20240621T070000;PT10M;2;Michigan Wizards 60 AAA vs. Bomani TTK 60 AAA
END:VEVENT
BEGIN:VEVENT
DTSTART:20240621T103000
DTEND:20240621T120000
SUMMARY:Buckeye Classics 60 AAA vs. Bomani Fleming 60 AAA
DESCRIPTION:60 AA/AAA - <BR> <b> The Buckeye Classic
LOCATION:Field 2
CATEGORIES:QuickScores; Softball - Adult Game
TRANSP:0
DALARM:20240621T083000;PT10M;2;Buckeye Classics 60 AAA vs. Bomani Fleming 60 AAA
END:VEVENT
BEGIN:VEVENT
DTSTART:20240621T103000
DTEND:20240621T120000
SUMMARY:Jackson Merchants 60 AAA vs. SFS 60 AAA
DESCRIPTION:60 AA/AAA - <BR> <b> The Buckeye Classic
LOCATION:Field 4
CATEGORIES:QuickScores; Softball - Adult Game
TRANSP:0
DALARM:20240621T083000;PT10M;2;Jackson Merchants 60 AAA vs. SFS 60 AAA
END:VEVENT
BEGIN:VEVENT
DTSTART:20240621T103000
DTEND:20240621T120000
SUMMARY:Steele City A's 60 AAA vs. Michigan Wizards 60 AAA
DESCRIPTION:60 AA/AAA - <BR> <b> The Buckeye Classic
LOCATION:Field 1
CATEGORIES:QuickScores; Softball - Adult Game
TRANSP:0
DALARM:20240621T083000;PT10M;2;Steele City A's 60 AAA vs. Michigan Wizards 60 AAA
END:VEVENT
BEGIN:VEVENT
DTSTART:20240621T103000
DTEND:20240621T120000
SUMMARY:Bomani TTK 60 AAA vs. CPOA 60 AAA
DESCRIPTION:60 AA/AAA - <BR> <b> The Buckeye Classic
LOCATION:Field 3
CATEGORIES:QuickScores; Softball - Adult Game
TRANSP:0
DALARM:20240621T083000;PT10M;2;Bomani TTK 60 AAA vs. CPOA 60 AAA
END:VEVENT
BEGIN:VEVENT
DTSTART:20240621T120000
DTEND:20240621T133000
SUMMARY:Avalanche 60 AAA vs. Detriot Connection 60 AAA
DESCRIPTION:60 AA/AAA - <BR> <b> The Buckeye Classic
LOCATION:Field 2
CATEGORIES:QuickScores; Softball - Adult Game
TRANSP:0
DALARM:20240621T100000;PT10M;2;Avalanche 60 AAA vs. Detriot Connection 60 AAA
END:VEVENT
BEGIN:VEVENT
DTSTART:20240621T120000
DTEND:20240621T133000
SUMMARY:SFS 60 AAA vs. Buckeye Classics 60 AAA
DESCRIPTION:60 AA/AAA - <BR> <b> The Buckeye Classic
LOCATION:Field 4
CATEGORIES:QuickScores; Softball - Adult Game
TRANSP:0
DALARM:20240621T100000;PT10M;2;SFS 60 AAA vs. Buckeye Classics 60 AAA
END:VEVENT
BEGIN:VEVENT
DTSTART:20240621T120000
DTEND:20240621T133000
SUMMARY:Bomani Fleming 60 AAA vs. Jackson Merchants 60 AAA
DESCRIPTION:60 AA/AAA - <BR> <b> The Buckeye Classic
LOCATION:Field 3
CATEGORIES:QuickScores; Softball - Adult Game
TRANSP:0
DALARM:20240621T100000;PT10M;2;Bomani Fleming 60 AAA vs. Jackson Merchants 60 AAA
END:VEVENT
BEGIN:VEVENT
DTSTART:20240621T120000
DTEND:20240621T133000
SUMMARY:Pelley Styx 60 AA Champions vs. Hard Knox 60 AAA
DESCRIPTION:60 AA/AAA - <BR> <b> The Buckeye Classic
LOCATION:Field 1
CATEGORIES:QuickScores; Softball - Adult Game
TRANSP:0
DALARM:20240621T100000;PT10M;2;Pelley Styx 60 AA Champions vs. Hard Knox 60 AAA
END:VEVENT
BEGIN:VEVENT
DTSTART:20240621T133000
DTEND:20240621T150000
SUMMARY:[B3] Buckeye Classics 60 AAA vs. [C3] Steele City A's 60 AAA
DESCRIPTION:60 AA/AAA - <BR> <b> The Buckeye Classic
LOCATION:Field 1
CATEGORIES:QuickScores; Softball - Adult Game
TRANSP:0
DALARM:20240621T113000;PT10M;2;[B3] Buckeye Classics 60 AAA vs. [C3] Steele City A's 60 AAA
END:VEVENT
BEGIN:VEVENT
DTSTART:20240621T133000
DTEND:20240621T150000
SUMMARY:[B2] SFS 60 AAA vs. [A4] Hard Knox 60 AAA
DESCRIPTION:60 AA/AAA - <BR> <b> The Buckeye Classic
LOCATION:Field 2
CATEGORIES:QuickScores; Softball - Adult Game
TRANSP:0
DALARM:20240621T113000;PT10M;2;[B2] SFS 60 AAA vs. [A4] Hard Knox 60 AAA
END:VEVENT
BEGIN:VEVENT
DTSTART:20240621T133000
DTEND:20240621T150000
SUMMARY:[A3] Detriot Connection 60 AAA vs. [C4] Michigan Wizards 60 AAA
DESCRIPTION:60 AA/AAA - <BR> <b> The Buckeye Classic
LOCATION:Field 3
CATEGORIES:QuickScores; Softball - Adult Game
TRANSP:0
DALARM:20240621T113000;PT10M;2;[A3] Detriot Connection 60 AAA vs. [C4] Michigan Wizards 60 AAA
END:VEVENT
BEGIN:VEVENT
DTSTART:20240621T133000
DTEND:20240621T150000
SUMMARY:[A2] Avalanche 60 AAA vs. [B4] Jackson Merchants 60 AAA
DESCRIPTION:60 AA/AAA - <BR> <b> The Buckeye Classic
LOCATION:Field 4
CATEGORIES:QuickScores; Softball - Adult Game
TRANSP:0
DALARM:20240621T113000;PT10M;2;[A2] Avalanche 60 AAA vs. [B4] Jackson Merchants 60 AAA
END:VEVENT
BEGIN:VEVENT
DTSTART:20240621T150000
DTEND:20240621T163000
SUMMARY:[C1] CPOA 60 AAA vs. [A2] Avalanche 60 AAA
DESCRIPTION:60 AA/AAA - <BR> <b> The Buckeye Classic
LOCATION:Field 4
CATEGORIES:QuickScores; Softball - Adult Game
TRANSP:0
DALARM:20240621T130000;PT10M;2;[C1] CPOA 60 AAA vs. [A2] Avalanche 60 AAA
END:VEVENT
BEGIN:VEVENT
DTSTART:20240621T150000
DTEND:20240621T163000
SUMMARY:[B1] Bomani Fleming 60 AAA vs. [C4] Michigan Wizards 60 AAA
DESCRIPTION:60 AA/AAA - <BR> <b> The Buckeye Classic
LOCATION:Field 3
CATEGORIES:QuickScores; Softball - Adult Game
TRANSP:0
DALARM:20240621T130000;PT10M;2;[B1] Bomani Fleming 60 AAA vs. [C4] Michigan Wizards 60 AAA
END:VEVENT
BEGIN:VEVENT
DTSTART:20240621T150000
DTEND:20240621T163000
SUMMARY:[C2] Bomani TTK 60 AAA vs. [B2] SFS 60 AAA
DESCRIPTION:60 AA/AAA - <BR> <b> The Buckeye Classic
LOCATION:Field 2
CATEGORIES:QuickScores; Softball - Adult Game
TRANSP:0
DALARM:20240621T130000;PT10M;2;[C2] Bomani TTK 60 AAA vs. [B2] SFS 60 AAA
END:VEVENT
BEGIN:VEVENT
DTSTART:20240621T150000
DTEND:20240621T163000
SUMMARY:[A1] Pelley Styx 60 AA vs. [C3] Steele City A's 60 AAA
DESCRIPTION:60 AA/AAA - <BR> <b> The Buckeye Classic
LOCATION:Field 1
CATEGORIES:QuickScores; Softball - Adult Game
TRANSP:0
DALARM:20240621T130000;PT10M;2;[A1] Pelley Styx 60 AA vs. [C3] Steele City A's 60 AAA
END:VEVENT
BEGIN:VEVENT
DTSTART:20240621T163000
DTEND:20240621T180000
SUMMARY:[C1] CPOA 60 AAA vs. [B3] Buckeye Classics 60 AAA
DESCRIPTION:60 AA/AAA - <BR> <b> The Buckeye Classic
LOCATION:Field 1
CATEGORIES:QuickScores; Softball - Adult Game
TRANSP:0
DALARM:20240621T143000;PT10M;2;[C1] CPOA 60 AAA vs. [B3] Buckeye Classics 60 AAA
END:VEVENT
BEGIN:VEVENT
DTSTART:20240621T163000
DTEND:20240621T180000
SUMMARY:[B1] Bomani Fleming 60 AAA vs. [A4] Hard Knox 60 AAA
DESCRIPTION:60 AA/AAA - <BR> <b> The Buckeye Classic
LOCATION:Field 2
CATEGORIES:QuickScores; Softball - Adult Game
TRANSP:0
DALARM:20240621T143000;PT10M;2;[B1] Bomani Fleming 60 AAA vs. [A4] Hard Knox 60 AAA
END:VEVENT
BEGIN:VEVENT
DTSTART:20240621T163000
DTEND:20240621T180000
SUMMARY:[C2] Bomani TTK 60 AAA vs. [A3] Detriot Connection 60 AAA
DESCRIPTION:60 AA/AAA - <BR> <b> The Buckeye Classic
LOCATION:Field 3
CATEGORIES:QuickScores; Softball - Adult Game
TRANSP:0
DALARM:20240621T143000;PT10M;2;[C2] Bomani TTK 60 AAA vs. [A3] Detriot Connection 60 AAA
END:VEVENT
BEGIN:VEVENT
DTSTART:20240621T163000
DTEND:20240621T180000
SUMMARY:[A1] Pelley Styx 60 AA vs. [B4] Jackson Merchants 60 AAA
DESCRIPTION:60 AA/AAA - <BR> <b> The Buckeye Classic
LOCATION:Field 4
CATEGORIES:QuickScores; Softball - Adult Game
TRANSP:0
DALARM:20240621T143000;PT10M;2;[A1] Pelley Styx 60 AA vs. [B4] Jackson Merchants 60 AAA
END:VEVENT
BEGIN:VEVENT
DTSTART:20240622T090000
DTEND:20240622T103000
SUMMARY:[C2] Bomani TTK 60 AAA vs. [B4] Jackson Merchants 60 AAA
DESCRIPTION:60 AA/AAA - <BR> <b> The Buckeye Classic
LOCATION:Field 4
CATEGORIES:QuickScores; Softball - Adult Game
TRANSP:0
DALARM:20240622T070000;PT10M;2;[C2] Bomani TTK 60 AAA vs. [B4] Jackson Merchants 60 AAA
END:VEVENT
BEGIN:VEVENT
DTSTART:20240622T090000
DTEND:20240622T103000
SUMMARY:[C1] CPOA 60 AAA vs. [A4] Hard Knox 60 AAA
DESCRIPTION:60 AA/AAA - <BR> <b> The Buckeye Classic
LOCATION:Field 3
CATEGORIES:QuickScores; Softball - Adult Game
TRANSP:0
DALARM:20240622T070000;PT10M;2;[C1] CPOA 60 AAA vs. [A4] Hard Knox 60 AAA
END:VEVENT
BEGIN:VEVENT
DTSTART:20240622T090000
DTEND:20240622T103000
SUMMARY:[C4] Michigan Wizards 60 AAA vs. [A2] Avalanche 60 AAA
DESCRIPTION:60 AA/AAA - <BR> <b> The Buckeye Classic
LOCATION:Field 2
CATEGORIES:QuickScores; Softball - Adult Game
TRANSP:0
DALARM:20240622T070000;PT10M;2;[C4] Michigan Wizards 60 AAA vs. [A2] Avalanche 60 AAA
END:VEVENT
BEGIN:VEVENT
DTSTART:20240622T090000
DTEND:20240622T103000
SUMMARY:[C3] Steele City A's 60 AAA vs. [B2] SFS 60 AAA
DESCRIPTION:60 AA/AAA - <BR> <b> The Buckeye Classic
LOCATION:Field 1
CATEGORIES:QuickScores; Softball - Adult Game
TRANSP:0
DALARM:20240622T070000;PT10M;2;[C3] Steele City A's 60 AAA vs. [B2] SFS 60 AAA
END:VEVENT
BEGIN:VEVENT
DTSTART:20240622T103000
DTEND:20240622T120000
SUMMARY:[C3] Steele City A's 60 AAA vs. [C1] CPOA 60 AAA
DESCRIPTION:60 AA/AAA - <BR> <b> The Buckeye Classic
LOCATION:Field 4
CATEGORIES:QuickScores; Softball - Adult Game
TRANSP:0
DALARM:20240622T083000;PT10M;2;[C3] Steele City A's 60 AAA vs. [C1] CPOA 60 AAA
END:VEVENT
BEGIN:VEVENT
DTSTART:20240622T103000
DTEND:20240622T120000
SUMMARY:[A2] Avalanche 60 AAA vs. [C2] Bomani TTK 60 AAA
DESCRIPTION:60 AA/AAA - <BR> <b> The Buckeye Classic
LOCATION:Field 3
CATEGORIES:QuickScores; Softball - Adult Game
TRANSP:0
DALARM:20240622T083000;PT10M;2;[A2] Avalanche 60 AAA vs. [C2] Bomani TTK 60 AAA
END:VEVENT
BEGIN:VEVENT
DTSTART:20240622T103000
DTEND:20240622T120000
SUMMARY:[B2] SFS 60 AAA vs. [C4] Michigan Wizards 60 AAA
DESCRIPTION:60 AA/AAA - <BR> <b> The Buckeye Classic
LOCATION:Field 2
CATEGORIES:QuickScores; Softball - Adult Game
TRANSP:0
DALARM:20240622T083000;PT10M;2;[B2] SFS 60 AAA vs. [C4] Michigan Wizards 60 AAA
END:VEVENT
BEGIN:VEVENT
DTSTART:20240622T120000
DTEND:20240622T133000
SUMMARY:[C3] Steele City A's 60 AAA vs. [A2] Avalanche 60 AAA
DESCRIPTION:60 AA/AAA - <BR> <b> The Buckeye Classic
LOCATION:Field 3
CATEGORIES:QuickScores; Softball - Adult Game
TRANSP:0
DALARM:20240622T100000;PT10M;2;[C3] Steele City A's 60 AAA vs. [A2] Avalanche 60 AAA
END:VEVENT
BEGIN:VEVENT
DTSTART:20240622T133000
DTEND:20240622T150000
SUMMARY:[C4] Michigan Wizards 60 AAA vs. [A2] Avalanche 60 AAA
DESCRIPTION:60 AA/AAA - <BR> <b> The Buckeye Classic
LOCATION:Field 3
CATEGORIES:QuickScores; Softball - Adult Game
TRANSP:0
DALARM:20240622T113000;PT10M;2;[C4] Michigan Wizards 60 AAA vs. [A2] Avalanche 60 AAA
END:VEVENT
BEGIN:VEVENT
DTSTART:20240622T150000
DTEND:20240622T163000
SUMMARY:[B2] SFS 60 AAA vs. [C4] Michigan Wizards 60 AAA
DESCRIPTION:60 AA/AAA - <BR> <b> The Buckeye Classic
LOCATION:Field 3
CATEGORIES:QuickScores; Softball - Adult Game
TRANSP:0
DALARM:20240622T130000;PT10M;2;[B2] SFS 60 AAA vs. [C4] Michigan Wizards 60 AAA
END:VEVENT
BEGIN:VEVENT
DTSTART:20240622T163000
DTEND:20240622T180000
SUMMARY:[C4] Michigan Wizards 60 AAA vs. [B2] SFS 60 AAA
DESCRIPTION:60 AA/AAA - <BR> <b> The Buckeye Classic
LOCATION:Field 3
CATEGORIES:QuickScores; Softball - Adult Game
TRANSP:0
DALARM:20240622T143000;PT10M;2;[C4] Michigan Wizards 60 AAA vs. [B2] SFS 60 AAA
END:VEVENT
END:VCALENDAR
