BEGIN:VCALENDAR
VERSION:1.0
BEGIN:VEVENT
DTSTART:20240310T080000
DTEND:20240310T103000
SUMMARY:Toluca Thunder 10U vs. PFA WAVES2 11U
DESCRIPTION:11U - Top Prospect Athletics
LOCATION:EFF 6
CATEGORIES:QuickScores; Baseball Game
TRANSP:0
DALARM:20240310T070000;PT10M;2;Toluca Thunder 10U vs. PFA WAVES2 11U
END:VEVENT
BEGIN:VEVENT
DTSTART:20240310T100000
DTEND:20240310T123000
SUMMARY:365 Gold vs. Toluca Thunder 10U
DESCRIPTION:11U - Top Prospect Athletics
LOCATION:EFF 6
CATEGORIES:QuickScores; Baseball Game
TRANSP:0
DALARM:20240310T090000;PT10M;2;365 Gold vs. Toluca Thunder 10U
END:VEVENT
BEGIN:VEVENT
DTSTART:20240310T100000
DTEND:20240310T123000
SUMMARY:Wilshire Warriors 11U vs. MVP Hustle LUNA
DESCRIPTION:11U - Top Prospect Athletics
LOCATION:Las palmas
CATEGORIES:QuickScores; Baseball Game
TRANSP:0
DALARM:20240310T090000;PT10M;2;Wilshire Warriors 11U vs. MVP Hustle LUNA
END:VEVENT
BEGIN:VEVENT
DTSTART:20240310T120000
DTEND:20240310T143000
SUMMARY:AV Bombers vs. 365 Gold
DESCRIPTION:11U - Top Prospect Athletics
LOCATION:EFF 6
CATEGORIES:QuickScores; Baseball Game
TRANSP:0
DALARM:20240310T110000;PT10M;2;AV Bombers vs. 365 Gold
END:VEVENT
BEGIN:VEVENT
DTSTART:20240310T120000
DTEND:20240310T143000
SUMMARY:PFA WAVES 11U vs. Wilshire Warriors 11U
DESCRIPTION:11U - Top Prospect Athletics
LOCATION:Las palmas
CATEGORIES:QuickScores; Baseball Game
TRANSP:0
DALARM:20240310T110000;PT10M;2;PFA WAVES 11U vs. Wilshire Warriors 11U
END:VEVENT
BEGIN:VEVENT
DTSTART:20240310T140000
DTEND:20240310T163000
SUMMARY:MVP Hustle LUNA vs. EKB Knights 11U
DESCRIPTION:11U - Top Prospect Athletics
LOCATION:Las palmas
CATEGORIES:QuickScores; Baseball Game
TRANSP:0
DALARM:20240310T130000;PT10M;2;MVP Hustle LUNA vs. EKB Knights 11U
END:VEVENT
BEGIN:VEVENT
DTSTART:20240310T160000
DTEND:20240310T183000
SUMMARY:EKB Knights 11U vs. PFA WAVES 11U
DESCRIPTION:11U - Top Prospect Athletics
LOCATION:Las palmas
CATEGORIES:QuickScores; Baseball Game
TRANSP:0
DALARM:20240310T150000;PT10M;2;EKB Knights 11U vs. PFA WAVES 11U
END:VEVENT
BEGIN:VEVENT
DTSTART:20240317T080000
DTEND:20240317T093000
SUMMARY:MVP Hustle LUNA vs. 365 Prospects
DESCRIPTION:11U - Top Prospect Athletics
LOCATION:EFF 6
CATEGORIES:QuickScores; Baseball Game
TRANSP:0
DALARM:20240317T060000;PT10M;2;MVP Hustle LUNA vs. 365 Prospects
END:VEVENT
BEGIN:VEVENT
DTSTART:20240317T080000
DTEND:20240317T093000
SUMMARY:Top-Level Select vs. The Bolts 11U
DESCRIPTION:11U - Top Prospect Athletics
LOCATION:SIBL #3
CATEGORIES:QuickScores; Baseball Game
TRANSP:0
DALARM:20240317T060000;PT10M;2;Top-Level Select vs. The Bolts 11U
END:VEVENT
BEGIN:VEVENT
DTSTART:20240317T100000
DTEND:20240317T113000
SUMMARY:MVP Hustle LUNA vs. PFA WAVES 11U
DESCRIPTION:11U - Top Prospect Athletics
LOCATION:EFF 6
CATEGORIES:QuickScores; Baseball Game
TRANSP:0
DALARM:20240317T080000;PT10M;2;MVP Hustle LUNA vs. PFA WAVES 11U
END:VEVENT
BEGIN:VEVENT
DTSTART:20240317T100000
DTEND:20240317T113000
SUMMARY:Top-Level Select vs. Wilshire Warriors 11U
DESCRIPTION:11U - Top Prospect Athletics
LOCATION:SIBL #3
CATEGORIES:QuickScores; Baseball Game
TRANSP:0
DALARM:20240317T080000;PT10M;2;Top-Level Select vs. Wilshire Warriors 11U
END:VEVENT
BEGIN:VEVENT
DTSTART:20240317T120000
DTEND:20240317T133000
SUMMARY:365 Prospects vs. Toluca Thunder 10U
DESCRIPTION:11U - Top Prospect Athletics
LOCATION:EFF 6
CATEGORIES:QuickScores; Baseball Game
TRANSP:0
DALARM:20240317T100000;PT10M;2;365 Prospects vs. Toluca Thunder 10U
END:VEVENT
BEGIN:VEVENT
DTSTART:20240317T120000
DTEND:20240317T133000
SUMMARY:The Bolts 11U vs. Moorpark Baseball 11u
DESCRIPTION:11U - Top Prospect Athletics
LOCATION:SIBL #3
CATEGORIES:QuickScores; Baseball Game
TRANSP:0
DALARM:20240317T100000;PT10M;2;The Bolts 11U vs. Moorpark Baseball 11u
END:VEVENT
BEGIN:VEVENT
DTSTART:20240317T140000
DTEND:20240317T153000
SUMMARY:Toluca Thunder 10U vs. PFA WAVES 11U
DESCRIPTION:11U - Top Prospect Athletics
LOCATION:EFF 6
CATEGORIES:QuickScores; Baseball Game
TRANSP:0
DALARM:20240317T120000;PT10M;2;Toluca Thunder 10U vs. PFA WAVES 11U
END:VEVENT
BEGIN:VEVENT
DTSTART:20240317T140000
DTEND:20240317T153000
SUMMARY:Moorpark Baseball 11u vs. South Pasadena Baseball 11U
DESCRIPTION:11U - Top Prospect Athletics
LOCATION:SIBL #3
CATEGORIES:QuickScores; Baseball Game
TRANSP:0
DALARM:20240317T120000;PT10M;2;Moorpark Baseball 11u vs. South Pasadena Baseball 11U
END:VEVENT
BEGIN:VEVENT
DTSTART:20240324T090000
DTEND:20240324T103000
SUMMARY:Aviators vs. EKB Knights 11U
DESCRIPTION:11U - Top Prospect Athletics
LOCATION:EFF 6
CATEGORIES:QuickScores; Baseball Game
TRANSP:0
DALARM:20240324T070000;PT10M;2;Aviators vs. EKB Knights 11U
END:VEVENT
BEGIN:VEVENT
DTSTART:20240324T110000
DTEND:20240324T123000
SUMMARY:Aviators vs. 365 Gold
DESCRIPTION:11U - Top Prospect Athletics
LOCATION:EFF 6
CATEGORIES:QuickScores; Baseball Game
TRANSP:0
DALARM:20240324T090000;PT10M;2;Aviators vs. 365 Gold
END:VEVENT
BEGIN:VEVENT
DTSTART:20240324T130000
DTEND:20240324T143000
SUMMARY:EKB Knights 11U vs. PFA WAVES2 11U
DESCRIPTION:11U - Top Prospect Athletics
LOCATION:EFF 6
CATEGORIES:QuickScores; Baseball Game
TRANSP:0
DALARM:20240324T110000;PT10M;2;EKB Knights 11U vs. PFA WAVES2 11U
END:VEVENT
BEGIN:VEVENT
DTSTART:20240324T150000
DTEND:20240324T163000
SUMMARY:PFA WAVES2 11U vs. 365 Gold
DESCRIPTION:11U - Top Prospect Athletics
LOCATION:EFF 6
CATEGORIES:QuickScores; Baseball Game
TRANSP:0
DALARM:20240324T130000;PT10M;2;PFA WAVES2 11U vs. 365 Gold
END:VEVENT
BEGIN:VEVENT
DTSTART:20240407T080000
DTEND:20240407T093000
SUMMARY:Top-Level Select vs. The Bolts 10U
DESCRIPTION:11U - Top Prospect Athletics
LOCATION:EFF 6
CATEGORIES:QuickScores; Baseball Game
TRANSP:0
DALARM:20240407T060000;PT10M;2;Top-Level Select vs. The Bolts 10U
END:VEVENT
BEGIN:VEVENT
DTSTART:20240407T100000
DTEND:20240407T113000
SUMMARY:Top-Level Select vs. The Bolts 11U
DESCRIPTION:11U - Top Prospect Athletics
LOCATION:EFF 6
CATEGORIES:QuickScores; Baseball Game
TRANSP:0
DALARM:20240407T080000;PT10M;2;Top-Level Select vs. The Bolts 11U
END:VEVENT
BEGIN:VEVENT
DTSTART:20240407T100000
DTEND:20240407T113000
SUMMARY:365 Gold vs. Aviators
DESCRIPTION:11U - Top Prospect Athletics
LOCATION:SIBL #5
CATEGORIES:QuickScores; Baseball Game
TRANSP:0
DALARM:20240407T080000;PT10M;2;365 Gold vs. Aviators
END:VEVENT
BEGIN:VEVENT
DTSTART:20240407T120000
DTEND:20240407T133000
SUMMARY:Aviators vs. 365 Gold
DESCRIPTION:11U - Top Prospect Athletics
LOCATION:SIBL #5
CATEGORIES:QuickScores; Baseball Game
TRANSP:0
DALARM:20240407T100000;PT10M;2;Aviators vs. 365 Gold
END:VEVENT
BEGIN:VEVENT
DTSTART:20240407T120000
DTEND:20240407T133000
SUMMARY:The Bolts 10U vs. EKB Knights 11U
DESCRIPTION:11U - Top Prospect Athletics
LOCATION:EFF 6
CATEGORIES:QuickScores; Baseball Game
TRANSP:0
DALARM:20240407T100000;PT10M;2;The Bolts 10U vs. EKB Knights 11U
END:VEVENT
BEGIN:VEVENT
DTSTART:20240407T140000
DTEND:20240407T153000
SUMMARY:The Bolts 11U vs. EKB Knights 11U
DESCRIPTION:11U - Top Prospect Athletics
LOCATION:EFF 6
CATEGORIES:QuickScores; Baseball Game
TRANSP:0
DALARM:20240407T120000;PT10M;2;The Bolts 11U vs. EKB Knights 11U
END:VEVENT
BEGIN:VEVENT
DTSTART:20240421T100000
DTEND:20240421T113000
SUMMARY:EKB Knights 11U vs. Carbonados
DESCRIPTION:11U - Top Prospect Athletics
LOCATION:EFF 6
CATEGORIES:QuickScores; Baseball Game
TRANSP:0
DALARM:20240421T080000;PT10M;2;EKB Knights 11U vs. Carbonados
END:VEVENT
BEGIN:VEVENT
DTSTART:20240421T120000
DTEND:20240421T133000
SUMMARY:EKB Knights 11U vs. Toluca Thunder 11U
DESCRIPTION:11U - Top Prospect Athletics
LOCATION:EFF 6
CATEGORIES:QuickScores; Baseball Game
TRANSP:0
DALARM:20240421T100000;PT10M;2;EKB Knights 11U vs. Toluca Thunder 11U
END:VEVENT
BEGIN:VEVENT
DTSTART:20240421T140000
DTEND:20240421T153000
SUMMARY:Carbonados vs. 365 Gold
DESCRIPTION:11U - Top Prospect Athletics
LOCATION:EFF 6
CATEGORIES:QuickScores; Baseball Game
TRANSP:0
DALARM:20240421T120000;PT10M;2;Carbonados vs. 365 Gold
END:VEVENT
BEGIN:VEVENT
DTSTART:20240421T140000
DTEND:20240421T153000
SUMMARY:Toluca Thunder 10U vs. AV Bombers
DESCRIPTION:11U - Top Prospect Athletics
LOCATION:EFF 4
CATEGORIES:QuickScores; Baseball Game
TRANSP:0
DALARM:20240421T120000;PT10M;2;Toluca Thunder 10U vs. AV Bombers
END:VEVENT
BEGIN:VEVENT
DTSTART:20240421T160000
DTEND:20240421T173000
SUMMARY:365 Gold vs. AV Bombers
DESCRIPTION:11U - Top Prospect Athletics
LOCATION:EFF 6
CATEGORIES:QuickScores; Baseball Game
TRANSP:0
DALARM:20240421T140000;PT10M;2;365 Gold vs. AV Bombers
END:VEVENT
BEGIN:VEVENT
DTSTART:20240428T080000
DTEND:20240428T093000
SUMMARY:365 Gold vs. ROCKSTARS
DESCRIPTION:11U - Top Prospect Athletics
LOCATION:EFF 6
CATEGORIES:QuickScores; Baseball Game
TRANSP:0
DALARM:20240428T060000;PT10M;2;365 Gold vs. ROCKSTARS
END:VEVENT
BEGIN:VEVENT
DTSTART:20240428T090000
DTEND:20240428T103000
SUMMARY:Carbonados vs. South Pasadena Baseball 11U
DESCRIPTION:11U - Top Prospect Athletics
LOCATION:SIBL #5
CATEGORIES:QuickScores; Baseball Game
TRANSP:0
DALARM:20240428T070000;PT10M;2;Carbonados vs. South Pasadena Baseball 11U
END:VEVENT
BEGIN:VEVENT
DTSTART:20240428T100000
DTEND:20240428T113000
SUMMARY:365 Gold vs. Top-Level Select
DESCRIPTION:11U - Top Prospect Athletics
LOCATION:EFF 6
CATEGORIES:QuickScores; Baseball Game
TRANSP:0
DALARM:20240428T080000;PT10M;2;365 Gold vs. Top-Level Select
END:VEVENT
BEGIN:VEVENT
DTSTART:20240428T110000
DTEND:20240428T123000
SUMMARY:AV Bombers vs. South Pasadena Baseball 11U
DESCRIPTION:11U - Top Prospect Athletics
LOCATION:SIBL #5
CATEGORIES:QuickScores; Baseball Game
TRANSP:0
DALARM:20240428T090000;PT10M;2;AV Bombers vs. South Pasadena Baseball 11U
END:VEVENT
BEGIN:VEVENT
DTSTART:20240428T120000
DTEND:20240428T133000
SUMMARY:Top-Level Select vs. PFA WAVES2 11U
DESCRIPTION:11U - Top Prospect Athletics
LOCATION:EFF 6
CATEGORIES:QuickScores; Baseball Game
TRANSP:0
DALARM:20240428T100000;PT10M;2;Top-Level Select vs. PFA WAVES2 11U
END:VEVENT
BEGIN:VEVENT
DTSTART:20240428T130000
DTEND:20240428T143000
SUMMARY:Carbonados vs. Aviators
DESCRIPTION:11U - Top Prospect Athletics
LOCATION:SIBL #5
CATEGORIES:QuickScores; Baseball Game
TRANSP:0
DALARM:20240428T110000;PT10M;2;Carbonados vs. Aviators
END:VEVENT
BEGIN:VEVENT
DTSTART:20240428T140000
DTEND:20240428T153000
SUMMARY:Wilshire Warriors 11U vs. Santa  Monica baseball Academy
DESCRIPTION:11U - Top Prospect Athletics
LOCATION:EFF 6
CATEGORIES:QuickScores; Baseball Game
TRANSP:0
DALARM:20240428T120000;PT10M;2;Wilshire Warriors 11U vs. Santa  Monica baseball Academy
END:VEVENT
BEGIN:VEVENT
DTSTART:20240428T150000
DTEND:20240428T163000
SUMMARY:AV Bombers vs. Aviators
DESCRIPTION:11U - Top Prospect Athletics
LOCATION:SIBL #5
CATEGORIES:QuickScores; Baseball Game
TRANSP:0
DALARM:20240428T130000;PT10M;2;AV Bombers vs. Aviators
END:VEVENT
BEGIN:VEVENT
DTSTART:20240428T160000
DTEND:20240428T173000
SUMMARY:PFA WAVES2 11U vs. Wilshire Warriors 11U
DESCRIPTION:11U - Top Prospect Athletics
LOCATION:EFF 6
CATEGORIES:QuickScores; Baseball Game
TRANSP:0
DALARM:20240428T140000;PT10M;2;PFA WAVES2 11U vs. Wilshire Warriors 11U
END:VEVENT
BEGIN:VEVENT
DTSTART:20240505T080000
DTEND:20240505T093000
SUMMARY:PFA WAVES2 11U vs. Top-Level Select
DESCRIPTION:11U - Top Prospect Athletics
LOCATION:EFF 6
CATEGORIES:QuickScores; Baseball Game
TRANSP:0
DALARM:20240505T060000;PT10M;2;PFA WAVES2 11U vs. Top-Level Select
END:VEVENT
BEGIN:VEVENT
DTSTART:20240505T100000
DTEND:20240505T113000
SUMMARY:EKB Knights 11U vs. Aviators
DESCRIPTION:11U - Top Prospect Athletics
LOCATION:SIBL #5
CATEGORIES:QuickScores; Baseball Game
TRANSP:0
DALARM:20240505T080000;PT10M;2;EKB Knights 11U vs. Aviators
END:VEVENT
BEGIN:VEVENT
DTSTART:20240505T100000
DTEND:20240505T113000
SUMMARY:Top-Level Select vs. PFA WAVES2 11U
DESCRIPTION:11U - Top Prospect Athletics
LOCATION:EFF 6
CATEGORIES:QuickScores; Baseball Game
TRANSP:0
DALARM:20240505T080000;PT10M;2;Top-Level Select vs. PFA WAVES2 11U
END:VEVENT
BEGIN:VEVENT
DTSTART:20240505T120000
DTEND:20240505T133000
SUMMARY:365 Gold vs. EKB Knights 11U
DESCRIPTION:11U - Top Prospect Athletics
LOCATION:SIBL #5
CATEGORIES:QuickScores; Baseball Game
TRANSP:0
DALARM:20240505T100000;PT10M;2;365 Gold vs. EKB Knights 11U
END:VEVENT
BEGIN:VEVENT
DTSTART:20240505T140000
DTEND:20240505T153000
SUMMARY:Aviators vs. The Bolts 10U
DESCRIPTION:11U - Top Prospect Athletics
LOCATION:SIBL #5
CATEGORIES:QuickScores; Baseball Game
TRANSP:0
DALARM:20240505T120000;PT10M;2;Aviators vs. The Bolts 10U
END:VEVENT
BEGIN:VEVENT
DTSTART:20240505T143000
DTEND:20240505T160000
SUMMARY:365 Prospects vs. Top Level Elite 11U
DESCRIPTION:11U - Top Prospect Athletics
LOCATION:EFF 6
CATEGORIES:QuickScores; Baseball Game
TRANSP:0
DALARM:20240505T123000;PT10M;2;365 Prospects vs. Top Level Elite 11U
END:VEVENT
BEGIN:VEVENT
DTSTART:20240511T080000
DTEND:20240511T093000
SUMMARY:Braves Gold 11U vs. 365 Prospects
DESCRIPTION:11U - Top Prospect Athletics
LOCATION:BIRMINGHAM HIGH SCHOOL SOFTBALL
CATEGORIES:QuickScores; Baseball Game
TRANSP:0
DALARM:20240511T060000;PT10M;2;Braves Gold 11U vs. 365 Prospects
END:VEVENT
BEGIN:VEVENT
DTSTART:20240511T100000
DTEND:20240511T113000
SUMMARY:Braves Navy 11U vs. 365 Prospects
DESCRIPTION:11U - Top Prospect Athletics
LOCATION:BIRMINGHAM HIGH SCHOOL SOFTBALL
CATEGORIES:QuickScores; Baseball Game
TRANSP:0
DALARM:20240511T080000;PT10M;2;Braves Navy 11U vs. 365 Prospects
END:VEVENT
BEGIN:VEVENT
DTSTART:20240511T120000
DTEND:20240511T133000
SUMMARY:Braves Navy 11U vs. Braves Gold 11U
DESCRIPTION:11U - Top Prospect Athletics
LOCATION:BIRMINGHAM HIGH SCHOOL SOFTBALL
CATEGORIES:QuickScores; Baseball Game
TRANSP:0
DALARM:20240511T100000;PT10M;2;Braves Navy 11U vs. Braves Gold 11U
END:VEVENT
BEGIN:VEVENT
DTSTART:20240511T150000
DTEND:20240511T163000
SUMMARY:ROCKSTARS vs. Santa  Monica baseball Academy
DESCRIPTION:11U - Top Prospect Athletics
LOCATION:EFF 5
CATEGORIES:QuickScores; Baseball Game
TRANSP:0
DALARM:20240511T130000;PT10M;2;ROCKSTARS vs. Santa  Monica baseball Academy
END:VEVENT
BEGIN:VEVENT
DTSTART:20240519T080000
DTEND:20240519T093000
SUMMARY:Aviators vs. Toluca Thunder 10U
DESCRIPTION:11U - Top Prospect Athletics
LOCATION:SIBL #5
CATEGORIES:QuickScores; Baseball Game
TRANSP:0
DALARM:20240519T060000;PT10M;2;Aviators vs. Toluca Thunder 10U
END:VEVENT
BEGIN:VEVENT
DTSTART:20240519T100000
DTEND:20240519T113000
SUMMARY:Toluca Thunder 10U vs. 365 Gold
DESCRIPTION:11U - Top Prospect Athletics
LOCATION:SIBL #5
CATEGORIES:QuickScores; Baseball Game
TRANSP:0
DALARM:20240519T080000;PT10M;2;Toluca Thunder 10U vs. 365 Gold
END:VEVENT
BEGIN:VEVENT
DTSTART:20240519T120000
DTEND:20240519T133000
SUMMARY:Wilshire Warriors 11U vs. South Pasadena Baseball 11U
DESCRIPTION:11U - Top Prospect Athletics
LOCATION:SIBL #5
CATEGORIES:QuickScores; Baseball Game
TRANSP:0
DALARM:20240519T100000;PT10M;2;Wilshire Warriors 11U vs. South Pasadena Baseball 11U
END:VEVENT
BEGIN:VEVENT
DTSTART:20240519T140000
DTEND:20240519T153000
SUMMARY:Wilshire Warriors 11U vs. South Pasadena Baseball 11U
DESCRIPTION:11U - Top Prospect Athletics
LOCATION:SIBL #5
CATEGORIES:QuickScores; Baseball Game
TRANSP:0
DALARM:20240519T120000;PT10M;2;Wilshire Warriors 11U vs. South Pasadena Baseball 11U
END:VEVENT
BEGIN:VEVENT
DTSTART:20240623T100000
DTEND:20240623T113000
SUMMARY:Santa  Monica baseball Academy vs. PFA WAVES 11U
DESCRIPTION:11U - Top Prospect Athletics
LOCATION:EFF 5
CATEGORIES:QuickScores; Baseball Game
TRANSP:0
DALARM:20240623T080000;PT10M;2;Santa  Monica baseball Academy vs. PFA WAVES 11U
END:VEVENT
BEGIN:VEVENT
DTSTART:20240623T120000
DTEND:20240623T133000
SUMMARY:PFA WAVES 11U vs. Santa  Monica baseball Academy
DESCRIPTION:11U - Top Prospect Athletics
LOCATION:EFF 5
CATEGORIES:QuickScores; Baseball Game
TRANSP:0
DALARM:20240623T100000;PT10M;2;PFA WAVES 11U vs. Santa  Monica baseball Academy
END:VEVENT
END:VCALENDAR
