BEGIN:VCALENDAR
VERSION:1.0
BEGIN:VEVENT
DTSTART:20240102T180000
DTEND:20240102T184000
SUMMARY:AngelaLamb/KathyAllen vs. CarrieBlackburn/NicoleRosner
DESCRIPTION:Winter Tuesday Recreational League - Paddle Up Pickleball Club
LOCATION:Court 1
CATEGORIES:QuickScores; Pickleball Game
TRANSP:0
DALARM:20240102T160000;PT10M;2;AngelaLamb/KathyAllen vs. CarrieBlackburn/NicoleRosner
END:VEVENT
BEGIN:VEVENT
DTSTART:20240102T184000
DTEND:20240102T192000
SUMMARY:KimBlumenberg/AngieSchreck vs. CarrieBlackburn/NicoleRosner
DESCRIPTION:Winter Tuesday Recreational League - Paddle Up Pickleball Club
LOCATION:Court 1
CATEGORIES:QuickScores; Pickleball Game
TRANSP:0
DALARM:20240102T164000;PT10M;2;KimBlumenberg/AngieSchreck vs. CarrieBlackburn/NicoleRosner
END:VEVENT
BEGIN:VEVENT
DTSTART:20240102T184000
DTEND:20240102T192000
SUMMARY:AngelaLamb/KathyAllen vs. LoriSchneider/SusanSpence
DESCRIPTION:Winter Tuesday Recreational League - Paddle Up Pickleball Club
LOCATION:Court 2
CATEGORIES:QuickScores; Pickleball Game
TRANSP:0
DALARM:20240102T164000;PT10M;2;AngelaLamb/KathyAllen vs. LoriSchneider/SusanSpence
END:VEVENT
BEGIN:VEVENT
DTSTART:20240102T192000
DTEND:20240102T200000
SUMMARY:KimBlumenberg/AngieSchreck vs. LynneVogt/BoVogt
DESCRIPTION:Winter Tuesday Recreational League - Paddle Up Pickleball Club
LOCATION:Court 1
CATEGORIES:QuickScores; Pickleball Game
TRANSP:0
DALARM:20240102T172000;PT10M;2;KimBlumenberg/AngieSchreck vs. LynneVogt/BoVogt
END:VEVENT
BEGIN:VEVENT
DTSTART:20240102T192000
DTEND:20240102T200000
SUMMARY:LoriSchneider/SusanSpence vs. MichelleFitzgerald/DanFitzgerald
DESCRIPTION:Winter Tuesday Recreational League - Paddle Up Pickleball Club
LOCATION:Court 3
CATEGORIES:QuickScores; Pickleball Game
TRANSP:0
DALARM:20240102T172000;PT10M;2;LoriSchneider/SusanSpence vs. MichelleFitzgerald/DanFitzgerald
END:VEVENT
BEGIN:VEVENT
DTSTART:20240102T200000
DTEND:20240102T204000
SUMMARY:LynneVogt/BoVogt vs. MikeRiebel/TerryHerbert
DESCRIPTION:Winter Tuesday Recreational League - Paddle Up Pickleball Club
LOCATION:Court 1
CATEGORIES:QuickScores; Pickleball Game
TRANSP:0
DALARM:20240102T180000;PT10M;2;LynneVogt/BoVogt vs. MikeRiebel/TerryHerbert
END:VEVENT
BEGIN:VEVENT
DTSTART:20240102T204000
DTEND:20240102T212000
SUMMARY:StacieThomas/KevinThomas vs. MichelleFitzgerald/DanFitzgerald
DESCRIPTION:Winter Tuesday Recreational League - Paddle Up Pickleball Club
LOCATION:Court 2
CATEGORIES:QuickScores; Pickleball Game
TRANSP:0
DALARM:20240102T184000;PT10M;2;StacieThomas/KevinThomas vs. MichelleFitzgerald/DanFitzgerald
END:VEVENT
BEGIN:VEVENT
DTSTART:20240102T204000
DTEND:20240102T212000
SUMMARY:MikeRiebel/TerryHerbert vs. ShannonAdams/ScottAdams
DESCRIPTION:Winter Tuesday Recreational League - Paddle Up Pickleball Club
LOCATION:Court 1
CATEGORIES:QuickScores; Pickleball Game
TRANSP:0
DALARM:20240102T184000;PT10M;2;MikeRiebel/TerryHerbert vs. ShannonAdams/ScottAdams
END:VEVENT
BEGIN:VEVENT
DTSTART:20240102T212000
DTEND:20240102T220000
SUMMARY:StacieThomas/KevinThomas vs. ShannonAdams/ScottAdams
DESCRIPTION:Winter Tuesday Recreational League - Paddle Up Pickleball Club
LOCATION:Court 1
CATEGORIES:QuickScores; Pickleball Game
TRANSP:0
DALARM:20240102T192000;PT10M;2;StacieThomas/KevinThomas vs. ShannonAdams/ScottAdams
END:VEVENT
BEGIN:VEVENT
DTSTART:20240109T180000
DTEND:20240109T184000
SUMMARY:LoriSchneider/SusanSpence vs. ShannonAdams/ScottAdams
DESCRIPTION:Winter Tuesday Recreational League - Paddle Up Pickleball Club
LOCATION:Court 1
CATEGORIES:QuickScores; Pickleball Game
TRANSP:0
DALARM:20240109T160000;PT10M;2;LoriSchneider/SusanSpence vs. ShannonAdams/ScottAdams
END:VEVENT
BEGIN:VEVENT
DTSTART:20240109T184000
DTEND:20240109T192000
SUMMARY:MikeRiebel/TerryHerbert vs. LoriSchneider/SusanSpence
DESCRIPTION:Winter Tuesday Recreational League - Paddle Up Pickleball Club
LOCATION:Court 2
CATEGORIES:QuickScores; Pickleball Game
TRANSP:0
DALARM:20240109T164000;PT10M;2;MikeRiebel/TerryHerbert vs. LoriSchneider/SusanSpence
END:VEVENT
BEGIN:VEVENT
DTSTART:20240109T192000
DTEND:20240109T200000
SUMMARY:ShannonAdams/ScottAdams vs. CarrieBlackburn/NicoleRosner
DESCRIPTION:Winter Tuesday Recreational League - Paddle Up Pickleball Club
LOCATION:Court 1
CATEGORIES:QuickScores; Pickleball Game
TRANSP:0
DALARM:20240109T172000;PT10M;2;ShannonAdams/ScottAdams vs. CarrieBlackburn/NicoleRosner
END:VEVENT
BEGIN:VEVENT
DTSTART:20240109T200000
DTEND:20240109T204000
SUMMARY:AngelaLamb/KathyAllen vs. KellyDuBois/CaraShouse
DESCRIPTION:Winter Tuesday Recreational League - Paddle Up Pickleball Club
LOCATION:Court 2
CATEGORIES:QuickScores; Pickleball Game
TRANSP:0
DALARM:20240109T180000;PT10M;2;AngelaLamb/KathyAllen vs. KellyDuBois/CaraShouse
END:VEVENT
BEGIN:VEVENT
DTSTART:20240109T200000
DTEND:20240109T204000
SUMMARY:StacieThomas/KevinThomas vs. MikeRiebel/TerryHerbert
DESCRIPTION:Winter Tuesday Recreational League - Paddle Up Pickleball Club
LOCATION:Court 1
CATEGORIES:QuickScores; Pickleball Game
TRANSP:0
DALARM:20240109T180000;PT10M;2;StacieThomas/KevinThomas vs. MikeRiebel/TerryHerbert
END:VEVENT
BEGIN:VEVENT
DTSTART:20240109T204000
DTEND:20240109T212000
SUMMARY:LynneVogt/BoVogt vs. CarrieBlackburn/NicoleRosner
DESCRIPTION:Winter Tuesday Recreational League - Paddle Up Pickleball Club
LOCATION:Court 2
CATEGORIES:QuickScores; Pickleball Game
TRANSP:0
DALARM:20240109T184000;PT10M;2;LynneVogt/BoVogt vs. CarrieBlackburn/NicoleRosner
END:VEVENT
BEGIN:VEVENT
DTSTART:20240109T204000
DTEND:20240109T212000
SUMMARY:StacieThomas/KevinThomas vs. AngelaLamb/KathyAllen
DESCRIPTION:Winter Tuesday Recreational League - Paddle Up Pickleball Club
LOCATION:Court 1
CATEGORIES:QuickScores; Pickleball Game
TRANSP:0
DALARM:20240109T184000;PT10M;2;StacieThomas/KevinThomas vs. AngelaLamb/KathyAllen
END:VEVENT
BEGIN:VEVENT
DTSTART:20240109T212000
DTEND:20240109T220000
SUMMARY:KellyDuBois/CaraShouse vs. LynneVogt/BoVogt
DESCRIPTION:Winter Tuesday Recreational League - Paddle Up Pickleball Club
LOCATION:Court 1
CATEGORIES:QuickScores; Pickleball Game
TRANSP:0
DALARM:20240109T192000;PT10M;2;KellyDuBois/CaraShouse vs. LynneVogt/BoVogt
END:VEVENT
BEGIN:VEVENT
DTSTART:20240116T180000
DTEND:20240116T184000
SUMMARY:StacieThomas/KevinThomas vs. CarrieBlackburn/NicoleRosner
DESCRIPTION:Winter Tuesday Recreational League - Paddle Up Pickleball Club
LOCATION:Court 1
CATEGORIES:QuickScores; Pickleball Game
TRANSP:0
DALARM:20240116T160000;PT10M;2;StacieThomas/KevinThomas vs. CarrieBlackburn/NicoleRosner
END:VEVENT
BEGIN:VEVENT
DTSTART:20240116T184000
DTEND:20240116T192000
SUMMARY:CarrieBlackburn/NicoleRosner vs. ShannonAdams/ScottAdams
DESCRIPTION:Winter Tuesday Recreational League - Paddle Up Pickleball Club
LOCATION:Court 1
CATEGORIES:QuickScores; Pickleball Game
TRANSP:0
DALARM:20240116T164000;PT10M;2;CarrieBlackburn/NicoleRosner vs. ShannonAdams/ScottAdams
END:VEVENT
BEGIN:VEVENT
DTSTART:20240116T184000
DTEND:20240116T192000
SUMMARY:KimBlumenberg/AngieSchreck vs. StacieThomas/KevinThomas
DESCRIPTION:Winter Tuesday Recreational League - Paddle Up Pickleball Club
LOCATION:Court 2
CATEGORIES:QuickScores; Pickleball Game
TRANSP:0
DALARM:20240116T164000;PT10M;2;KimBlumenberg/AngieSchreck vs. StacieThomas/KevinThomas
END:VEVENT
BEGIN:VEVENT
DTSTART:20240116T192000
DTEND:20240116T200000
SUMMARY:AngelaLamb/KathyAllen vs. KimBlumenberg/AngieSchreck
DESCRIPTION:Winter Tuesday Recreational League - Paddle Up Pickleball Club
LOCATION:Court 3
CATEGORIES:QuickScores; Pickleball Game
TRANSP:0
DALARM:20240116T172000;PT10M;2;AngelaLamb/KathyAllen vs. KimBlumenberg/AngieSchreck
END:VEVENT
BEGIN:VEVENT
DTSTART:20240116T192000
DTEND:20240116T200000
SUMMARY:ShannonAdams/ScottAdams vs. MichelleFitzgerald/DanFitzgerald
DESCRIPTION:Winter Tuesday Recreational League - Paddle Up Pickleball Club
LOCATION:Court 1
CATEGORIES:QuickScores; Pickleball Game
TRANSP:0
DALARM:20240116T172000;PT10M;2;ShannonAdams/ScottAdams vs. MichelleFitzgerald/DanFitzgerald
END:VEVENT
BEGIN:VEVENT
DTSTART:20240116T200000
DTEND:20240116T204000
SUMMARY:KellyDuBois/CaraShouse vs. LynneVogt/BoVogt
DESCRIPTION:Winter Tuesday Recreational League - Paddle Up Pickleball Club
LOCATION:Court 1
CATEGORIES:QuickScores; Pickleball Game
TRANSP:0
DALARM:20240116T180000;PT10M;2;KellyDuBois/CaraShouse vs. LynneVogt/BoVogt
END:VEVENT
BEGIN:VEVENT
DTSTART:20240116T204000
DTEND:20240116T212000
SUMMARY:MichelleFitzgerald/DanFitzgerald vs. KellyDuBois/CaraShouse
DESCRIPTION:Winter Tuesday Recreational League - Paddle Up Pickleball Club
LOCATION:Court 3
CATEGORIES:QuickScores; Pickleball Game
TRANSP:0
DALARM:20240116T184000;PT10M;2;MichelleFitzgerald/DanFitzgerald vs. KellyDuBois/CaraShouse
END:VEVENT
BEGIN:VEVENT
DTSTART:20240116T204000
DTEND:20240116T212000
SUMMARY:MikeRiebel/TerryHerbert vs. AngelaLamb/KathyAllen
DESCRIPTION:Winter Tuesday Recreational League - Paddle Up Pickleball Club
LOCATION:Court 2
CATEGORIES:QuickScores; Pickleball Game
TRANSP:0
DALARM:20240116T184000;PT10M;2;MikeRiebel/TerryHerbert vs. AngelaLamb/KathyAllen
END:VEVENT
BEGIN:VEVENT
DTSTART:20240116T204000
DTEND:20240116T212000
SUMMARY:LynneVogt/BoVogt vs. LoriSchneider/SusanSpence
DESCRIPTION:Winter Tuesday Recreational League - Paddle Up Pickleball Club
LOCATION:Court 1
CATEGORIES:QuickScores; Pickleball Game
TRANSP:0
DALARM:20240116T184000;PT10M;2;LynneVogt/BoVogt vs. LoriSchneider/SusanSpence
END:VEVENT
BEGIN:VEVENT
DTSTART:20240116T212000
DTEND:20240116T220000
SUMMARY:LoriSchneider/SusanSpence vs. MikeRiebel/TerryHerbert
DESCRIPTION:Winter Tuesday Recreational League - Paddle Up Pickleball Club
LOCATION:Court 1
CATEGORIES:QuickScores; Pickleball Game
TRANSP:0
DALARM:20240116T192000;PT10M;2;LoriSchneider/SusanSpence vs. MikeRiebel/TerryHerbert
END:VEVENT
BEGIN:VEVENT
DTSTART:20240123T180000
DTEND:20240123T184000
SUMMARY:MichelleFitzgerald/DanFitzgerald vs. LoriSchneider/SusanSpence
DESCRIPTION:Winter Tuesday Recreational League - Paddle Up Pickleball Club
LOCATION:Court 1
CATEGORIES:QuickScores; Pickleball Game
TRANSP:0
DALARM:20240123T160000;PT10M;2;MichelleFitzgerald/DanFitzgerald vs. LoriSchneider/SusanSpence
END:VEVENT
BEGIN:VEVENT
DTSTART:20240123T180000
DTEND:20240123T184000
SUMMARY:KellyDuBois/CaraShouse vs. MikeRiebel/TerryHerbert
DESCRIPTION:Winter Tuesday Recreational League - Paddle Up Pickleball Club
LOCATION:Court 2
CATEGORIES:QuickScores; Pickleball Game
TRANSP:0
DALARM:20240123T160000;PT10M;2;KellyDuBois/CaraShouse vs. MikeRiebel/TerryHerbert
END:VEVENT
BEGIN:VEVENT
DTSTART:20240123T184000
DTEND:20240123T192000
SUMMARY:MichelleFitzgerald/DanFitzgerald vs. MikeRiebel/TerryHerbert
DESCRIPTION:Winter Tuesday Recreational League - Paddle Up Pickleball Club
LOCATION:Court 2
CATEGORIES:QuickScores; Pickleball Game
TRANSP:0
DALARM:20240123T164000;PT10M;2;MichelleFitzgerald/DanFitzgerald vs. MikeRiebel/TerryHerbert
END:VEVENT
BEGIN:VEVENT
DTSTART:20240123T184000
DTEND:20240123T192000
SUMMARY:LoriSchneider/SusanSpence vs. StacieThomas/KevinThomas
DESCRIPTION:Winter Tuesday Recreational League - Paddle Up Pickleball Club
LOCATION:Court 1
CATEGORIES:QuickScores; Pickleball Game
TRANSP:0
DALARM:20240123T164000;PT10M;2;LoriSchneider/SusanSpence vs. StacieThomas/KevinThomas
END:VEVENT
BEGIN:VEVENT
DTSTART:20240123T192000
DTEND:20240123T200000
SUMMARY:LynneVogt/BoVogt vs. StacieThomas/KevinThomas
DESCRIPTION:Winter Tuesday Recreational League - Paddle Up Pickleball Club
LOCATION:Court 1
CATEGORIES:QuickScores; Pickleball Game
TRANSP:0
DALARM:20240123T172000;PT10M;2;LynneVogt/BoVogt vs. StacieThomas/KevinThomas
END:VEVENT
BEGIN:VEVENT
DTSTART:20240123T192000
DTEND:20240123T200000
SUMMARY:KellyDuBois/CaraShouse vs. KimBlumenberg/AngieSchreck
DESCRIPTION:Winter Tuesday Recreational League - Paddle Up Pickleball Club
LOCATION:Court 3
CATEGORIES:QuickScores; Pickleball Game
TRANSP:0
DALARM:20240123T172000;PT10M;2;KellyDuBois/CaraShouse vs. KimBlumenberg/AngieSchreck
END:VEVENT
BEGIN:VEVENT
DTSTART:20240123T200000
DTEND:20240123T204000
SUMMARY:ShannonAdams/ScottAdams vs. LynneVogt/BoVogt
DESCRIPTION:Winter Tuesday Recreational League - Paddle Up Pickleball Club
LOCATION:Court 1
CATEGORIES:QuickScores; Pickleball Game
TRANSP:0
DALARM:20240123T180000;PT10M;2;ShannonAdams/ScottAdams vs. LynneVogt/BoVogt
END:VEVENT
BEGIN:VEVENT
DTSTART:20240123T204000
DTEND:20240123T212000
SUMMARY:CarrieBlackburn/NicoleRosner vs. KimBlumenberg/AngieSchreck
DESCRIPTION:Winter Tuesday Recreational League - Paddle Up Pickleball Club
LOCATION:Court 2
CATEGORIES:QuickScores; Pickleball Game
TRANSP:0
DALARM:20240123T184000;PT10M;2;CarrieBlackburn/NicoleRosner vs. KimBlumenberg/AngieSchreck
END:VEVENT
BEGIN:VEVENT
DTSTART:20240123T204000
DTEND:20240123T212000
SUMMARY:ShannonAdams/ScottAdams vs. AngelaLamb/KathyAllen
DESCRIPTION:Winter Tuesday Recreational League - Paddle Up Pickleball Club
LOCATION:Court 1
CATEGORIES:QuickScores; Pickleball Game
TRANSP:0
DALARM:20240123T184000;PT10M;2;ShannonAdams/ScottAdams vs. AngelaLamb/KathyAllen
END:VEVENT
BEGIN:VEVENT
DTSTART:20240123T212000
DTEND:20240123T220000
SUMMARY:CarrieBlackburn/NicoleRosner vs. AngelaLamb/KathyAllen
DESCRIPTION:Winter Tuesday Recreational League - Paddle Up Pickleball Club
LOCATION:Court 1
CATEGORIES:QuickScores; Pickleball Game
TRANSP:0
DALARM:20240123T192000;PT10M;2;CarrieBlackburn/NicoleRosner vs. AngelaLamb/KathyAllen
END:VEVENT
BEGIN:VEVENT
DTSTART:20240130T180000
DTEND:20240130T184000
SUMMARY:LoriSchneider/SusanSpence vs. ShannonAdams/ScottAdams
DESCRIPTION:Winter Tuesday Recreational League - Paddle Up Pickleball Club
LOCATION:Court 2
CATEGORIES:QuickScores; Pickleball Game
TRANSP:0
DALARM:20240130T160000;PT10M;2;LoriSchneider/SusanSpence vs. ShannonAdams/ScottAdams
END:VEVENT
BEGIN:VEVENT
DTSTART:20240130T180000
DTEND:20240130T184000
SUMMARY:KellyDuBois/CaraShouse vs. MikeRiebel/TerryHerbert
DESCRIPTION:Winter Tuesday Recreational League - Paddle Up Pickleball Club
LOCATION:Court 1
CATEGORIES:QuickScores; Pickleball Game
TRANSP:0
DALARM:20240130T160000;PT10M;2;KellyDuBois/CaraShouse vs. MikeRiebel/TerryHerbert
END:VEVENT
BEGIN:VEVENT
DTSTART:20240130T184000
DTEND:20240130T192000
SUMMARY:MikeRiebel/TerryHerbert vs. ShannonAdams/ScottAdams
DESCRIPTION:Winter Tuesday Recreational League - Paddle Up Pickleball Club
LOCATION:Court 1
CATEGORIES:QuickScores; Pickleball Game
TRANSP:0
DALARM:20240130T164000;PT10M;2;MikeRiebel/TerryHerbert vs. ShannonAdams/ScottAdams
END:VEVENT
BEGIN:VEVENT
DTSTART:20240130T184000
DTEND:20240130T192000
SUMMARY:LynneVogt/BoVogt vs. AngelaLamb/KathyAllen
DESCRIPTION:Winter Tuesday Recreational League - Paddle Up Pickleball Club
LOCATION:Court 2
CATEGORIES:QuickScores; Pickleball Game
TRANSP:0
DALARM:20240130T164000;PT10M;2;LynneVogt/BoVogt vs. AngelaLamb/KathyAllen
END:VEVENT
BEGIN:VEVENT
DTSTART:20240130T192000
DTEND:20240130T200000
SUMMARY:AngelaLamb/KathyAllen vs. StacieThomas/KevinThomas
DESCRIPTION:Winter Tuesday Recreational League - Paddle Up Pickleball Club
LOCATION:Court 3
CATEGORIES:QuickScores; Pickleball Game
TRANSP:0
DALARM:20240130T172000;PT10M;2;AngelaLamb/KathyAllen vs. StacieThomas/KevinThomas
END:VEVENT
BEGIN:VEVENT
DTSTART:20240130T192000
DTEND:20240130T200000
SUMMARY:KellyDuBois/CaraShouse vs. LoriSchneider/SusanSpence
DESCRIPTION:Winter Tuesday Recreational League - Paddle Up Pickleball Club
LOCATION:Court 1
CATEGORIES:QuickScores; Pickleball Game
TRANSP:0
DALARM:20240130T172000;PT10M;2;KellyDuBois/CaraShouse vs. LoriSchneider/SusanSpence
END:VEVENT
BEGIN:VEVENT
DTSTART:20240130T200000
DTEND:20240130T204000
SUMMARY:CarrieBlackburn/NicoleRosner vs. LynneVogt/BoVogt
DESCRIPTION:Winter Tuesday Recreational League - Paddle Up Pickleball Club
LOCATION:Court 1
CATEGORIES:QuickScores; Pickleball Game
TRANSP:0
DALARM:20240130T180000;PT10M;2;CarrieBlackburn/NicoleRosner vs. LynneVogt/BoVogt
END:VEVENT
BEGIN:VEVENT
DTSTART:20240130T204000
DTEND:20240130T212000
SUMMARY:KimBlumenberg/AngieSchreck vs. StacieThomas/KevinThomas
DESCRIPTION:Winter Tuesday Recreational League - Paddle Up Pickleball Club
LOCATION:Court 2
CATEGORIES:QuickScores; Pickleball Game
TRANSP:0
DALARM:20240130T184000;PT10M;2;KimBlumenberg/AngieSchreck vs. StacieThomas/KevinThomas
END:VEVENT
BEGIN:VEVENT
DTSTART:20240130T204000
DTEND:20240130T212000
SUMMARY:CarrieBlackburn/NicoleRosner vs. MichelleFitzgerald/DanFitzgerald
DESCRIPTION:Winter Tuesday Recreational League - Paddle Up Pickleball Club
LOCATION:Court 1
CATEGORIES:QuickScores; Pickleball Game
TRANSP:0
DALARM:20240130T184000;PT10M;2;CarrieBlackburn/NicoleRosner vs. MichelleFitzgerald/DanFitzgerald
END:VEVENT
BEGIN:VEVENT
DTSTART:20240130T212000
DTEND:20240130T220000
SUMMARY:MichelleFitzgerald/DanFitzgerald vs. KimBlumenberg/AngieSchreck
DESCRIPTION:Winter Tuesday Recreational League - Paddle Up Pickleball Club
LOCATION:Court 1
CATEGORIES:QuickScores; Pickleball Game
TRANSP:0
DALARM:20240130T192000;PT10M;2;MichelleFitzgerald/DanFitzgerald vs. KimBlumenberg/AngieSchreck
END:VEVENT
BEGIN:VEVENT
DTSTART:20240206T180000
DTEND:20240206T183500
SUMMARY:Schnieder/Spence vs. Thomas/Thomas
DESCRIPTION:Winter Tuesday Recreational League - Paddle Up Pickleball Club
LOCATION:Court 6
CATEGORIES:QuickScores; Pickleball Game
TRANSP:0
DALARM:20240206T160000;PT10M;2;Schnieder/Spence vs. Thomas/Thomas
END:VEVENT
BEGIN:VEVENT
DTSTART:20240206T180000
DTEND:20240206T183500
SUMMARY:Vogt/Vogt vs. Fitzgerald/Fitzgerald
DESCRIPTION:Winter Tuesday Recreational League - Paddle Up Pickleball Club
LOCATION:Court 7
CATEGORIES:QuickScores; Pickleball Game
TRANSP:0
DALARM:20240206T160000;PT10M;2;Vogt/Vogt vs. Fitzgerald/Fitzgerald
END:VEVENT
BEGIN:VEVENT
DTSTART:20240206T180000
DTEND:20240206T183500
SUMMARY:Adams/Adams vs. Blumenberg/Schreck
DESCRIPTION:Winter Tuesday Recreational League - Paddle Up Pickleball Club
LOCATION:Court 4
CATEGORIES:QuickScores; Pickleball Game
TRANSP:0
DALARM:20240206T160000;PT10M;2;Adams/Adams vs. Blumenberg/Schreck
END:VEVENT
BEGIN:VEVENT
DTSTART:20240206T183500
DTEND:20240206T191000
SUMMARY:Blackburn/Rosner vs. Winner of Game 1
DESCRIPTION:Winter Tuesday Recreational League - Paddle Up Pickleball Club
LOCATION:Court 4
CATEGORIES:QuickScores; Pickleball Game
TRANSP:0
DALARM:20240206T163500;PT10M;2;Blackburn/Rosner vs. Winner of Game 1
END:VEVENT
BEGIN:VEVENT
DTSTART:20240206T183500
DTEND:20240206T191000
SUMMARY:Riebel/Herbert vs. Winner of Game 2
DESCRIPTION:Winter Tuesday Recreational League - Paddle Up Pickleball Club
LOCATION:Court 7
CATEGORIES:QuickScores; Pickleball Game
TRANSP:0
DALARM:20240206T163500;PT10M;2;Riebel/Herbert vs. Winner of Game 2
END:VEVENT
BEGIN:VEVENT
DTSTART:20240206T191000
DTEND:20240206T194500
SUMMARY:Dubois/Shouse vs. Lamb/Allen
DESCRIPTION:Winter Tuesday Recreational League - Paddle Up Pickleball Club
LOCATION:Court 4
CATEGORIES:QuickScores; Pickleball Game
TRANSP:0
DALARM:20240206T171000;PT10M;2;Dubois/Shouse vs. Lamb/Allen
END:VEVENT
BEGIN:VEVENT
DTSTART:20240206T191000
DTEND:20240206T194500
SUMMARY:Winner of Game 6 vs. Winner of Game 4
DESCRIPTION:Winter Tuesday Recreational League - Paddle Up Pickleball Club
LOCATION:Court 7
CATEGORIES:QuickScores; Pickleball Game
TRANSP:0
DALARM:20240206T171000;PT10M;2;Winner of Game 6 vs. Winner of Game 4
END:VEVENT
BEGIN:VEVENT
DTSTART:20240206T194500
DTEND:20240206T202000
SUMMARY:Winner of Game 5 vs. Winner of Game 3
DESCRIPTION:Winter Tuesday Recreational League - Paddle Up Pickleball Club
LOCATION:Court 4
CATEGORIES:QuickScores; Pickleball Game
TRANSP:0
DALARM:20240206T174500;PT10M;2;Winner of Game 5 vs. Winner of Game 3
END:VEVENT
BEGIN:VEVENT
DTSTART:20240206T202000
DTEND:20240206T205000
SUMMARY:Winner of Game 7 vs. Winner of Game 8
DESCRIPTION:Winter Tuesday Recreational League - Paddle Up Pickleball Club
LOCATION:Court 4
CATEGORIES:QuickScores; Pickleball Game
TRANSP:0
DALARM:20240206T182000;PT10M;2;Winner of Game 7 vs. Winner of Game 8
END:VEVENT
END:VCALENDAR
