BEGIN:VCALENDAR
VERSION:1.0
BEGIN:VEVENT
DTSTART:20231021T090000
DTEND:20231021T092000
SUMMARY:ErinGoodwin/LaurieRenner vs. JanetPeabody/BrendaAlexander
DESCRIPTION:Komen Tournament - Womens - Paddle Up Pickleball Club
LOCATION:Court 4
CATEGORIES:QuickScores; Pickleball Game
TRANSP:0
DALARM:20231021T070000;PT10M;2;ErinGoodwin/LaurieRenner vs. JanetPeabody/BrendaAlexander
END:VEVENT
BEGIN:VEVENT
DTSTART:20231021T090000
DTEND:20231021T092000
SUMMARY:CarrollSanders/BobbieTracy vs. RoxanneHutson/DebPetty
DESCRIPTION:Komen Tournament - Womens - Paddle Up Pickleball Club
LOCATION:Court 5
CATEGORIES:QuickScores; Pickleball Game
TRANSP:0
DALARM:20231021T070000;PT10M;2;CarrollSanders/BobbieTracy vs. RoxanneHutson/DebPetty
END:VEVENT
BEGIN:VEVENT
DTSTART:20231021T090000
DTEND:20231021T092000
SUMMARY:BeckyBee/MichelleBurns vs. CristinZiegler/AmySenter
DESCRIPTION:Komen Tournament - Womens - Paddle Up Pickleball Club
LOCATION:Court 7
CATEGORIES:QuickScores; Pickleball Game
TRANSP:0
DALARM:20231021T070000;PT10M;2;BeckyBee/MichelleBurns vs. CristinZiegler/AmySenter
END:VEVENT
BEGIN:VEVENT
DTSTART:20231021T090000
DTEND:20231021T092000
SUMMARY:KimSparkman/LaurenMangano vs. MaryGraves/SonyaDiel
DESCRIPTION:Komen Tournament - Womens - Paddle Up Pickleball Club
LOCATION:Court 6
CATEGORIES:QuickScores; Pickleball Game
TRANSP:0
DALARM:20231021T070000;PT10M;2;KimSparkman/LaurenMangano vs. MaryGraves/SonyaDiel
END:VEVENT
BEGIN:VEVENT
DTSTART:20231021T092000
DTEND:20231021T094000
SUMMARY:CarrollSanders/BobbieTracy vs. BeckyBee/MichelleBurns
DESCRIPTION:Komen Tournament - Womens - Paddle Up Pickleball Club
LOCATION:Court 5
CATEGORIES:QuickScores; Pickleball Game
TRANSP:0
DALARM:20231021T072000;PT10M;2;CarrollSanders/BobbieTracy vs. BeckyBee/MichelleBurns
END:VEVENT
BEGIN:VEVENT
DTSTART:20231021T092000
DTEND:20231021T094000
SUMMARY:CristinZiegler/AmySenter vs. RoxanneHutson/DebPetty
DESCRIPTION:Komen Tournament - Womens - Paddle Up Pickleball Club
LOCATION:Court 7
CATEGORIES:QuickScores; Pickleball Game
TRANSP:0
DALARM:20231021T072000;PT10M;2;CristinZiegler/AmySenter vs. RoxanneHutson/DebPetty
END:VEVENT
BEGIN:VEVENT
DTSTART:20231021T092000
DTEND:20231021T094000
SUMMARY:KimSparkman/LaurenMangano vs. JanetPeabody/BrendaAlexander
DESCRIPTION:Komen Tournament - Womens - Paddle Up Pickleball Club
LOCATION:Court 4
CATEGORIES:QuickScores; Pickleball Game
TRANSP:0
DALARM:20231021T072000;PT10M;2;KimSparkman/LaurenMangano vs. JanetPeabody/BrendaAlexander
END:VEVENT
BEGIN:VEVENT
DTSTART:20231021T092000
DTEND:20231021T094000
SUMMARY:MaryGraves/SonyaDiel vs. ErinGoodwin/LaurieRenner
DESCRIPTION:Komen Tournament - Womens - Paddle Up Pickleball Club
LOCATION:Court 6
CATEGORIES:QuickScores; Pickleball Game
TRANSP:0
DALARM:20231021T072000;PT10M;2;MaryGraves/SonyaDiel vs. ErinGoodwin/LaurieRenner
END:VEVENT
BEGIN:VEVENT
DTSTART:20231021T094000
DTEND:20231021T100000
SUMMARY:CristinZiegler/AmySenter vs. CarrollSanders/BobbieTracy
DESCRIPTION:Komen Tournament - Womens - Paddle Up Pickleball Club
LOCATION:Court 7
CATEGORIES:QuickScores; Pickleball Game
TRANSP:0
DALARM:20231021T074000;PT10M;2;CristinZiegler/AmySenter vs. CarrollSanders/BobbieTracy
END:VEVENT
BEGIN:VEVENT
DTSTART:20231021T094000
DTEND:20231021T100000
SUMMARY:RoxanneHutson/DebPetty vs. BeckyBee/MichelleBurns
DESCRIPTION:Komen Tournament - Womens - Paddle Up Pickleball Club
LOCATION:Court 5
CATEGORIES:QuickScores; Pickleball Game
TRANSP:0
DALARM:20231021T074000;PT10M;2;RoxanneHutson/DebPetty vs. BeckyBee/MichelleBurns
END:VEVENT
BEGIN:VEVENT
DTSTART:20231021T094000
DTEND:20231021T100000
SUMMARY:MaryGraves/SonyaDiel vs. JanetPeabody/BrendaAlexander
DESCRIPTION:Komen Tournament - Womens - Paddle Up Pickleball Club
LOCATION:Court 6
CATEGORIES:QuickScores; Pickleball Game
TRANSP:0
DALARM:20231021T074000;PT10M;2;MaryGraves/SonyaDiel vs. JanetPeabody/BrendaAlexander
END:VEVENT
BEGIN:VEVENT
DTSTART:20231021T094000
DTEND:20231021T100000
SUMMARY:ErinGoodwin/LaurieRenner vs. KimSparkman/LaurenMangano
DESCRIPTION:Komen Tournament - Womens - Paddle Up Pickleball Club
LOCATION:Court 4
CATEGORIES:QuickScores; Pickleball Game
TRANSP:0
DALARM:20231021T074000;PT10M;2;ErinGoodwin/LaurieRenner vs. KimSparkman/LaurenMangano
END:VEVENT
BEGIN:VEVENT
DTSTART:20231021T100000
DTEND:20231021T102000
SUMMARY:MaryGraves/SonyaDiel vs. KimSparkman/LaurenMangano
DESCRIPTION:Komen Tournament - Womens - Paddle Up Pickleball Club
LOCATION:Court 4
CATEGORIES:QuickScores; Pickleball Game
TRANSP:0
DALARM:20231021T080000;PT10M;2;MaryGraves/SonyaDiel vs. KimSparkman/LaurenMangano
END:VEVENT
BEGIN:VEVENT
DTSTART:20231021T100000
DTEND:20231021T102000
SUMMARY:JanetPeabody/BrendaAlexander vs. ErinGoodwin/LaurieRenner
DESCRIPTION:Komen Tournament - Womens - Paddle Up Pickleball Club
LOCATION:Court 6
CATEGORIES:QuickScores; Pickleball Game
TRANSP:0
DALARM:20231021T080000;PT10M;2;JanetPeabody/BrendaAlexander vs. ErinGoodwin/LaurieRenner
END:VEVENT
BEGIN:VEVENT
DTSTART:20231021T100000
DTEND:20231021T102000
SUMMARY:CristinZiegler/AmySenter vs. BeckyBee/MichelleBurns
DESCRIPTION:Komen Tournament - Womens - Paddle Up Pickleball Club
LOCATION:Court 5
CATEGORIES:QuickScores; Pickleball Game
TRANSP:0
DALARM:20231021T080000;PT10M;2;CristinZiegler/AmySenter vs. BeckyBee/MichelleBurns
END:VEVENT
BEGIN:VEVENT
DTSTART:20231021T100000
DTEND:20231021T102000
SUMMARY:RoxanneHutson/DebPetty vs. CarrollSanders/BobbieTracy
DESCRIPTION:Komen Tournament - Womens - Paddle Up Pickleball Club
LOCATION:Court 7
CATEGORIES:QuickScores; Pickleball Game
TRANSP:0
DALARM:20231021T080000;PT10M;2;RoxanneHutson/DebPetty vs. CarrollSanders/BobbieTracy
END:VEVENT
BEGIN:VEVENT
DTSTART:20231021T102000
DTEND:20231021T104000
SUMMARY:ErinGoodwin/LaurieRenner vs. MaryGraves/SonyaDiel
DESCRIPTION:Komen Tournament - Womens - Paddle Up Pickleball Club
LOCATION:Court 6
CATEGORIES:QuickScores; Pickleball Game
TRANSP:0
DALARM:20231021T082000;PT10M;2;ErinGoodwin/LaurieRenner vs. MaryGraves/SonyaDiel
END:VEVENT
BEGIN:VEVENT
DTSTART:20231021T102000
DTEND:20231021T104000
SUMMARY:JanetPeabody/BrendaAlexander vs. KimSparkman/LaurenMangano
DESCRIPTION:Komen Tournament - Womens - Paddle Up Pickleball Club
LOCATION:Court 4
CATEGORIES:QuickScores; Pickleball Game
TRANSP:0
DALARM:20231021T082000;PT10M;2;JanetPeabody/BrendaAlexander vs. KimSparkman/LaurenMangano
END:VEVENT
BEGIN:VEVENT
DTSTART:20231021T102000
DTEND:20231021T104000
SUMMARY:BeckyBee/MichelleBurns vs. CarrollSanders/BobbieTracy
DESCRIPTION:Komen Tournament - Womens - Paddle Up Pickleball Club
LOCATION:Court 5
CATEGORIES:QuickScores; Pickleball Game
TRANSP:0
DALARM:20231021T082000;PT10M;2;BeckyBee/MichelleBurns vs. CarrollSanders/BobbieTracy
END:VEVENT
BEGIN:VEVENT
DTSTART:20231021T102000
DTEND:20231021T104000
SUMMARY:RoxanneHutson/DebPetty vs. CristinZiegler/AmySenter
DESCRIPTION:Komen Tournament - Womens - Paddle Up Pickleball Club
LOCATION:Court 7
CATEGORIES:QuickScores; Pickleball Game
TRANSP:0
DALARM:20231021T082000;PT10M;2;RoxanneHutson/DebPetty vs. CristinZiegler/AmySenter
END:VEVENT
BEGIN:VEVENT
DTSTART:20231021T104000
DTEND:20231021T110000
SUMMARY:BeckyBee/MichelleBurns vs. RoxanneHutson/DebPetty
DESCRIPTION:Komen Tournament - Womens - Paddle Up Pickleball Club
LOCATION:Court 5
CATEGORIES:QuickScores; Pickleball Game
TRANSP:0
DALARM:20231021T084000;PT10M;2;BeckyBee/MichelleBurns vs. RoxanneHutson/DebPetty
END:VEVENT
BEGIN:VEVENT
DTSTART:20231021T104000
DTEND:20231021T110000
SUMMARY:CarrollSanders/BobbieTracy vs. CristinZiegler/AmySenter
DESCRIPTION:Komen Tournament - Womens - Paddle Up Pickleball Club
LOCATION:Court 7
CATEGORIES:QuickScores; Pickleball Game
TRANSP:0
DALARM:20231021T084000;PT10M;2;CarrollSanders/BobbieTracy vs. CristinZiegler/AmySenter
END:VEVENT
BEGIN:VEVENT
DTSTART:20231021T104000
DTEND:20231021T110000
SUMMARY:JanetPeabody/BrendaAlexander vs. MaryGraves/SonyaDiel
DESCRIPTION:Komen Tournament - Womens - Paddle Up Pickleball Club
LOCATION:Court 4
CATEGORIES:QuickScores; Pickleball Game
TRANSP:0
DALARM:20231021T084000;PT10M;2;JanetPeabody/BrendaAlexander vs. MaryGraves/SonyaDiel
END:VEVENT
BEGIN:VEVENT
DTSTART:20231021T104000
DTEND:20231021T110000
SUMMARY:KimSparkman/LaurenMangano vs. ErinGoodwin/LaurieRenner
DESCRIPTION:Komen Tournament - Womens - Paddle Up Pickleball Club
LOCATION:Court 6
CATEGORIES:QuickScores; Pickleball Game
TRANSP:0
DALARM:20231021T084000;PT10M;2;KimSparkman/LaurenMangano vs. ErinGoodwin/LaurieRenner
END:VEVENT
END:VCALENDAR
