BEGIN:VCALENDAR
VERSION:1.0
BEGIN:VEVENT
DTSTART:20230713T100000
DTEND:20230713T113000
SUMMARY:Blazers vs. Richmond Classics
DESCRIPTION:Men 80 AAA - International Senior Softball Association<br>ISSA
LOCATION:SW 3
CATEGORIES:QuickScores; Softball Game
TRANSP:0
DALARM:20230713T080000;PT10M;2;Blazers vs. Richmond Classics
END:VEVENT
BEGIN:VEVENT
DTSTART:20230713T113000
DTEND:20230713T130000
SUMMARY:Richmond Classics vs. Blazers
DESCRIPTION:Men 80 AAA - International Senior Softball Association<br>ISSA
LOCATION:SW 3
CATEGORIES:QuickScores; Softball Game
TRANSP:0
DALARM:20230713T093000;PT10M;2;Richmond Classics vs. Blazers
END:VEVENT
END:VCALENDAR
