BEGIN:VCALENDAR
VERSION:1.0
BEGIN:VEVENT
DTSTART:20230713T083000
DTEND:20230713T100000
SUMMARY:Code/Leblue vs. smokies75s
DESCRIPTION:Men 75 AA/AAA - International Senior Softball Association<br>ISSA
LOCATION:SW 2
CATEGORIES:QuickScores; Softball Game
TRANSP:0
DALARM:20230713T063000;PT10M;2;Code/Leblue vs. smokies75s
END:VEVENT
BEGIN:VEVENT
DTSTART:20230713T083000
DTEND:20230713T100000
SUMMARY:HTR vs. Delaware Ledgends 75
DESCRIPTION:Men 75 AA/AAA - International Senior Softball Association<br>ISSA
LOCATION:SW 3
CATEGORIES:QuickScores; Softball Game
TRANSP:0
DALARM:20230713T063000;PT10M;2;HTR vs. Delaware Ledgends 75
END:VEVENT
BEGIN:VEVENT
DTSTART:20230713T130000
DTEND:20230713T143000
SUMMARY:Code/Leblue vs. Delaware Ledgends 75
DESCRIPTION:Men 75 AA/AAA - International Senior Softball Association<br>ISSA
LOCATION:SW 3
CATEGORIES:QuickScores; Softball Game
TRANSP:0
DALARM:20230713T110000;PT10M;2;Code/Leblue vs. Delaware Ledgends 75
END:VEVENT
BEGIN:VEVENT
DTSTART:20230713T143000
DTEND:20230713T160000
SUMMARY:smokies75s vs. HTR
DESCRIPTION:Men 75 AA/AAA - International Senior Softball Association<br>ISSA
LOCATION:SW 3
CATEGORIES:QuickScores; Softball Game
TRANSP:0
DALARM:20230713T123000;PT10M;2;smokies75s vs. HTR
END:VEVENT
BEGIN:VEVENT
DTSTART:20230714T090000
DTEND:20230714T103000
SUMMARY:Delaware Ledgends 75 vs. smokies75s
DESCRIPTION:Men 75 AA/AAA - International Senior Softball Association<br>ISSA
LOCATION:SW 3
CATEGORIES:QuickScores; Softball Game
TRANSP:0
DALARM:20230714T070000;PT10M;2;Delaware Ledgends 75 vs. smokies75s
END:VEVENT
BEGIN:VEVENT
DTSTART:20230714T103000
DTEND:20230714T120000
SUMMARY:Code/Leblue vs. Delaware Ledgends 75
DESCRIPTION:Men 75 AA/AAA - International Senior Softball Association<br>ISSA
LOCATION:SW 3
CATEGORIES:QuickScores; Softball Game
TRANSP:0
DALARM:20230714T083000;PT10M;2;Code/Leblue vs. Delaware Ledgends 75
END:VEVENT
END:VCALENDAR
