BEGIN:VCALENDAR
VERSION:1.0
BEGIN:VEVENT
DTSTART:20230712T090000
DTEND:20230712T103000
SUMMARY:Blazers vs. HTR
DESCRIPTION:Men 70 AA/75 AA/AAA/80 AAA - International Senior Softball Association<br>ISSA
LOCATION:SW 3
CATEGORIES:QuickScores; Softball Game
TRANSP:0
DALARM:20230712T070000;PT10M;2;Blazers vs. HTR
END:VEVENT
BEGIN:VEVENT
DTSTART:20230712T090000
DTEND:20230712T103000
SUMMARY:smokies75s vs. Surfwater 70
DESCRIPTION:Men 70 AA/75 AA/AAA/80 AAA - International Senior Softball Association<br>ISSA
LOCATION:SW 4
CATEGORIES:QuickScores; Softball Game
TRANSP:0
DALARM:20230712T070000;PT10M;2;smokies75s vs. Surfwater 70
END:VEVENT
BEGIN:VEVENT
DTSTART:20230712T103000
DTEND:20230712T120000
SUMMARY:HTR vs. spring ford aa
DESCRIPTION:Men 70 AA/75 AA/AAA/80 AAA - International Senior Softball Association<br>ISSA
LOCATION:SW 3
CATEGORIES:QuickScores; Softball Game
TRANSP:0
DALARM:20230712T083000;PT10M;2;HTR vs. spring ford aa
END:VEVENT
BEGIN:VEVENT
DTSTART:20230712T103000
DTEND:20230712T120000
SUMMARY:Delaware Ledgends 75 vs. Richmond Classics
DESCRIPTION:Men 70 AA/75 AA/AAA/80 AAA - International Senior Softball Association<br>ISSA
LOCATION:SW 4
CATEGORIES:QuickScores; Softball Game
TRANSP:0
DALARM:20230712T083000;PT10M;2;Delaware Ledgends 75 vs. Richmond Classics
END:VEVENT
BEGIN:VEVENT
DTSTART:20230712T120000
DTEND:20230712T133000
SUMMARY:Reality Check 70's vs. Delaware Ledgends 75
DESCRIPTION:Men 70 AA/75 AA/AAA/80 AAA - International Senior Softball Association<br>ISSA
LOCATION:SW 4
CATEGORIES:QuickScores; Softball Game
TRANSP:0
DALARM:20230712T100000;PT10M;2;Reality Check 70's vs. Delaware Ledgends 75
END:VEVENT
BEGIN:VEVENT
DTSTART:20230712T120000
DTEND:20230712T133000
SUMMARY:Code/Leblue vs. smokies75s
DESCRIPTION:Men 70 AA/75 AA/AAA/80 AAA - International Senior Softball Association<br>ISSA
LOCATION:SW 3
CATEGORIES:QuickScores; Softball Game
TRANSP:0
DALARM:20230712T100000;PT10M;2;Code/Leblue vs. smokies75s
END:VEVENT
BEGIN:VEVENT
DTSTART:20230712T133000
DTEND:20230712T150000
SUMMARY:Surfwater 70 vs. Code/Leblue
DESCRIPTION:Men 70 AA/75 AA/AAA/80 AAA - International Senior Softball Association<br>ISSA
LOCATION:SW 3
CATEGORIES:QuickScores; Softball Game
TRANSP:0
DALARM:20230712T113000;PT10M;2;Surfwater 70 vs. Code/Leblue
END:VEVENT
BEGIN:VEVENT
DTSTART:20230712T133000
DTEND:20230712T150000
SUMMARY:spring ford aa vs. Blazers
DESCRIPTION:Men 70 AA/75 AA/AAA/80 AAA - International Senior Softball Association<br>ISSA
LOCATION:SW 4
CATEGORIES:QuickScores; Softball Game
TRANSP:0
DALARM:20230712T113000;PT10M;2;spring ford aa vs. Blazers
END:VEVENT
BEGIN:VEVENT
DTSTART:20230712T150000
DTEND:20230712T163000
SUMMARY:Richmond Classics vs. Reality Check 70's
DESCRIPTION:Men 70 AA/75 AA/AAA/80 AAA - International Senior Softball Association<br>ISSA
LOCATION:SW 3
CATEGORIES:QuickScores; Softball Game
TRANSP:0
DALARM:20230712T130000;PT10M;2;Richmond Classics vs. Reality Check 70's
END:VEVENT
END:VCALENDAR
