BEGIN:VCALENDAR
VERSION:1.0
BEGIN:VEVENT
DTSTART:20230714T133000
DTEND:20230714T150000
SUMMARY:Rw Manson/Carolina Elite vs. ShineOn
DESCRIPTION:Men 50 AA - International Senior Softball Association<br>ISSA
LOCATION:CP 1
CATEGORIES:QuickScores; Softball Game
TRANSP:0
DALARM:20230714T113000;PT10M;2;Rw Manson/Carolina Elite vs. ShineOn
END:VEVENT
BEGIN:VEVENT
DTSTART:20230714T150000
DTEND:20230714T163000
SUMMARY:TLC vs. Carolina Legends 50s
DESCRIPTION:Men 50 AA - International Senior Softball Association<br>ISSA
LOCATION:CP 1
CATEGORIES:QuickScores; Softball Game
TRANSP:0
DALARM:20230714T130000;PT10M;2;TLC vs. Carolina Legends 50s
END:VEVENT
BEGIN:VEVENT
DTSTART:20230714T163000
DTEND:20230714T180000
SUMMARY:Port City Classics vs. JDL EXPRESS
DESCRIPTION:Men 50 AA - International Senior Softball Association<br>ISSA
LOCATION:CP 1
CATEGORIES:QuickScores; Softball Game
TRANSP:0
DALARM:20230714T143000;PT10M;2;Port City Classics vs. JDL EXPRESS
END:VEVENT
BEGIN:VEVENT
DTSTART:20230714T180000
DTEND:20230714T193000
SUMMARY:Flatline / Van Metre Homes vs. Rw Manson/Carolina Elite
DESCRIPTION:Men 50 AA - International Senior Softball Association<br>ISSA
LOCATION:CP 1
CATEGORIES:QuickScores; Softball Game
TRANSP:0
DALARM:20230714T160000;PT10M;2;Flatline / Van Metre Homes vs. Rw Manson/Carolina Elite
END:VEVENT
BEGIN:VEVENT
DTSTART:20230714T180000
DTEND:20230714T193000
SUMMARY:ShineOn vs. ENC
DESCRIPTION:Men 50 AA - International Senior Softball Association<br>ISSA
LOCATION:CP 3
CATEGORIES:QuickScores; Softball Game
TRANSP:0
DALARM:20230714T160000;PT10M;2;ShineOn vs. ENC
END:VEVENT
BEGIN:VEVENT
DTSTART:20230714T193000
DTEND:20230714T210000
SUMMARY:JDL EXPRESS vs. TLC
DESCRIPTION:Men 50 AA - International Senior Softball Association<br>ISSA
LOCATION:CP 3
CATEGORIES:QuickScores; Softball Game
TRANSP:0
DALARM:20230714T173000;PT10M;2;JDL EXPRESS vs. TLC
END:VEVENT
BEGIN:VEVENT
DTSTART:20230714T193000
DTEND:20230714T210000
SUMMARY:Carolina Legends 50s vs. Port City Classics
DESCRIPTION:Men 50 AA - International Senior Softball Association<br>ISSA
LOCATION:CP 1
CATEGORIES:QuickScores; Softball Game
TRANSP:0
DALARM:20230714T173000;PT10M;2;Carolina Legends 50s vs. Port City Classics
END:VEVENT
BEGIN:VEVENT
DTSTART:20230714T210000
DTEND:20230714T223000
SUMMARY:ENC vs. Flatline / Van Metre Homes
DESCRIPTION:Men 50 AA - International Senior Softball Association<br>ISSA
LOCATION:CP 3
CATEGORIES:QuickScores; Softball Game
TRANSP:0
DALARM:20230714T190000;PT10M;2;ENC vs. Flatline / Van Metre Homes
END:VEVENT
BEGIN:VEVENT
DTSTART:20230715T083000
DTEND:20230715T100000
SUMMARY:[A2] Carolina Legends 50s vs. [B3] Flatline / Van Metre Homes
DESCRIPTION:Men 50 AA - International Senior Softball Association<br>ISSA
LOCATION:SW 3
CATEGORIES:QuickScores; Softball Game
TRANSP:0
DALARM:20230715T063000;PT10M;2;[A2] Carolina Legends 50s vs. [B3] Flatline / Van Metre Homes
END:VEVENT
BEGIN:VEVENT
DTSTART:20230715T083000
DTEND:20230715T100000
SUMMARY:[B2] ShineOn vs. [A3] TLC
DESCRIPTION:Men 50 AA - International Senior Softball Association<br>ISSA
LOCATION:SW 2
CATEGORIES:QuickScores; Softball Game
TRANSP:0
DALARM:20230715T063000;PT10M;2;[B2] ShineOn vs. [A3] TLC
END:VEVENT
BEGIN:VEVENT
DTSTART:20230715T083000
DTEND:20230715T100000
SUMMARY:[A1] Port City Classics vs. [B4] ENC
DESCRIPTION:Men 50 AA - International Senior Softball Association<br>ISSA
LOCATION:SW 4
CATEGORIES:QuickScores; Softball Game
TRANSP:0
DALARM:20230715T063000;PT10M;2;[A1] Port City Classics vs. [B4] ENC
END:VEVENT
BEGIN:VEVENT
DTSTART:20230715T100000
DTEND:20230715T113000
SUMMARY:[B1] Rw Manson/Carolina Elite vs. [A4] JDL EXPRESS
DESCRIPTION:Men 50 AA - International Senior Softball Association<br>ISSA
LOCATION:SW 4
CATEGORIES:QuickScores; Softball Game
TRANSP:0
DALARM:20230715T080000;PT10M;2;[B1] Rw Manson/Carolina Elite vs. [A4] JDL EXPRESS
END:VEVENT
BEGIN:VEVENT
DTSTART:20230715T113000
DTEND:20230715T130000
SUMMARY:[A1] Port City Classics vs. [A3] TLC
DESCRIPTION:Men 50 AA - International Senior Softball Association<br>ISSA
LOCATION:SW 1
CATEGORIES:QuickScores; Softball Game
TRANSP:0
DALARM:20230715T093000;PT10M;2;[A1] Port City Classics vs. [A3] TLC
END:VEVENT
BEGIN:VEVENT
DTSTART:20230715T113000
DTEND:20230715T130000
SUMMARY:[B1] Rw Manson/Carolina Elite vs. [B3] Flatline / Van Metre Homes
DESCRIPTION:Men 50 AA - International Senior Softball Association<br>ISSA
LOCATION:SW 4
CATEGORIES:QuickScores; Softball Game
TRANSP:0
DALARM:20230715T093000;PT10M;2;[B1] Rw Manson/Carolina Elite vs. [B3] Flatline / Van Metre Homes
END:VEVENT
BEGIN:VEVENT
DTSTART:20230715T130000
DTEND:20230715T143000
SUMMARY:[B4] ENC vs. [B2] ShineOn
DESCRIPTION:Men 50 AA - International Senior Softball Association<br>ISSA
LOCATION:SW 2
CATEGORIES:QuickScores; Softball Game
TRANSP:0
DALARM:20230715T110000;PT10M;2;[B4] ENC vs. [B2] ShineOn
END:VEVENT
BEGIN:VEVENT
DTSTART:20230715T130000
DTEND:20230715T143000
SUMMARY:[A4] JDL EXPRESS vs. [A2] Carolina Legends 50s
DESCRIPTION:Men 50 AA - International Senior Softball Association<br>ISSA
LOCATION:SW 3
CATEGORIES:QuickScores; Softball Game
TRANSP:0
DALARM:20230715T110000;PT10M;2;[A4] JDL EXPRESS vs. [A2] Carolina Legends 50s
END:VEVENT
BEGIN:VEVENT
DTSTART:20230715T143000
DTEND:20230715T160000
SUMMARY:[A1] Port City Classics vs. [B1] Rw Manson/Carolina Elite
DESCRIPTION:Men 50 AA - International Senior Softball Association<br>ISSA
LOCATION:SW 2
CATEGORIES:QuickScores; Softball Game
TRANSP:0
DALARM:20230715T123000;PT10M;2;[A1] Port City Classics vs. [B1] Rw Manson/Carolina Elite
END:VEVENT
BEGIN:VEVENT
DTSTART:20230715T160000
DTEND:20230715T173000
SUMMARY:[A3] TLC vs. [A4] JDL EXPRESS
DESCRIPTION:Men 50 AA - International Senior Softball Association<br>ISSA
LOCATION:SW 4
CATEGORIES:QuickScores; Softball Game
TRANSP:0
DALARM:20230715T140000;PT10M;2;[A3] TLC vs. [A4] JDL EXPRESS
END:VEVENT
BEGIN:VEVENT
DTSTART:20230715T160000
DTEND:20230715T173000
SUMMARY:[B3] Flatline / Van Metre Homes vs. [B2] ShineOn
DESCRIPTION:Men 50 AA - International Senior Softball Association<br>ISSA
LOCATION:SW 2
CATEGORIES:QuickScores; Softball Game
TRANSP:0
DALARM:20230715T140000;PT10M;2;[B3] Flatline / Van Metre Homes vs. [B2] ShineOn
END:VEVENT
BEGIN:VEVENT
DTSTART:20230716T083000
DTEND:20230716T100000
SUMMARY:[B2] ShineOn vs. [A4] JDL EXPRESS
DESCRIPTION:Men 50 AA - International Senior Softball Association<br>ISSA
LOCATION:CP 3
CATEGORIES:QuickScores; Softball Game
TRANSP:0
DALARM:20230716T063000;PT10M;2;[B2] ShineOn vs. [A4] JDL EXPRESS
END:VEVENT
BEGIN:VEVENT
DTSTART:20230716T100000
DTEND:20230716T113000
SUMMARY:[B1] Rw Manson/Carolina Elite vs. [A4] JDL EXPRESS
DESCRIPTION:Men 50 AA - International Senior Softball Association<br>ISSA
LOCATION:CP 3
CATEGORIES:QuickScores; Softball Game
TRANSP:0
DALARM:20230716T080000;PT10M;2;[B1] Rw Manson/Carolina Elite vs. [A4] JDL EXPRESS
END:VEVENT
BEGIN:VEVENT
DTSTART:20230716T113000
DTEND:20230716T130000
SUMMARY:[A1] Port City Classics vs. [A4] JDL EXPRESS
DESCRIPTION:Men 50 AA - International Senior Softball Association<br>ISSA
LOCATION:CP 3
CATEGORIES:QuickScores; Softball Game
TRANSP:0
DALARM:20230716T093000;PT10M;2;[A1] Port City Classics vs. [A4] JDL EXPRESS
END:VEVENT
END:VCALENDAR
