BEGIN:VCALENDAR
VERSION:1.0
BEGIN:VEVENT
DTSTART:20230606T100000
DTEND:20230606T113000
SUMMARY:Reality Check 70's vs. Kentuckiana 70
DESCRIPTION:Men 70 AA - International Senior Softball Association<br>ISSA
LOCATION:KCS 3
CATEGORIES:QuickScores; Softball Game
TRANSP:0
DALARM:20230606T080000;PT10M;2;Reality Check 70's vs. Kentuckiana 70
END:VEVENT
BEGIN:VEVENT
DTSTART:20230606T100000
DTEND:20230606T113000
SUMMARY:Doc Martens vs. Strykers
DESCRIPTION:Men 70 AA - International Senior Softball Association<br>ISSA
LOCATION:KCS 2
CATEGORIES:QuickScores; Softball Game
TRANSP:0
DALARM:20230606T080000;PT10M;2;Doc Martens vs. Strykers
END:VEVENT
BEGIN:VEVENT
DTSTART:20230606T113000
DTEND:20230606T130000
SUMMARY:Strykers vs. Reality Check 70's
DESCRIPTION:Men 70 AA - International Senior Softball Association<br>ISSA
LOCATION:KCS 2
CATEGORIES:QuickScores; Softball Game
TRANSP:0
DALARM:20230606T093000;PT10M;2;Strykers vs. Reality Check 70's
END:VEVENT
BEGIN:VEVENT
DTSTART:20230606T113000
DTEND:20230606T130000
SUMMARY:Kentuckiana 70 vs. Deep South
DESCRIPTION:Men 70 AA - International Senior Softball Association<br>ISSA
LOCATION:KCS 3
CATEGORIES:QuickScores; Softball Game
TRANSP:0
DALARM:20230606T093000;PT10M;2;Kentuckiana 70 vs. Deep South
END:VEVENT
BEGIN:VEVENT
DTSTART:20230606T143000
DTEND:20230606T160000
SUMMARY:Deep South vs. Doc Martens
DESCRIPTION:Men 70 AA - International Senior Softball Association<br>ISSA
LOCATION:KCS 4
CATEGORIES:QuickScores; Softball Game
TRANSP:0
DALARM:20230606T123000;PT10M;2;Deep South vs. Doc Martens
END:VEVENT
BEGIN:VEVENT
DTSTART:20230607T093000
DTEND:20230607T110000
SUMMARY:[4] Deep South vs. [5] Strykers
DESCRIPTION:Men 70 AA - International Senior Softball Association<br>ISSA
LOCATION:KCS 3
CATEGORIES:QuickScores; Softball Game
TRANSP:0
DALARM:20230607T073000;PT10M;2;[4] Deep South vs. [5] Strykers
END:VEVENT
BEGIN:VEVENT
DTSTART:20230607T110000
DTEND:20230607T123000
SUMMARY:[2] Doc Martens vs. [3] Kentuckiana 70
DESCRIPTION:Men 70 AA - International Senior Softball Association<br>ISSA
LOCATION:KCS 2
CATEGORIES:QuickScores; Softball Game
TRANSP:0
DALARM:20230607T090000;PT10M;2;[2] Doc Martens vs. [3] Kentuckiana 70
END:VEVENT
BEGIN:VEVENT
DTSTART:20230607T110000
DTEND:20230607T123000
SUMMARY:[1] Reality Check 70's vs. [4] Deep South
DESCRIPTION:Men 70 AA - International Senior Softball Association<br>ISSA
LOCATION:KCS 3
CATEGORIES:QuickScores; Softball Game
TRANSP:0
DALARM:20230607T090000;PT10M;2;[1] Reality Check 70's vs. [4] Deep South
END:VEVENT
BEGIN:VEVENT
DTSTART:20230607T123000
DTEND:20230607T140000
SUMMARY:[2] Doc Martens vs. [5] Strykers
DESCRIPTION:Men 70 AA - International Senior Softball Association<br>ISSA
LOCATION:KCS 2
CATEGORIES:QuickScores; Softball Game
TRANSP:0
DALARM:20230607T103000;PT10M;2;[2] Doc Martens vs. [5] Strykers
END:VEVENT
BEGIN:VEVENT
DTSTART:20230607T140000
DTEND:20230607T153000
SUMMARY:[1] Reality Check 70's vs. [3] Kentuckiana 70
DESCRIPTION:Men 70 AA - International Senior Softball Association<br>ISSA
LOCATION:KCS 4
CATEGORIES:QuickScores; Softball Game
TRANSP:0
DALARM:20230607T120000;PT10M;2;[1] Reality Check 70's vs. [3] Kentuckiana 70
END:VEVENT
BEGIN:VEVENT
DTSTART:20230607T140000
DTEND:20230607T153000
SUMMARY:[2] Doc Martens vs. [4] Deep South
DESCRIPTION:Men 70 AA - International Senior Softball Association<br>ISSA
LOCATION:KCS 2
CATEGORIES:QuickScores; Softball Game
TRANSP:0
DALARM:20230607T120000;PT10M;2;[2] Doc Martens vs. [4] Deep South
END:VEVENT
BEGIN:VEVENT
DTSTART:20230608T083000
DTEND:20230608T100000
SUMMARY:[1] Reality Check 70's vs. [4] Deep South
DESCRIPTION:Men 70 AA - International Senior Softball Association<br>ISSA
LOCATION:KCS 3
CATEGORIES:QuickScores; Softball Game
TRANSP:0
DALARM:20230608T063000;PT10M;2;[1] Reality Check 70's vs. [4] Deep South
END:VEVENT
BEGIN:VEVENT
DTSTART:20230608T100000
DTEND:20230608T113000
SUMMARY:[3] Kentuckiana 70 vs. [1] Reality Check 70's
DESCRIPTION:Men 70 AA - International Senior Softball Association<br>ISSA
LOCATION:KCS 3
CATEGORIES:QuickScores; Softball Game
TRANSP:0
DALARM:20230608T080000;PT10M;2;[3] Kentuckiana 70 vs. [1] Reality Check 70's
END:VEVENT
END:VCALENDAR
