BEGIN:VCALENDAR
VERSION:1.0
BEGIN:VEVENT
DTSTART:20230520T150000
DTEND:20230520T163000
SUMMARY:Hot Flashers vs. All Mixed Up 50's
DESCRIPTION:Women 50 AAA - International Senior Softball Association<br>ISSA
LOCATION:CSC-TX 5(Yellow)
CATEGORIES:QuickScores; Softball Game
TRANSP:0
DALARM:20230520T130000;PT10M;2;Hot Flashers vs. All Mixed Up 50's
END:VEVENT
BEGIN:VEVENT
DTSTART:20230520T163000
DTEND:20230520T180000
SUMMARY:All Mixed Up 50's vs. Hot Flashers
DESCRIPTION:Women 50 AAA - International Senior Softball Association<br>ISSA
LOCATION:CSC-TX 5(Yellow)
CATEGORIES:QuickScores; Softball Game
TRANSP:0
DALARM:20230520T143000;PT10M;2;All Mixed Up 50's vs. Hot Flashers
END:VEVENT
BEGIN:VEVENT
DTSTART:20230521T100000
DTEND:20230521T113000
SUMMARY:[1] Hot Flashers vs. [2] All Mixed Up 50's
DESCRIPTION:Women 50 AAA - International Senior Softball Association<br>ISSA
LOCATION:CSC-TX 1(Green)
CATEGORIES:QuickScores; Softball Game
TRANSP:0
DALARM:20230521T080000;PT10M;2;[1] Hot Flashers vs. [2] All Mixed Up 50's
END:VEVENT
BEGIN:VEVENT
DTSTART:20230521T113000
DTEND:20230521T130000
SUMMARY:Winner of Game 1 vs. Loser of Game 1
DESCRIPTION:Women 50 AAA - International Senior Softball Association<br>ISSA
LOCATION:CSC-TX 1(Green)
CATEGORIES:QuickScores; Softball Game
TRANSP:0
DALARM:20230521T093000;PT10M;2;Winner of Game 1 vs. Loser of Game 1
END:VEVENT
BEGIN:VEVENT
DTSTART:20230521T130000
DTEND:20230521T143000
SUMMARY:Winner of Game 2 vs. Loser of Game 2
DESCRIPTION:Women 50 AAA - International Senior Softball Association<br>ISSA
LOCATION:CSC-TX 1(Green)
CATEGORIES:QuickScores; Softball Game
TRANSP:0
DALARM:20230521T110000;PT10M;2;Winner of Game 2 vs. Loser of Game 2
END:VEVENT
END:VCALENDAR
