BEGIN:VCALENDAR
VERSION:1.0
BEGIN:VEVENT
DTSTART:20230506T083000
DTEND:20230506T100000
SUMMARY:Holy City Hitmen vs. Team Takeover
DESCRIPTION:Men 60 Major - International Senior Softball Association<br>ISSA
LOCATION:BP 4
CATEGORIES:QuickScores; Softball Game
TRANSP:0
DALARM:20230506T063000;PT10M;2;Holy City Hitmen vs. Team Takeover
END:VEVENT
BEGIN:VEVENT
DTSTART:20230506T100000
DTEND:20230506T113000
SUMMARY:NoVa Force 60 vs. Holy City Hitmen
DESCRIPTION:Men 60 Major - International Senior Softball Association<br>ISSA
LOCATION:BP 4
CATEGORIES:QuickScores; Softball Game
TRANSP:0
DALARM:20230506T080000;PT10M;2;NoVa Force 60 vs. Holy City Hitmen
END:VEVENT
BEGIN:VEVENT
DTSTART:20230506T130000
DTEND:20230506T143000
SUMMARY:NoVa Force 60 vs. Team Takeover
DESCRIPTION:Men 60 Major - International Senior Softball Association<br>ISSA
LOCATION:BP 2
CATEGORIES:QuickScores; Softball Game
TRANSP:0
DALARM:20230506T110000;PT10M;2;NoVa Force 60 vs. Team Takeover
END:VEVENT
BEGIN:VEVENT
DTSTART:20230506T160000
DTEND:20230506T173000
SUMMARY:Holy City Hitmen vs. NoVa Force 60
DESCRIPTION:Men 60 Major - International Senior Softball Association<br>ISSA
LOCATION:BP 1
CATEGORIES:QuickScores; Softball Game
TRANSP:0
DALARM:20230506T140000;PT10M;2;Holy City Hitmen vs. NoVa Force 60
END:VEVENT
BEGIN:VEVENT
DTSTART:20230506T173000
DTEND:20230506T190000
SUMMARY:NoVa Force 60 vs. Holy City Hitmen
DESCRIPTION:Men 60 Major - International Senior Softball Association<br>ISSA
LOCATION:BP 1
CATEGORIES:QuickScores; Softball Game
TRANSP:0
DALARM:20230506T153000;PT10M;2;NoVa Force 60 vs. Holy City Hitmen
END:VEVENT
END:VCALENDAR
