BEGIN:VCALENDAR
VERSION:1.0
BEGIN:VEVENT
DTSTART:20230505T160000
DTEND:20230505T173000
SUMMARY:Dan Smith 55 vs. Bause/MP 55
DESCRIPTION:Men 55 Major/Major Gold - International Senior Softball Association<br>ISSA
LOCATION:BP 3
CATEGORIES:QuickScores; Softball Game
TRANSP:0
DALARM:20230505T140000;PT10M;2;Dan Smith 55 vs. Bause/MP 55
END:VEVENT
BEGIN:VEVENT
DTSTART:20230505T160000
DTEND:20230505T173000
SUMMARY:Steel City A's vs. 50 Core Sports & Apparel  Softball
DESCRIPTION:Men 55 Major/Major Gold - International Senior Softball Association<br>ISSA
LOCATION:BP 4
CATEGORIES:QuickScores; Softball Game
TRANSP:0
DALARM:20230505T140000;PT10M;2;Steel City A's vs. 50 Core Sports & Apparel  Softball
END:VEVENT
BEGIN:VEVENT
DTSTART:20230505T173000
DTEND:20230505T190000
SUMMARY:Bause/MP 55 vs. Steel City A's
DESCRIPTION:Men 55 Major/Major Gold - International Senior Softball Association<br>ISSA
LOCATION:BP 3
CATEGORIES:QuickScores; Softball Game
TRANSP:0
DALARM:20230505T153000;PT10M;2;Bause/MP 55 vs. Steel City A's
END:VEVENT
BEGIN:VEVENT
DTSTART:20230505T173000
DTEND:20230505T190000
SUMMARY:50 Core Sports & Apparel  Softball vs. Dan Smith 55
DESCRIPTION:Men 55 Major/Major Gold - International Senior Softball Association<br>ISSA
LOCATION:BP 4
CATEGORIES:QuickScores; Softball Game
TRANSP:0
DALARM:20230505T153000;PT10M;2;50 Core Sports & Apparel  Softball vs. Dan Smith 55
END:VEVENT
BEGIN:VEVENT
DTSTART:20230506T113000
DTEND:20230506T130000
SUMMARY:50 Core Sports & Apparel  Softball vs. Dan Smith 55
DESCRIPTION:Men 55 Major/Major Gold - International Senior Softball Association<br>ISSA
LOCATION:BP 1
CATEGORIES:QuickScores; Softball Game
TRANSP:0
DALARM:20230506T093000;PT10M;2;50 Core Sports & Apparel  Softball vs. Dan Smith 55
END:VEVENT
BEGIN:VEVENT
DTSTART:20230506T113000
DTEND:20230506T130000
SUMMARY:Bause/MP 55 vs. Steel City A's
DESCRIPTION:Men 55 Major/Major Gold - International Senior Softball Association<br>ISSA
LOCATION:BP 2
CATEGORIES:QuickScores; Softball Game
TRANSP:0
DALARM:20230506T093000;PT10M;2;Bause/MP 55 vs. Steel City A's
END:VEVENT
BEGIN:VEVENT
DTSTART:20230506T143000
DTEND:20230506T160000
SUMMARY:Bause/MP 55 vs. Dan Smith 55
DESCRIPTION:Men 55 Major/Major Gold - International Senior Softball Association<br>ISSA
LOCATION:BP 4
CATEGORIES:QuickScores; Softball Game
TRANSP:0
DALARM:20230506T123000;PT10M;2;Bause/MP 55 vs. Dan Smith 55
END:VEVENT
BEGIN:VEVENT
DTSTART:20230506T173000
DTEND:20230506T190000
SUMMARY:Steel City A's vs. 50 Core Sports & Apparel  Softball
DESCRIPTION:Men 55 Major/Major Gold - International Senior Softball Association<br>ISSA
LOCATION:BP 2
CATEGORIES:QuickScores; Softball Game
TRANSP:0
DALARM:20230506T153000;PT10M;2;Steel City A's vs. 50 Core Sports & Apparel  Softball
END:VEVENT
BEGIN:VEVENT
DTSTART:20230507T083000
DTEND:20230507T100000
SUMMARY:Dan Smith 55 vs. 50 Core Sports & Apparel  Softball
DESCRIPTION:Men 55 Major/Major Gold - International Senior Softball Association<br>ISSA
LOCATION:BP 3
CATEGORIES:QuickScores; Softball Game
TRANSP:0
DALARM:20230507T063000;PT10M;2;Dan Smith 55 vs. 50 Core Sports & Apparel  Softball
END:VEVENT
BEGIN:VEVENT
DTSTART:20230507T100000
DTEND:20230507T113000
SUMMARY:Bause/MP 55 vs. Dan Smith 55
DESCRIPTION:Men 55 Major/Major Gold - International Senior Softball Association<br>ISSA
LOCATION:BP 3
CATEGORIES:QuickScores; Softball Game
TRANSP:0
DALARM:20230507T080000;PT10M;2;Bause/MP 55 vs. Dan Smith 55
END:VEVENT
BEGIN:VEVENT
DTSTART:20230507T113000
DTEND:20230507T130000
SUMMARY:Dan Smith 55 vs. Bause/MP 55
DESCRIPTION:Men 55 Major/Major Gold - International Senior Softball Association<br>ISSA
LOCATION:BP 3
CATEGORIES:QuickScores; Softball Game
TRANSP:0
DALARM:20230507T093000;PT10M;2;Dan Smith 55 vs. Bause/MP 55
END:VEVENT
END:VCALENDAR
