BEGIN:VCALENDAR
VERSION:1.0
BEGIN:VEVENT
DTSTART:20230506T113000
DTEND:20230506T130000
SUMMARY:Killman's/LewisLawn/Rockhill Merchants vs. G220/Automotive Triage
DESCRIPTION:Men 40 AAA/Major/Major Gold - International Senior Softball Association<br>ISSA
LOCATION:BP 3
CATEGORIES:QuickScores; Softball Game
TRANSP:0
DALARM:20230506T093000;PT10M;2;Killman's/LewisLawn/Rockhill Merchants vs. G220/Automotive Triage
END:VEVENT
BEGIN:VEVENT
DTSTART:20230506T113000
DTEND:20230506T130000
SUMMARY:Carolina Elite Midwest vs. Sarafis Painting and Construction
DESCRIPTION:Men 40 AAA/Major/Major Gold - International Senior Softball Association<br>ISSA
LOCATION:BP 4
CATEGORIES:QuickScores; Softball Game
TRANSP:0
DALARM:20230506T093000;PT10M;2;Carolina Elite Midwest vs. Sarafis Painting and Construction
END:VEVENT
BEGIN:VEVENT
DTSTART:20230506T130000
DTEND:20230506T143000
SUMMARY:One Bat 40 vs. Carolina Elite Midwest
DESCRIPTION:Men 40 AAA/Major/Major Gold - International Senior Softball Association<br>ISSA
LOCATION:BP 4
CATEGORIES:QuickScores; Softball Game
TRANSP:0
DALARM:20230506T110000;PT10M;2;One Bat 40 vs. Carolina Elite Midwest
END:VEVENT
BEGIN:VEVENT
DTSTART:20230506T130000
DTEND:20230506T143000
SUMMARY:Sarafis Painting and Construction vs. Killman's/LewisLawn/Rockhill Merchants
DESCRIPTION:Men 40 AAA/Major/Major Gold - International Senior Softball Association<br>ISSA
LOCATION:BP 3
CATEGORIES:QuickScores; Softball Game
TRANSP:0
DALARM:20230506T110000;PT10M;2;Sarafis Painting and Construction vs. Killman's/LewisLawn/Rockhill Merchants
END:VEVENT
BEGIN:VEVENT
DTSTART:20230506T143000
DTEND:20230506T160000
SUMMARY:G220/Automotive Triage vs. One Bat 40
DESCRIPTION:Men 40 AAA/Major/Major Gold - International Senior Softball Association<br>ISSA
LOCATION:BP 3
CATEGORIES:QuickScores; Softball Game
TRANSP:0
DALARM:20230506T123000;PT10M;2;G220/Automotive Triage vs. One Bat 40
END:VEVENT
END:VCALENDAR
