BEGIN:VCALENDAR
VERSION:1.0
BEGIN:VEVENT
DTSTART:20230516T180000
DTEND:20230516T190000
SUMMARY:Warwood Redbirds vs. Pike Cubs
DESCRIPTION:Bronco League - 
LOCATION:Pleasanton Field
CATEGORIES:QuickScores; Baseball - Youth Game
TRANSP:0
DALARM:20230516T160000;PT10M;2;Warwood Redbirds vs. Pike Cubs
END:VEVENT
BEGIN:VEVENT
DTSTART:20230516T180000
DTEND:20230516T190000
SUMMARY:Woodsdale Tigers vs. Cameron Gold
DESCRIPTION:Bronco League - 
LOCATION:Cameron-Bronco
CATEGORIES:QuickScores; Baseball - Youth Game
TRANSP:0
DALARM:20230516T160000;PT10M;2;Woodsdale Tigers vs. Cameron Gold
END:VEVENT
BEGIN:VEVENT
DTSTART:20230516T180000
DTEND:20230516T190000
SUMMARY:M&M Blue Jays vs. Benwood
DESCRIPTION:Bronco League - 
LOCATION:Benwood - Pony
CATEGORIES:QuickScores; Baseball - Youth Game
TRANSP:0
DALARM:20230516T160000;PT10M;2;M&M Blue Jays vs. Benwood
END:VEVENT
BEGIN:VEVENT
DTSTART:20230516T180000
DTEND:20230516T190000
SUMMARY:M&M Panthers vs. Bethlehem Pirates
DESCRIPTION:Bronco League - 
LOCATION:Bethlehem-Community Park
CATEGORIES:QuickScores; Baseball - Youth Game
TRANSP:0
DALARM:20230516T160000;PT10M;2;M&M Panthers vs. Bethlehem Pirates
END:VEVENT
BEGIN:VEVENT
DTSTART:20230516T180000
DTEND:20230516T190000
SUMMARY:Island Tigers vs. Elm Grove Reds
DESCRIPTION:Bronco League - 
LOCATION:Patterson-Field 2 (Middle Field)
CATEGORIES:QuickScores; Baseball - Youth Game
TRANSP:0
DALARM:20230516T160000;PT10M;2;Island Tigers vs. Elm Grove Reds
END:VEVENT
BEGIN:VEVENT
DTSTART:20230519T180000
DTEND:20230519T190000
SUMMARY:M&M Panthers vs. Island Tigers
DESCRIPTION:Bronco League - 
LOCATION:Belle Isle, Wheeling Island
CATEGORIES:QuickScores; Baseball - Youth Game
TRANSP:0
DALARM:20230519T160000;PT10M;2;M&M Panthers vs. Island Tigers
END:VEVENT
BEGIN:VEVENT
DTSTART:20230519T180000
DTEND:20230519T190000
SUMMARY:M&M Blue Jays vs. Elm Grove Reds
DESCRIPTION:Bronco League - 
LOCATION:Patterson-Field 2 (Middle Field)
CATEGORIES:QuickScores; Baseball - Youth Game
TRANSP:0
DALARM:20230519T160000;PT10M;2;M&M Blue Jays vs. Elm Grove Reds
END:VEVENT
BEGIN:VEVENT
DTSTART:20230519T180000
DTEND:20230519T190000
SUMMARY:Cameron Gold vs. Bethlehem Pirates
DESCRIPTION:Bronco League - 
LOCATION:Bethlehem-Community Park
CATEGORIES:QuickScores; Baseball - Youth Game
TRANSP:0
DALARM:20230519T160000;PT10M;2;Cameron Gold vs. Bethlehem Pirates
END:VEVENT
BEGIN:VEVENT
DTSTART:20230519T180000
DTEND:20230519T190000
SUMMARY:Warwood Redbirds vs. Benwood
DESCRIPTION:Bronco League - 
LOCATION:Benwood - Pony
CATEGORIES:QuickScores; Baseball - Youth Game
TRANSP:0
DALARM:20230519T160000;PT10M;2;Warwood Redbirds vs. Benwood
END:VEVENT
BEGIN:VEVENT
DTSTART:20230519T180000
DTEND:20230519T190000
SUMMARY:Woodsdale Tigers vs. Pike Cubs
DESCRIPTION:Bronco League - 
LOCATION:Pleasanton Field
CATEGORIES:QuickScores; Baseball - Youth Game
TRANSP:0
DALARM:20230519T160000;PT10M;2;Woodsdale Tigers vs. Pike Cubs
END:VEVENT
BEGIN:VEVENT
DTSTART:20230523T180000
DTEND:20230523T190000
SUMMARY:Elm Grove Reds vs. Bethlehem Pirates
DESCRIPTION:Bronco League - 
LOCATION:Bethlehem-Community Park
CATEGORIES:QuickScores; Baseball - Youth Game
TRANSP:0
DALARM:20230523T160000;PT10M;2;Elm Grove Reds vs. Bethlehem Pirates
END:VEVENT
BEGIN:VEVENT
DTSTART:20230523T180000
DTEND:20230523T190000
SUMMARY:Island Tigers vs. Benwood
DESCRIPTION:Bronco League - 
LOCATION:Benwood - Pony
CATEGORIES:QuickScores; Baseball - Youth Game
TRANSP:0
DALARM:20230523T160000;PT10M;2;Island Tigers vs. Benwood
END:VEVENT
BEGIN:VEVENT
DTSTART:20230523T180000
DTEND:20230523T190000
SUMMARY:M&M Panthers vs. Woodsdale Tigers
DESCRIPTION:Bronco League - 
LOCATION:I470-Field #4
CATEGORIES:QuickScores; Baseball - Youth Game
TRANSP:0
DALARM:20230523T160000;PT10M;2;M&M Panthers vs. Woodsdale Tigers
END:VEVENT
BEGIN:VEVENT
DTSTART:20230523T180000
DTEND:20230523T190000
SUMMARY:Warwood Redbirds vs. M&M Blue Jays
DESCRIPTION:Bronco League - 
LOCATION:Mozart-Bronco
CATEGORIES:QuickScores; Baseball - Youth Game
TRANSP:0
DALARM:20230523T160000;PT10M;2;Warwood Redbirds vs. M&M Blue Jays
END:VEVENT
BEGIN:VEVENT
DTSTART:20230523T180000
DTEND:20230523T190000
SUMMARY:Cameron Gold vs. Pike Cubs
DESCRIPTION:Bronco League - 
LOCATION:Pleasanton Field
CATEGORIES:QuickScores; Baseball - Youth Game
TRANSP:0
DALARM:20230523T160000;PT10M;2;Cameron Gold vs. Pike Cubs
END:VEVENT
BEGIN:VEVENT
DTSTART:20230526T180000
DTEND:20230526T190000
SUMMARY:Benwood vs. Pike Cubs
DESCRIPTION:Bronco League - 
LOCATION:Pleasanton Field
CATEGORIES:QuickScores; Baseball - Youth Game
TRANSP:0
DALARM:20230526T160000;PT10M;2;Benwood vs. Pike Cubs
END:VEVENT
BEGIN:VEVENT
DTSTART:20230526T180000
DTEND:20230526T190000
SUMMARY:Woodsdale Tigers vs. Bethlehem Pirates
DESCRIPTION:Bronco League - 
LOCATION:Bethlehem-Community Park
CATEGORIES:QuickScores; Baseball - Youth Game
TRANSP:0
DALARM:20230526T160000;PT10M;2;Woodsdale Tigers vs. Bethlehem Pirates
END:VEVENT
BEGIN:VEVENT
DTSTART:20230526T180000
DTEND:20230526T190000
SUMMARY:Warwood Redbirds vs. Elm Grove Reds
DESCRIPTION:Bronco League - 
LOCATION:Patterson-Field 2 (Middle Field)
CATEGORIES:QuickScores; Baseball - Youth Game
TRANSP:0
DALARM:20230526T160000;PT10M;2;Warwood Redbirds vs. Elm Grove Reds
END:VEVENT
BEGIN:VEVENT
DTSTART:20230526T180000
DTEND:20230526T190000
SUMMARY:Cameron Gold vs. Island Tigers
DESCRIPTION:Bronco League - 
LOCATION:Belle Isle, Wheeling Island
CATEGORIES:QuickScores; Baseball - Youth Game
TRANSP:0
DALARM:20230526T160000;PT10M;2;Cameron Gold vs. Island Tigers
END:VEVENT
BEGIN:VEVENT
DTSTART:20230526T180000
DTEND:20230526T190000
SUMMARY:M&M Blue Jays vs. M&M Panthers
DESCRIPTION:Bronco League - 
LOCATION:Mozart-Bronco
CATEGORIES:QuickScores; Baseball - Youth Game
TRANSP:0
DALARM:20230526T160000;PT10M;2;M&M Blue Jays vs. M&M Panthers
END:VEVENT
BEGIN:VEVENT
DTSTART:20230530T180000
DTEND:20230530T190000
SUMMARY:Bethlehem Pirates vs. Benwood
DESCRIPTION:Bronco League - 
LOCATION:Benwood - Pony
CATEGORIES:QuickScores; Baseball - Youth Game
TRANSP:0
DALARM:20230530T160000;PT10M;2;Bethlehem Pirates vs. Benwood
END:VEVENT
BEGIN:VEVENT
DTSTART:20230530T180000
DTEND:20230530T190000
SUMMARY:Elm Grove Reds vs. Woodsdale Tigers
DESCRIPTION:Bronco League - 
LOCATION:I470-Field #4
CATEGORIES:QuickScores; Baseball - Youth Game
TRANSP:0
DALARM:20230530T160000;PT10M;2;Elm Grove Reds vs. Woodsdale Tigers
END:VEVENT
BEGIN:VEVENT
DTSTART:20230530T180000
DTEND:20230530T190000
SUMMARY:Island Tigers vs. Warwood Redbirds
DESCRIPTION:Bronco League - 
LOCATION:Lock 12-Warwood
CATEGORIES:QuickScores; Baseball - Youth Game
TRANSP:0
DALARM:20230530T160000;PT10M;2;Island Tigers vs. Warwood Redbirds
END:VEVENT
BEGIN:VEVENT
DTSTART:20230530T180000
DTEND:20230530T190000
SUMMARY:M&M Panthers vs. Cameron Gold
DESCRIPTION:Bronco League - 
LOCATION:Cameron-Bronco
CATEGORIES:QuickScores; Baseball - Youth Game
TRANSP:0
DALARM:20230530T160000;PT10M;2;M&M Panthers vs. Cameron Gold
END:VEVENT
BEGIN:VEVENT
DTSTART:20230530T180000
DTEND:20230530T190000
SUMMARY:M&M Blue Jays vs. Pike Cubs
DESCRIPTION:Bronco League - 
LOCATION:Pleasanton Field
CATEGORIES:QuickScores; Baseball - Youth Game
TRANSP:0
DALARM:20230530T160000;PT10M;2;M&M Blue Jays vs. Pike Cubs
END:VEVENT
BEGIN:VEVENT
DTSTART:20230602T180000
DTEND:20230602T190000
SUMMARY:Bethlehem Pirates vs. Pike Cubs
DESCRIPTION:Bronco League - 
LOCATION:Pleasanton Field
CATEGORIES:QuickScores; Baseball - Youth Game
TRANSP:0
DALARM:20230602T160000;PT10M;2;Bethlehem Pirates vs. Pike Cubs
END:VEVENT
BEGIN:VEVENT
DTSTART:20230602T180000
DTEND:20230602T190000
SUMMARY:Benwood vs. Elm Grove Reds
DESCRIPTION:Bronco League - 
LOCATION:Patterson-Field 2 (Middle Field)
CATEGORIES:QuickScores; Baseball - Youth Game
TRANSP:0
DALARM:20230602T160000;PT10M;2;Benwood vs. Elm Grove Reds
END:VEVENT
BEGIN:VEVENT
DTSTART:20230602T180000
DTEND:20230602T190000
SUMMARY:Woodsdale Tigers vs. Island Tigers
DESCRIPTION:Bronco League - 
LOCATION:Belle Isle, Wheeling Island
CATEGORIES:QuickScores; Baseball - Youth Game
TRANSP:0
DALARM:20230602T160000;PT10M;2;Woodsdale Tigers vs. Island Tigers
END:VEVENT
BEGIN:VEVENT
DTSTART:20230602T180000
DTEND:20230602T190000
SUMMARY:Warwood Redbirds vs. M&M Panthers
DESCRIPTION:Bronco League - 
LOCATION:Mozart-Bronco
CATEGORIES:QuickScores; Baseball - Youth Game
TRANSP:0
DALARM:20230602T160000;PT10M;2;Warwood Redbirds vs. M&M Panthers
END:VEVENT
BEGIN:VEVENT
DTSTART:20230602T180000
DTEND:20230602T190000
SUMMARY:M&M Blue Jays vs. Cameron Gold
DESCRIPTION:Bronco League - 
LOCATION:Cameron
CATEGORIES:QuickScores; Baseball - Youth Game
TRANSP:0
DALARM:20230602T160000;PT10M;2;M&M Blue Jays vs. Cameron Gold
END:VEVENT
BEGIN:VEVENT
DTSTART:20230604T130000
DTEND:20230604T140000
SUMMARY:Woodsdale Tigers vs. M&M Blue Jays
DESCRIPTION:Bronco League - 
LOCATION:Mozart-Bronco
CATEGORIES:QuickScores; Baseball - Youth Game
TRANSP:0
DALARM:20230604T110000;PT10M;2;Woodsdale Tigers vs. M&M Blue Jays
END:VEVENT
BEGIN:VEVENT
DTSTART:20230606T180000
DTEND:20230606T190000
SUMMARY:Island Tigers vs. M&M Blue Jays
DESCRIPTION:Bronco League - 
LOCATION:Mozart-Bronco
CATEGORIES:QuickScores; Baseball - Youth Game
TRANSP:0
DALARM:20230606T160000;PT10M;2;Island Tigers vs. M&M Blue Jays
END:VEVENT
BEGIN:VEVENT
DTSTART:20230606T180000
DTEND:20230606T190000
SUMMARY:Elm Grove Reds vs. Cameron Gold
DESCRIPTION:Bronco League - 
LOCATION:Cameron-Bronco
CATEGORIES:QuickScores; Baseball - Youth Game
TRANSP:0
DALARM:20230606T160000;PT10M;2;Elm Grove Reds vs. Cameron Gold
END:VEVENT
BEGIN:VEVENT
DTSTART:20230606T180000
DTEND:20230606T190000
SUMMARY:Bethlehem Pirates vs. Warwood Redbirds
DESCRIPTION:Bronco League - 
LOCATION:Lock 12-Warwood
CATEGORIES:QuickScores; Baseball - Youth Game
TRANSP:0
DALARM:20230606T160000;PT10M;2;Bethlehem Pirates vs. Warwood Redbirds
END:VEVENT
BEGIN:VEVENT
DTSTART:20230606T180000
DTEND:20230606T190000
SUMMARY:Benwood vs. Woodsdale Tigers
DESCRIPTION:Bronco League - 
LOCATION:I470-Field #4
CATEGORIES:QuickScores; Baseball - Youth Game
TRANSP:0
DALARM:20230606T160000;PT10M;2;Benwood vs. Woodsdale Tigers
END:VEVENT
BEGIN:VEVENT
DTSTART:20230606T180000
DTEND:20230606T190000
SUMMARY:M&M Panthers vs. Pike Cubs
DESCRIPTION:Bronco League - 
LOCATION:Pleasanton Field
CATEGORIES:QuickScores; Baseball - Youth Game
TRANSP:0
DALARM:20230606T160000;PT10M;2;M&M Panthers vs. Pike Cubs
END:VEVENT
BEGIN:VEVENT
DTSTART:20230609T180000
DTEND:20230609T190000
SUMMARY:Warwood Redbirds vs. Cameron Gold
DESCRIPTION:Bronco League - 
LOCATION:Cameron-Bronco
CATEGORIES:QuickScores; Baseball - Youth Game
TRANSP:0
DALARM:20230609T160000;PT10M;2;Warwood Redbirds vs. Cameron Gold
END:VEVENT
BEGIN:VEVENT
DTSTART:20230609T180000
DTEND:20230609T190000
SUMMARY:Benwood vs. M&M Panthers
DESCRIPTION:Bronco League - 
LOCATION:Mozart-Bronco
CATEGORIES:QuickScores; Baseball - Youth Game
TRANSP:0
DALARM:20230609T160000;PT10M;2;Benwood vs. M&M Panthers
END:VEVENT
BEGIN:VEVENT
DTSTART:20230609T180000
DTEND:20230609T190000
SUMMARY:Bethlehem Pirates vs. Island Tigers
DESCRIPTION:Bronco League - 
LOCATION:Belle Isle, Wheeling Island
CATEGORIES:QuickScores; Baseball - Youth Game
TRANSP:0
DALARM:20230609T160000;PT10M;2;Bethlehem Pirates vs. Island Tigers
END:VEVENT
BEGIN:VEVENT
DTSTART:20230609T180000
DTEND:20230609T190000
SUMMARY:Elm Grove Reds vs. Pike Cubs
DESCRIPTION:Bronco League - 
LOCATION:Pleasanton Field
CATEGORIES:QuickScores; Baseball - Youth Game
TRANSP:0
DALARM:20230609T160000;PT10M;2;Elm Grove Reds vs. Pike Cubs
END:VEVENT
BEGIN:VEVENT
DTSTART:20230611T130000
DTEND:20230611T140000
SUMMARY:Elm Grove Reds vs. M&M Panthers
DESCRIPTION:Bronco League - 
LOCATION:Mozart-Bronco
CATEGORIES:QuickScores; Baseball - Youth Game
TRANSP:0
DALARM:20230611T110000;PT10M;2;Elm Grove Reds vs. M&M Panthers
END:VEVENT
BEGIN:VEVENT
DTSTART:20230611T180000
DTEND:20230611T190000
SUMMARY:Bethlehem Pirates vs. M&M Blue Jays
DESCRIPTION:Bronco League - 
LOCATION:Mozart-Bronco
CATEGORIES:QuickScores; Baseball - Youth Game
TRANSP:0
DALARM:20230611T160000;PT10M;2;Bethlehem Pirates vs. M&M Blue Jays
END:VEVENT
BEGIN:VEVENT
DTSTART:20230613T180000
DTEND:20230613T190000
SUMMARY:Elm Grove Reds vs. Island Tigers
DESCRIPTION:Bronco League - 
LOCATION:Belle Isle, Wheeling Island
CATEGORIES:QuickScores; Baseball - Youth Game
TRANSP:0
DALARM:20230613T160000;PT10M;2;Elm Grove Reds vs. Island Tigers
END:VEVENT
BEGIN:VEVENT
DTSTART:20230613T180000
DTEND:20230613T190000
SUMMARY:Cameron Gold vs. Woodsdale Tigers
DESCRIPTION:Bronco League - 
LOCATION:I470-Field #4
CATEGORIES:QuickScores; Baseball - Youth Game
TRANSP:0
DALARM:20230613T160000;PT10M;2;Cameron Gold vs. Woodsdale Tigers
END:VEVENT
BEGIN:VEVENT
DTSTART:20230613T180000
DTEND:20230613T190000
SUMMARY:Benwood vs. M&M Blue Jays
DESCRIPTION:Bronco League - 
LOCATION:Mozart-Bronco
CATEGORIES:QuickScores; Baseball - Youth Game
TRANSP:0
DALARM:20230613T160000;PT10M;2;Benwood vs. M&M Blue Jays
END:VEVENT
BEGIN:VEVENT
DTSTART:20230613T180000
DTEND:20230613T190000
SUMMARY:Pike Cubs vs. Warwood Redbirds
DESCRIPTION:Bronco League - 
LOCATION:Lock 12-Warwood
CATEGORIES:QuickScores; Baseball - Youth Game
TRANSP:0
DALARM:20230613T160000;PT10M;2;Pike Cubs vs. Warwood Redbirds
END:VEVENT
BEGIN:VEVENT
DTSTART:20230616T180000
DTEND:20230616T190000
SUMMARY:Benwood vs. Cameron Gold
DESCRIPTION:Bronco League - 
LOCATION:Cameron-Bronco
CATEGORIES:QuickScores; Baseball - Youth Game
TRANSP:0
DALARM:20230616T160000;PT10M;2;Benwood vs. Cameron Gold
END:VEVENT
BEGIN:VEVENT
DTSTART:20230616T180000
DTEND:20230616T190000
SUMMARY:Woodsdale Tigers vs. Warwood Redbirds
DESCRIPTION:Bronco League - 
LOCATION:Lock 12-Warwood
CATEGORIES:QuickScores; Baseball - Youth Game
TRANSP:0
DALARM:20230616T160000;PT10M;2;Woodsdale Tigers vs. Warwood Redbirds
END:VEVENT
BEGIN:VEVENT
DTSTART:20230616T180000
DTEND:20230616T190000
SUMMARY:Island Tigers vs. Pike Cubs
DESCRIPTION:Bronco League - 
LOCATION:Pleasanton Field
CATEGORIES:QuickScores; Baseball - Youth Game
TRANSP:0
DALARM:20230616T160000;PT10M;2;Island Tigers vs. Pike Cubs
END:VEVENT
BEGIN:VEVENT
DTSTART:20230616T180000
DTEND:20230616T190000
SUMMARY:Bethlehem Pirates vs. M&M Panthers
DESCRIPTION:Bronco League - 
LOCATION:Mozart-Bronco
CATEGORIES:QuickScores; Baseball - Youth Game
TRANSP:0
DALARM:20230616T160000;PT10M;2;Bethlehem Pirates vs. M&M Panthers
END:VEVENT
BEGIN:VEVENT
DTSTART:20230618T130000
DTEND:20230618T140000
SUMMARY:Benwood vs. Island Tigers
DESCRIPTION:Bronco League - 
LOCATION:Belle Isle, Wheeling Island
CATEGORIES:QuickScores; Baseball - Youth Game
TRANSP:0
DALARM:20230618T110000;PT10M;2;Benwood vs. Island Tigers
END:VEVENT
BEGIN:VEVENT
DTSTART:20230618T173000
DTEND:20230618T183000
SUMMARY:Woodsdale Tigers vs. M&M Panthers
DESCRIPTION:Bronco League - 
LOCATION:Mozart-Bronco
CATEGORIES:QuickScores; Baseball - Youth Game
TRANSP:0
DALARM:20230618T153000;PT10M;2;Woodsdale Tigers vs. M&M Panthers
END:VEVENT
BEGIN:VEVENT
DTSTART:20230620T180000
DTEND:20230620T190000
SUMMARY:Elm Grove Reds vs. M&M Blue Jays
DESCRIPTION:Bronco League - 
LOCATION:Mozart-Bronco
CATEGORIES:QuickScores; Baseball - Youth Game
TRANSP:0
DALARM:20230620T160000;PT10M;2;Elm Grove Reds vs. M&M Blue Jays
END:VEVENT
BEGIN:VEVENT
DTSTART:20230620T180000
DTEND:20230620T190000
SUMMARY:Bethlehem Pirates vs. Cameron Gold
DESCRIPTION:Bronco League - 
LOCATION:Cameron-Bronco
CATEGORIES:QuickScores; Baseball - Youth Game
TRANSP:0
DALARM:20230620T160000;PT10M;2;Bethlehem Pirates vs. Cameron Gold
END:VEVENT
BEGIN:VEVENT
DTSTART:20230620T180000
DTEND:20230620T190000
SUMMARY:Benwood vs. Warwood Redbirds
DESCRIPTION:Bronco League - 
LOCATION:Lock 12-Warwood
CATEGORIES:QuickScores; Baseball - Youth Game
TRANSP:0
DALARM:20230620T160000;PT10M;2;Benwood vs. Warwood Redbirds
END:VEVENT
BEGIN:VEVENT
DTSTART:20230620T180000
DTEND:20230620T190000
SUMMARY:Pike Cubs vs. Woodsdale Tigers
DESCRIPTION:Bronco League - 
LOCATION:I470-Field #4
CATEGORIES:QuickScores; Baseball - Youth Game
TRANSP:0
DALARM:20230620T160000;PT10M;2;Pike Cubs vs. Woodsdale Tigers
END:VEVENT
BEGIN:VEVENT
DTSTART:20230623T180000
DTEND:20230623T190000
SUMMARY:Island Tigers vs. M&M Panthers
DESCRIPTION:Bronco League - 
LOCATION:Mozart-Bronco
CATEGORIES:QuickScores; Baseball - Youth Game
TRANSP:0
DALARM:20230623T160000;PT10M;2;Island Tigers vs. M&M Panthers
END:VEVENT
BEGIN:VEVENT
DTSTART:20230623T180000
DTEND:20230623T190000
SUMMARY:Pike Cubs vs. Cameron Gold
DESCRIPTION:Bronco League - 
LOCATION:Cameron-Bronco
CATEGORIES:QuickScores; Baseball - Youth Game
TRANSP:0
DALARM:20230623T160000;PT10M;2;Pike Cubs vs. Cameron Gold
END:VEVENT
BEGIN:VEVENT
DTSTART:20230623T180000
DTEND:20230623T190000
SUMMARY:M&M Blue Jays vs. Warwood Redbirds
DESCRIPTION:Bronco League - 
LOCATION:Lock 12-Warwood
CATEGORIES:QuickScores; Baseball - Youth Game
TRANSP:0
DALARM:20230623T160000;PT10M;2;M&M Blue Jays vs. Warwood Redbirds
END:VEVENT
BEGIN:VEVENT
DTSTART:20230623T180000
DTEND:20230623T190000
SUMMARY:Bethlehem Pirates vs. Elm Grove Reds
DESCRIPTION:Bronco League - 
LOCATION:Patterson-Field 2 (Middle Field)
CATEGORIES:QuickScores; Baseball - Youth Game
TRANSP:0
DALARM:20230623T160000;PT10M;2;Bethlehem Pirates vs. Elm Grove Reds
END:VEVENT
BEGIN:VEVENT
DTSTART:20230625T130000
DTEND:20230625T140000
SUMMARY:Warwood Redbirds vs. Island Tigers
DESCRIPTION:Bronco League - 
LOCATION:Belle Isle, Wheeling Island
CATEGORIES:QuickScores; Baseball - Youth Game
TRANSP:0
DALARM:20230625T110000;PT10M;2;Warwood Redbirds vs. Island Tigers
END:VEVENT
BEGIN:VEVENT
DTSTART:20230625T173000
DTEND:20230625T183000
SUMMARY:Cameron Gold vs. M&M Panthers
DESCRIPTION:Bronco League - 
LOCATION:Mozart-Bronco
CATEGORIES:QuickScores; Baseball - Youth Game
TRANSP:0
DALARM:20230625T153000;PT10M;2;Cameron Gold vs. M&M Panthers
END:VEVENT
BEGIN:VEVENT
DTSTART:20230627T180000
DTEND:20230627T190000
SUMMARY:Bethlehem Pirates vs. Woodsdale Tigers
DESCRIPTION:Bronco League - 
LOCATION:I470-Field #4
CATEGORIES:QuickScores; Baseball - Youth Game
TRANSP:0
DALARM:20230627T160000;PT10M;2;Bethlehem Pirates vs. Woodsdale Tigers
END:VEVENT
BEGIN:VEVENT
DTSTART:20230627T180000
DTEND:20230627T190000
SUMMARY:Elm Grove Reds vs. Warwood Redbirds
DESCRIPTION:Bronco League - 
LOCATION:Lock 12-Warwood
CATEGORIES:QuickScores; Baseball - Youth Game
TRANSP:0
DALARM:20230627T160000;PT10M;2;Elm Grove Reds vs. Warwood Redbirds
END:VEVENT
BEGIN:VEVENT
DTSTART:20230627T180000
DTEND:20230627T190000
SUMMARY:Island Tigers vs. Cameron Gold
DESCRIPTION:Bronco League - 
LOCATION:Cameron-Bronco
CATEGORIES:QuickScores; Baseball - Youth Game
TRANSP:0
DALARM:20230627T160000;PT10M;2;Island Tigers vs. Cameron Gold
END:VEVENT
BEGIN:VEVENT
DTSTART:20230627T180000
DTEND:20230627T190000
SUMMARY:M&M Panthers vs. M&M Blue Jays
DESCRIPTION:Bronco League - 
LOCATION:Mozart-Bronco
CATEGORIES:QuickScores; Baseball - Youth Game
TRANSP:0
DALARM:20230627T160000;PT10M;2;M&M Panthers vs. M&M Blue Jays
END:VEVENT
BEGIN:VEVENT
DTSTART:20230627T180000
DTEND:20230627T190000
SUMMARY:Pike Cubs vs. Benwood
DESCRIPTION:Bronco League - 
LOCATION:Benwood - Pony
CATEGORIES:QuickScores; Baseball - Youth Game
TRANSP:0
DALARM:20230627T160000;PT10M;2;Pike Cubs vs. Benwood
END:VEVENT
BEGIN:VEVENT
DTSTART:20230630T180000
DTEND:20230630T190000
SUMMARY:Benwood vs. Bethlehem Pirates
DESCRIPTION:Bronco League - 
LOCATION:Bethlehem-Community Park
CATEGORIES:QuickScores; Baseball - Youth Game
TRANSP:0
DALARM:20230630T160000;PT10M;2;Benwood vs. Bethlehem Pirates
END:VEVENT
BEGIN:VEVENT
DTSTART:20230630T180000
DTEND:20230630T190000
SUMMARY:Woodsdale Tigers vs. Elm Grove Reds
DESCRIPTION:Bronco League - 
LOCATION:Patterson-Field 2 (Middle Field)
CATEGORIES:QuickScores; Baseball - Youth Game
TRANSP:0
DALARM:20230630T160000;PT10M;2;Woodsdale Tigers vs. Elm Grove Reds
END:VEVENT
BEGIN:VEVENT
DTSTART:20230630T180000
DTEND:20230630T190000
SUMMARY:Pike Cubs vs. M&M Blue Jays
DESCRIPTION:Bronco League - 
LOCATION:Mozart-Bronco
CATEGORIES:QuickScores; Baseball - Youth Game
TRANSP:0
DALARM:20230630T160000;PT10M;2;Pike Cubs vs. M&M Blue Jays
END:VEVENT
BEGIN:VEVENT
DTSTART:20230704T180000
DTEND:20230704T190000
SUMMARY:Pike Cubs vs. Bethlehem Pirates
DESCRIPTION:Bronco League - 
LOCATION:Bethlehem-Community Park
CATEGORIES:QuickScores; Baseball - Youth Game
TRANSP:0
DALARM:20230704T160000;PT10M;2;Pike Cubs vs. Bethlehem Pirates
END:VEVENT
BEGIN:VEVENT
DTSTART:20230704T180000
DTEND:20230704T190000
SUMMARY:Elm Grove Reds vs. Benwood
DESCRIPTION:Bronco League - 
LOCATION:Benwood - Pony
CATEGORIES:QuickScores; Baseball - Youth Game
TRANSP:0
DALARM:20230704T160000;PT10M;2;Elm Grove Reds vs. Benwood
END:VEVENT
BEGIN:VEVENT
DTSTART:20230704T180000
DTEND:20230704T190000
SUMMARY:Island Tigers vs. Woodsdale Tigers
DESCRIPTION:Bronco League - 
LOCATION:I470-Field #4
CATEGORIES:QuickScores; Baseball - Youth Game
TRANSP:0
DALARM:20230704T160000;PT10M;2;Island Tigers vs. Woodsdale Tigers
END:VEVENT
BEGIN:VEVENT
DTSTART:20230704T180000
DTEND:20230704T190000
SUMMARY:M&M Panthers vs. Warwood Redbirds
DESCRIPTION:Bronco League - 
LOCATION:Lock 12-Warwood
CATEGORIES:QuickScores; Baseball - Youth Game
TRANSP:0
DALARM:20230704T160000;PT10M;2;M&M Panthers vs. Warwood Redbirds
END:VEVENT
BEGIN:VEVENT
DTSTART:20230704T180000
DTEND:20230704T190000
SUMMARY:Cameron Gold vs. M&M Blue Jays
DESCRIPTION:Bronco League - 
LOCATION:Cameron-Bronco
CATEGORIES:QuickScores; Baseball - Youth Game
TRANSP:0
DALARM:20230704T160000;PT10M;2;Cameron Gold vs. M&M Blue Jays
END:VEVENT
BEGIN:VEVENT
DTSTART:20230707T180000
DTEND:20230707T190000
SUMMARY:Woodsdale Tigers vs. Benwood
DESCRIPTION:Bronco League - 
LOCATION:Benwood - Pony
CATEGORIES:QuickScores; Baseball - Youth Game
TRANSP:0
DALARM:20230707T160000;PT10M;2;Woodsdale Tigers vs. Benwood
END:VEVENT
BEGIN:VEVENT
DTSTART:20230707T180000
DTEND:20230707T190000
SUMMARY:Warwood Redbirds vs. Bethlehem Pirates
DESCRIPTION:Bronco League - 
LOCATION:Bethlehem-Community Park
CATEGORIES:QuickScores; Baseball - Youth Game
TRANSP:0
DALARM:20230707T160000;PT10M;2;Warwood Redbirds vs. Bethlehem Pirates
END:VEVENT
BEGIN:VEVENT
DTSTART:20230707T180000
DTEND:20230707T190000
SUMMARY:Cameron Gold vs. Elm Grove Reds
DESCRIPTION:Bronco League - 
LOCATION:Patterson-Field 2 (Middle Field)
CATEGORIES:QuickScores; Baseball - Youth Game
TRANSP:0
DALARM:20230707T160000;PT10M;2;Cameron Gold vs. Elm Grove Reds
END:VEVENT
BEGIN:VEVENT
DTSTART:20230707T180000
DTEND:20230707T190000
SUMMARY:M&M Blue Jays vs. Island Tigers
DESCRIPTION:Bronco League - 
LOCATION:Belle Isle, Wheeling Island
CATEGORIES:QuickScores; Baseball - Youth Game
TRANSP:0
DALARM:20230707T160000;PT10M;2;M&M Blue Jays vs. Island Tigers
END:VEVENT
BEGIN:VEVENT
DTSTART:20230707T180000
DTEND:20230707T190000
SUMMARY:Pike Cubs vs. M&M Panthers
DESCRIPTION:Bronco League - 
LOCATION:Mozart-Bronco
CATEGORIES:QuickScores; Baseball - Youth Game
TRANSP:0
DALARM:20230707T160000;PT10M;2;Pike Cubs vs. M&M Panthers
END:VEVENT
BEGIN:VEVENT
DTSTART:20230709T130000
DTEND:20230709T140000
SUMMARY:Warwood Redbirds vs. Woodsdale Tigers
DESCRIPTION:Bronco League - 
LOCATION:I470-Field #4
CATEGORIES:QuickScores; Baseball - Youth Game
TRANSP:0
DALARM:20230709T110000;PT10M;2;Warwood Redbirds vs. Woodsdale Tigers
END:VEVENT
BEGIN:VEVENT
DTSTART:20230711T180000
DTEND:20230711T190000
SUMMARY:Island Tigers vs. Bethlehem Pirates
DESCRIPTION:Bronco League - 
LOCATION:Bethlehem-Community Park
CATEGORIES:QuickScores; Baseball - Youth Game
TRANSP:0
DALARM:20230711T160000;PT10M;2;Island Tigers vs. Bethlehem Pirates
END:VEVENT
BEGIN:VEVENT
DTSTART:20230711T180000
DTEND:20230711T190000
SUMMARY:M&M Panthers vs. Benwood
DESCRIPTION:Bronco League - 
LOCATION:Benwood - Pony
CATEGORIES:QuickScores; Baseball - Youth Game
TRANSP:0
DALARM:20230711T160000;PT10M;2;M&M Panthers vs. Benwood
END:VEVENT
BEGIN:VEVENT
DTSTART:20230711T180000
DTEND:20230711T190000
SUMMARY:M&M Blue Jays vs. Woodsdale Tigers
DESCRIPTION:Bronco League - 
LOCATION:I470-Field #4
CATEGORIES:QuickScores; Baseball - Youth Game
TRANSP:0
DALARM:20230711T160000;PT10M;2;M&M Blue Jays vs. Woodsdale Tigers
END:VEVENT
BEGIN:VEVENT
DTSTART:20230711T180000
DTEND:20230711T190000
SUMMARY:Pike Cubs vs. Elm Grove Reds
DESCRIPTION:Bronco League - 
LOCATION:Patterson-Field 2 (Middle Field)
CATEGORIES:QuickScores; Baseball - Youth Game
TRANSP:0
DALARM:20230711T160000;PT10M;2;Pike Cubs vs. Elm Grove Reds
END:VEVENT
BEGIN:VEVENT
DTSTART:20230711T180000
DTEND:20230711T190000
SUMMARY:Cameron Gold vs. Warwood Redbirds
DESCRIPTION:Bronco League - 
LOCATION:Lock 12-Warwood
CATEGORIES:QuickScores; Baseball - Youth Game
TRANSP:0
DALARM:20230711T160000;PT10M;2;Cameron Gold vs. Warwood Redbirds
END:VEVENT
BEGIN:VEVENT
DTSTART:20230714T180000
DTEND:20230714T190000
SUMMARY:Pike Cubs vs. Island Tigers
DESCRIPTION:Bronco League - 
LOCATION:Belle Isle, Wheeling Island
CATEGORIES:QuickScores; Baseball - Youth Game
TRANSP:0
DALARM:20230714T160000;PT10M;2;Pike Cubs vs. Island Tigers
END:VEVENT
BEGIN:VEVENT
DTSTART:20230714T180000
DTEND:20230714T190000
SUMMARY:M&M Panthers vs. Elm Grove Reds
DESCRIPTION:Bronco League - 
LOCATION:Patterson-Field 2 (Middle Field)
CATEGORIES:QuickScores; Baseball - Youth Game
TRANSP:0
DALARM:20230714T160000;PT10M;2;M&M Panthers vs. Elm Grove Reds
END:VEVENT
BEGIN:VEVENT
DTSTART:20230714T180000
DTEND:20230714T190000
SUMMARY:M&M Blue Jays vs. Bethlehem Pirates
DESCRIPTION:Bronco League - 
LOCATION:Bethlehem-Community Park
CATEGORIES:QuickScores; Baseball - Youth Game
TRANSP:0
DALARM:20230714T160000;PT10M;2;M&M Blue Jays vs. Bethlehem Pirates
END:VEVENT
BEGIN:VEVENT
DTSTART:20230714T180000
DTEND:20230714T190000
SUMMARY:Cameron Gold vs. Benwood
DESCRIPTION:Bronco League - 
LOCATION:Benwood - Pony
CATEGORIES:QuickScores; Baseball - Youth Game
TRANSP:0
DALARM:20230714T160000;PT10M;2;Cameron Gold vs. Benwood
END:VEVENT
END:VCALENDAR
