BEGIN:VCALENDAR
VERSION:1.0
BEGIN:VEVENT
DTSTART:20220106T180000
DTEND:20220106T184500
SUMMARY:Jeff and Colleen vs. Angst
DESCRIPTION:Adult Pickleball - Thursday - Session 1 - Carol Stream Park District
LOCATION:Simkus - Court 2 (West) - Pickleball 2
CATEGORIES:QuickScores; Pickleball Game
TRANSP:0
DALARM:20220106T160000;PT10M;2;Jeff and Colleen vs. Angst
END:VEVENT
BEGIN:VEVENT
DTSTART:20220106T180000
DTEND:20220106T184500
SUMMARY:Fifth Element Fitness vs. Hell's Kitchenettes
DESCRIPTION:Adult Pickleball - Thursday - Session 1 - Carol Stream Park District
LOCATION:Simkus - Court 2 (West) - Pickleball 1
CATEGORIES:QuickScores; Pickleball Game
TRANSP:0
DALARM:20220106T160000;PT10M;2;Fifth Element Fitness vs. Hell's Kitchenettes
END:VEVENT
BEGIN:VEVENT
DTSTART:20220106T184500
DTEND:20220106T193000
SUMMARY:King Godilla vs. Fifth Element Fitness
DESCRIPTION:Adult Pickleball - Thursday - Session 1 - Carol Stream Park District
LOCATION:Simkus - Court 2 (West) - Pickleball 1
CATEGORIES:QuickScores; Pickleball Game
TRANSP:0
DALARM:20220106T164500;PT10M;2;King Godilla vs. Fifth Element Fitness
END:VEVENT
BEGIN:VEVENT
DTSTART:20220106T184500
DTEND:20220106T193000
SUMMARY:The Walking Dead vs. Fickle Pickle
DESCRIPTION:Adult Pickleball - Thursday - Session 1 - Carol Stream Park District
LOCATION:Simkus - Court 2 (West) - Pickleball 2
CATEGORIES:QuickScores; Pickleball Game
TRANSP:0
DALARM:20220106T164500;PT10M;2;The Walking Dead vs. Fickle Pickle
END:VEVENT
BEGIN:VEVENT
DTSTART:20220106T193000
DTEND:20220106T201500
SUMMARY:Hold The Pickles vs. The Mallards
DESCRIPTION:Adult Pickleball - Thursday - Session 1 - Carol Stream Park District
LOCATION:Simkus - Court 2 (West) - Pickleball 2
CATEGORIES:QuickScores; Pickleball Game
TRANSP:0
DALARM:20220106T173000;PT10M;2;Hold The Pickles vs. The Mallards
END:VEVENT
BEGIN:VEVENT
DTSTART:20220106T193000
DTEND:20220106T201500
SUMMARY:Mike and Mary Lynn vs. Dinking Problems
DESCRIPTION:Adult Pickleball - Thursday - Session 1 - Carol Stream Park District
LOCATION:Simkus - Court 2 (West) - Pickleball 1
CATEGORIES:QuickScores; Pickleball Game
TRANSP:0
DALARM:20220106T173000;PT10M;2;Mike and Mary Lynn vs. Dinking Problems
END:VEVENT
BEGIN:VEVENT
DTSTART:20220106T201500
DTEND:20220106T210000
SUMMARY:Klausen Crusaders vs. Pickled Ballers
DESCRIPTION:Adult Pickleball - Thursday - Session 1 - Carol Stream Park District
LOCATION:Simkus - Court 2 (West) - Pickleball 1
CATEGORIES:QuickScores; Pickleball Game
TRANSP:0
DALARM:20220106T181500;PT10M;2;Klausen Crusaders vs. Pickled Ballers
END:VEVENT
BEGIN:VEVENT
DTSTART:20220113T180000
DTEND:20220113T184500
SUMMARY:Jeff and Colleen vs. Fifth Element Fitness
DESCRIPTION:Adult Pickleball - Thursday - Session 1 - Carol Stream Park District
LOCATION:Simkus - Court 2 (West) - Pickleball 2
CATEGORIES:QuickScores; Pickleball Game
TRANSP:0
DALARM:20220113T160000;PT10M;2;Jeff and Colleen vs. Fifth Element Fitness
END:VEVENT
BEGIN:VEVENT
DTSTART:20220113T180000
DTEND:20220113T184500
SUMMARY:Mike and Mary Lynn vs. Rugrats
DESCRIPTION:Adult Pickleball - Thursday - Session 1 - Carol Stream Park District
LOCATION:Simkus - Court 2 (West) - Pickleball 1
CATEGORIES:QuickScores; Pickleball Game
TRANSP:0
DALARM:20220113T160000;PT10M;2;Mike and Mary Lynn vs. Rugrats
END:VEVENT
BEGIN:VEVENT
DTSTART:20220113T184500
DTEND:20220113T193000
SUMMARY:Klausen Crusaders vs. The Walking Dead
DESCRIPTION:Adult Pickleball - Thursday - Session 1 - Carol Stream Park District
LOCATION:Simkus - Court 2 (West) - Pickleball 1
CATEGORIES:QuickScores; Pickleball Game
TRANSP:0
DALARM:20220113T164500;PT10M;2;Klausen Crusaders vs. The Walking Dead
END:VEVENT
BEGIN:VEVENT
DTSTART:20220113T184500
DTEND:20220113T193000
SUMMARY:Smart Aces vs. Jeff and Colleen
DESCRIPTION:Adult Pickleball - Thursday - Session 1 - Carol Stream Park District
LOCATION:Simkus - Court 2 (West) - Pickleball 2
CATEGORIES:QuickScores; Pickleball Game
TRANSP:0
DALARM:20220113T164500;PT10M;2;Smart Aces vs. Jeff and Colleen
END:VEVENT
BEGIN:VEVENT
DTSTART:20220113T193000
DTEND:20220113T201500
SUMMARY:Angst vs. Pickled Ballers
DESCRIPTION:Adult Pickleball - Thursday - Session 1 - Carol Stream Park District
LOCATION:Simkus - Court 2 (West) - Pickleball 2
CATEGORIES:QuickScores; Pickleball Game
TRANSP:0
DALARM:20220113T173000;PT10M;2;Angst vs. Pickled Ballers
END:VEVENT
BEGIN:VEVENT
DTSTART:20220113T193000
DTEND:20220113T201500
SUMMARY:Dinking Problems vs. Fickle Pickle
DESCRIPTION:Adult Pickleball - Thursday - Session 1 - Carol Stream Park District
LOCATION:Simkus - Court 2 (West) - Pickleball 1
CATEGORIES:QuickScores; Pickleball Game
TRANSP:0
DALARM:20220113T173000;PT10M;2;Dinking Problems vs. Fickle Pickle
END:VEVENT
BEGIN:VEVENT
DTSTART:20220113T201500
DTEND:20220113T210000
SUMMARY:Hell's Kitchenettes vs. Hold The Pickles
DESCRIPTION:Adult Pickleball - Thursday - Session 1 - Carol Stream Park District
LOCATION:Simkus - Court 2 (West) - Pickleball 2
CATEGORIES:QuickScores; Pickleball Game
TRANSP:0
DALARM:20220113T181500;PT10M;2;Hell's Kitchenettes vs. Hold The Pickles
END:VEVENT
BEGIN:VEVENT
DTSTART:20220120T180000
DTEND:20220120T184500
SUMMARY:King Godilla vs. Klausen Crusaders
DESCRIPTION:Adult Pickleball - Thursday - Session 1 - Carol Stream Park District
LOCATION:Simkus - Court 2 (West) - Pickleball 2
CATEGORIES:QuickScores; Pickleball Game
TRANSP:0
DALARM:20220120T160000;PT10M;2;King Godilla vs. Klausen Crusaders
END:VEVENT
BEGIN:VEVENT
DTSTART:20220120T180000
DTEND:20220120T184500
SUMMARY:Mike and Mary Lynn vs. Fickle Pickle
DESCRIPTION:Time Change --- Adult Pickleball - Thursday - Session 1 - Carol Stream Park District
LOCATION:Simkus - Court 2 (West) - Pickleball 1
CATEGORIES:QuickScores; Pickleball Game
TRANSP:0
DALARM:20220120T160000;PT10M;2;Mike and Mary Lynn vs. Fickle Pickle
END:VEVENT
BEGIN:VEVENT
DTSTART:20220120T184500
DTEND:20220120T193000
SUMMARY:Fifth Element Fitness vs. Mike and Mary Lynn
DESCRIPTION:Time Change --- Adult Pickleball - Thursday - Session 1 - Carol Stream Park District
LOCATION:Simkus - Court 2 (West) - Pickleball 1
CATEGORIES:QuickScores; Pickleball Game
TRANSP:0
DALARM:20220120T164500;PT10M;2;Fifth Element Fitness vs. Mike and Mary Lynn
END:VEVENT
BEGIN:VEVENT
DTSTART:20220120T184500
DTEND:20220120T193000
SUMMARY:Angst vs. Hell's Kitchenettes
DESCRIPTION:Adult Pickleball - Thursday - Session 1 - Carol Stream Park District
LOCATION:Simkus - Court 2 (West) - Pickleball 2
CATEGORIES:QuickScores; Pickleball Game
TRANSP:0
DALARM:20220120T164500;PT10M;2;Angst vs. Hell's Kitchenettes
END:VEVENT
BEGIN:VEVENT
DTSTART:20220120T193000
DTEND:20220120T201500
SUMMARY:Pickled Ballers vs. Dinking Problems
DESCRIPTION:Game Change --- Adult Pickleball - Thursday - Session 1 - Carol Stream Park District
LOCATION:Simkus - Court 2 (West) - Pickleball 1
CATEGORIES:QuickScores; Pickleball Game
TRANSP:0
DALARM:20220120T173000;PT10M;2;Pickled Ballers vs. Dinking Problems
END:VEVENT
BEGIN:VEVENT
DTSTART:20220120T193000
DTEND:20220120T201500
SUMMARY:Smart Aces vs. Hell's Kitchenettes
DESCRIPTION:Game Change --- Adult Pickleball - Thursday - Session 1 - Carol Stream Park District
LOCATION:Simkus - Court 2 (West) - Pickleball 2
CATEGORIES:QuickScores; Pickleball Game
TRANSP:0
DALARM:20220120T173000;PT10M;2;Smart Aces vs. Hell's Kitchenettes
END:VEVENT
BEGIN:VEVENT
DTSTART:20220120T201500
DTEND:20220120T210000
SUMMARY:Hold The Pickles vs. Dinking Problems
DESCRIPTION:Time Change --- Adult Pickleball - Thursday - Session 1 - Carol Stream Park District
LOCATION:Simkus - Court 2 (West) - Pickleball 1
CATEGORIES:QuickScores; Pickleball Game
TRANSP:0
DALARM:20220120T181500;PT10M;2;Hold The Pickles vs. Dinking Problems
END:VEVENT
BEGIN:VEVENT
DTSTART:20220120T201500
DTEND:20220120T210000
SUMMARY:The Mallards vs. The Walking Dead
DESCRIPTION:Game Change --- Adult Pickleball - Thursday - Session 1 - Carol Stream Park District
LOCATION:Simkus - Court 2 (West) - Pickleball 2
CATEGORIES:QuickScores; Pickleball Game
TRANSP:0
DALARM:20220120T181500;PT10M;2;The Mallards vs. The Walking Dead
END:VEVENT
BEGIN:VEVENT
DTSTART:20220127T180000
DTEND:20220127T184500
SUMMARY:Fickle Pickle vs. King Godilla
DESCRIPTION:Adult Pickleball - Thursday - Session 1 - Carol Stream Park District
LOCATION:Simkus - Court 2 (West) - Pickleball 1
CATEGORIES:QuickScores; Pickleball Game
TRANSP:0
DALARM:20220127T160000;PT10M;2;Fickle Pickle vs. King Godilla
END:VEVENT
BEGIN:VEVENT
DTSTART:20220127T180000
DTEND:20220127T184500
SUMMARY:Rugrats vs. Hold The Pickles
DESCRIPTION:Adult Pickleball - Thursday - Session 1 - Carol Stream Park District
LOCATION:Simkus - Court 2 (West) - Pickleball 2
CATEGORIES:QuickScores; Pickleball Game
TRANSP:0
DALARM:20220127T160000;PT10M;2;Rugrats vs. Hold The Pickles
END:VEVENT
BEGIN:VEVENT
DTSTART:20220127T184500
DTEND:20220127T193000
SUMMARY:Jeff and Colleen vs. Mike and Mary Lynn
DESCRIPTION:Adult Pickleball - Thursday - Session 1 - Carol Stream Park District
LOCATION:Simkus - Court 2 (West) - Pickleball 1
CATEGORIES:QuickScores; Pickleball Game
TRANSP:0
DALARM:20220127T164500;PT10M;2;Jeff and Colleen vs. Mike and Mary Lynn
END:VEVENT
BEGIN:VEVENT
DTSTART:20220127T184500
DTEND:20220127T193000
SUMMARY:Fifth Element Fitness vs. Rugrats
DESCRIPTION:Adult Pickleball - Thursday - Session 1 - Carol Stream Park District
LOCATION:Simkus - Court 2 (West) - Pickleball 2
CATEGORIES:QuickScores; Pickleball Game
TRANSP:0
DALARM:20220127T164500;PT10M;2;Fifth Element Fitness vs. Rugrats
END:VEVENT
BEGIN:VEVENT
DTSTART:20220127T193000
DTEND:20220127T201500
SUMMARY:Klausen Crusaders vs. Dinking Problems
DESCRIPTION:Adult Pickleball - Thursday - Session 1 - Carol Stream Park District
LOCATION:Simkus - Court 2 (West) - Pickleball 2
CATEGORIES:QuickScores; Pickleball Game
TRANSP:0
DALARM:20220127T173000;PT10M;2;Klausen Crusaders vs. Dinking Problems
END:VEVENT
BEGIN:VEVENT
DTSTART:20220127T193000
DTEND:20220127T201500
SUMMARY:The Walking Dead vs. Smart Aces
DESCRIPTION:Game Change --- Adult Pickleball - Thursday - Session 1 - Carol Stream Park District
LOCATION:Simkus - Court 2 (West) - Pickleball 1
CATEGORIES:QuickScores; Pickleball Game
TRANSP:0
DALARM:20220127T173000;PT10M;2;The Walking Dead vs. Smart Aces
END:VEVENT
BEGIN:VEVENT
DTSTART:20220127T201500
DTEND:20220127T210000
SUMMARY:Angst vs. The Mallards
DESCRIPTION:Time Change --- Adult Pickleball - Thursday - Session 1 - Carol Stream Park District
LOCATION:Simkus - Court 2 (West) - Pickleball 2
CATEGORIES:QuickScores; Pickleball Game
TRANSP:0
DALARM:20220127T181500;PT10M;2;Angst vs. The Mallards
END:VEVENT
BEGIN:VEVENT
DTSTART:20220127T201500
DTEND:20220127T210000
SUMMARY:Pickled Ballers vs. Smart Aces
DESCRIPTION:Adult Pickleball - Thursday - Session 1 - Carol Stream Park District
LOCATION:Simkus - Court 2 (West) - Pickleball 1
CATEGORIES:QuickScores; Pickleball Game
TRANSP:0
DALARM:20220127T181500;PT10M;2;Pickled Ballers vs. Smart Aces
END:VEVENT
BEGIN:VEVENT
DTSTART:20220203T180000
DTEND:20220203T184500
SUMMARY:Rugrats vs. Jeff and Colleen
DESCRIPTION:Adult Pickleball - Thursday - Session 1 - Carol Stream Park District
LOCATION:Simkus - Court 2 (West) - Pickleball 2
CATEGORIES:QuickScores; Pickleball Game
TRANSP:0
DALARM:20220203T160000;PT10M;2;Rugrats vs. Jeff and Colleen
END:VEVENT
BEGIN:VEVENT
DTSTART:20220203T180000
DTEND:20220203T184500
SUMMARY:Smart Aces vs. Angst
DESCRIPTION:Adult Pickleball - Thursday - Session 1 - Carol Stream Park District
LOCATION:Simkus - Court 2 (West) - Pickleball 1
CATEGORIES:QuickScores; Pickleball Game
TRANSP:0
DALARM:20220203T160000;PT10M;2;Smart Aces vs. Angst
END:VEVENT
BEGIN:VEVENT
DTSTART:20220203T184500
DTEND:20220203T193000
SUMMARY:The Walking Dead vs. Hold The Pickles
DESCRIPTION:Adult Pickleball - Thursday - Session 1 - Carol Stream Park District
LOCATION:Simkus - Court 2 (West) - Pickleball 2
CATEGORIES:QuickScores; Pickleball Game
TRANSP:0
DALARM:20220203T164500;PT10M;2;The Walking Dead vs. Hold The Pickles
END:VEVENT
BEGIN:VEVENT
DTSTART:20220203T184500
DTEND:20220203T193000
SUMMARY:Fickle Pickle vs. Hell's Kitchenettes
DESCRIPTION:Adult Pickleball - Thursday - Session 1 - Carol Stream Park District
LOCATION:Simkus - Court 2 (West) - Pickleball 1
CATEGORIES:QuickScores; Pickleball Game
TRANSP:0
DALARM:20220203T164500;PT10M;2;Fickle Pickle vs. Hell's Kitchenettes
END:VEVENT
BEGIN:VEVENT
DTSTART:20220203T193000
DTEND:20220203T201500
SUMMARY:Dinking Problems vs. Fifth Element Fitness
DESCRIPTION:Adult Pickleball - Thursday - Session 1 - Carol Stream Park District
LOCATION:Simkus - Court 2 (West) - Pickleball 2
CATEGORIES:QuickScores; Pickleball Game
TRANSP:0
DALARM:20220203T173000;PT10M;2;Dinking Problems vs. Fifth Element Fitness
END:VEVENT
BEGIN:VEVENT
DTSTART:20220203T201500
DTEND:20220203T210000
SUMMARY:The Mallards vs. Pickled Ballers
DESCRIPTION:Adult Pickleball - Thursday - Session 1 - Carol Stream Park District
LOCATION:Simkus - Court 2 (West) - Pickleball 1
CATEGORIES:QuickScores; Pickleball Game
TRANSP:0
DALARM:20220203T181500;PT10M;2;The Mallards vs. Pickled Ballers
END:VEVENT
BEGIN:VEVENT
DTSTART:20220203T201500
DTEND:20220203T210000
SUMMARY:King Godilla vs. Mike and Mary Lynn
DESCRIPTION:Adult Pickleball - Thursday - Session 1 - Carol Stream Park District
LOCATION:Simkus - Court 2 (West) - Pickleball 2
CATEGORIES:QuickScores; Pickleball Game
TRANSP:0
DALARM:20220203T181500;PT10M;2;King Godilla vs. Mike and Mary Lynn
END:VEVENT
BEGIN:VEVENT
DTSTART:20220203T210000
DTEND:20220203T214500
SUMMARY:The Mallards vs. Klausen Crusaders
DESCRIPTION:Adult Pickleball - Thursday - Session 1 - Carol Stream Park District
LOCATION:Simkus - Court 2 (West) - Pickleball 1
CATEGORIES:QuickScores; Pickleball Game
TRANSP:0
DALARM:20220203T190000;PT10M;2;The Mallards vs. Klausen Crusaders
END:VEVENT
BEGIN:VEVENT
DTSTART:20220210T180000
DTEND:20220210T184500
SUMMARY:Fickle Pickle vs. Rugrats
DESCRIPTION:Adult Pickleball - Thursday - Session 1 - Carol Stream Park District
LOCATION:Simkus - Court 2 (West) - Pickleball 1
CATEGORIES:QuickScores; Pickleball Game
TRANSP:0
DALARM:20220210T160000;PT10M;2;Fickle Pickle vs. Rugrats
END:VEVENT
BEGIN:VEVENT
DTSTART:20220210T180000
DTEND:20220210T184500
SUMMARY:Hold The Pickles vs. King Godilla
DESCRIPTION:Adult Pickleball - Thursday - Session 1 - Carol Stream Park District
LOCATION:Simkus - Court 2 (West) - Pickleball 2
CATEGORIES:QuickScores; Pickleball Game
TRANSP:0
DALARM:20220210T160000;PT10M;2;Hold The Pickles vs. King Godilla
END:VEVENT
BEGIN:VEVENT
DTSTART:20220210T184500
DTEND:20220210T193000
SUMMARY:Rugrats vs. King Godilla
DESCRIPTION:Adult Pickleball - Thursday - Session 1 - Carol Stream Park District
LOCATION:Simkus - Court 2 (West) - Pickleball 1
CATEGORIES:QuickScores; Pickleball Game
TRANSP:0
DALARM:20220210T164500;PT10M;2;Rugrats vs. King Godilla
END:VEVENT
BEGIN:VEVENT
DTSTART:20220210T184500
DTEND:20220210T193000
SUMMARY:The Walking Dead vs. Angst
DESCRIPTION:Adult Pickleball - Thursday - Session 1 - Carol Stream Park District
LOCATION:Simkus - Court 2 (West) - Pickleball 2
CATEGORIES:QuickScores; Pickleball Game
TRANSP:0
DALARM:20220210T164500;PT10M;2;The Walking Dead vs. Angst
END:VEVENT
BEGIN:VEVENT
DTSTART:20220210T193000
DTEND:20220210T201500
SUMMARY:Hell's Kitchenettes vs. Klausen Crusaders
DESCRIPTION:Adult Pickleball - Thursday - Session 1 - Carol Stream Park District
LOCATION:Simkus - Court 2 (West) - Pickleball 1
CATEGORIES:QuickScores; Pickleball Game
TRANSP:0
DALARM:20220210T173000;PT10M;2;Hell's Kitchenettes vs. Klausen Crusaders
END:VEVENT
BEGIN:VEVENT
DTSTART:20220210T193000
DTEND:20220210T201500
SUMMARY:Pickled Ballers vs. Jeff and Colleen
DESCRIPTION:Adult Pickleball - Thursday - Session 1 - Carol Stream Park District
LOCATION:Simkus - Court 2 (West) - Pickleball 2
CATEGORIES:QuickScores; Pickleball Game
TRANSP:0
DALARM:20220210T173000;PT10M;2;Pickled Ballers vs. Jeff and Colleen
END:VEVENT
BEGIN:VEVENT
DTSTART:20220210T201500
DTEND:20220210T210000
SUMMARY:The Mallards vs. Smart Aces
DESCRIPTION:Adult Pickleball - Thursday - Session 1 - Carol Stream Park District
LOCATION:Simkus - Court 2 (West) - Pickleball 2
CATEGORIES:QuickScores; Pickleball Game
TRANSP:0
DALARM:20220210T181500;PT10M;2;The Mallards vs. Smart Aces
END:VEVENT
BEGIN:VEVENT
DTSTART:20220217T193000
DTEND:20220217T194000
SUMMARY:[#1 ] Fickle Pickle vs. [#8 ] Dinking Problems
DESCRIPTION:Adult Pickleball - Thursday - Session 1 - Carol Stream Park District
LOCATION:Simkus - Court 2 (West) - Pickleball 2
CATEGORIES:QuickScores; Pickleball Game
TRANSP:0
DALARM:20220217T173000;PT10M;2;[#1 ] Fickle Pickle vs. [#8 ] Dinking Problems
END:VEVENT
BEGIN:VEVENT
DTSTART:20220217T193000
DTEND:20220217T194000
SUMMARY:[#4 ] Hold The Pickles vs. [#5 ] Angst
DESCRIPTION:Adult Pickleball - Thursday - Session 1 - Carol Stream Park District
LOCATION:Simkus - Court 2 (West) - Pickleball 1
CATEGORIES:QuickScores; Pickleball Game
TRANSP:0
DALARM:20220217T173000;PT10M;2;[#4 ] Hold The Pickles vs. [#5 ] Angst
END:VEVENT
BEGIN:VEVENT
DTSTART:20220217T194000
DTEND:20220217T195000
SUMMARY:[#3 ] Fifth Element Fitness vs. [#6 ] The Mallards
DESCRIPTION:Adult Pickleball - Thursday - Session 1 - Carol Stream Park District
LOCATION:Simkus - Court 2 (West) - Pickleball 2
CATEGORIES:QuickScores; Pickleball Game
TRANSP:0
DALARM:20220217T174000;PT10M;2;[#3 ] Fifth Element Fitness vs. [#6 ] The Mallards
END:VEVENT
BEGIN:VEVENT
DTSTART:20220217T194000
DTEND:20220217T195000
SUMMARY:[#2 ] Jeff and Colleen vs. [#7 ] King Godilla
DESCRIPTION:Adult Pickleball - Thursday - Session 1 - Carol Stream Park District
LOCATION:Simkus - Court 2 (West) - Pickleball 1
CATEGORIES:QuickScores; Pickleball Game
TRANSP:0
DALARM:20220217T174000;PT10M;2;[#2 ] Jeff and Colleen vs. [#7 ] King Godilla
END:VEVENT
BEGIN:VEVENT
DTSTART:20220217T195000
DTEND:20220217T200000
SUMMARY:[#1 ] Fickle Pickle vs. [#4 ] Hold The Pickles
DESCRIPTION:Adult Pickleball - Thursday - Session 1 - Carol Stream Park District
LOCATION:Simkus - Court 2 (West) - Pickleball 2
CATEGORIES:QuickScores; Pickleball Game
TRANSP:0
DALARM:20220217T175000;PT10M;2;[#1 ] Fickle Pickle vs. [#4 ] Hold The Pickles
END:VEVENT
BEGIN:VEVENT
DTSTART:20220217T195000
DTEND:20220217T200000
SUMMARY:[#2 ] Jeff and Colleen vs. [#3 ] Fifth Element Fitness
DESCRIPTION:Adult Pickleball - Thursday - Session 1 - Carol Stream Park District
LOCATION:Simkus - Court 2 (West) - Pickleball 1
CATEGORIES:QuickScores; Pickleball Game
TRANSP:0
DALARM:20220217T175000;PT10M;2;[#2 ] Jeff and Colleen vs. [#3 ] Fifth Element Fitness
END:VEVENT
BEGIN:VEVENT
DTSTART:20220217T200000
DTEND:20220217T201000
SUMMARY:[#8 ] Dinking Problems vs. [#5 ] Angst
DESCRIPTION:Adult Pickleball - Thursday - Session 1 - Carol Stream Park District
LOCATION:Simkus - Court 2 (West) - Pickleball 2
CATEGORIES:QuickScores; Pickleball Game
TRANSP:0
DALARM:20220217T180000;PT10M;2;[#8 ] Dinking Problems vs. [#5 ] Angst
END:VEVENT
BEGIN:VEVENT
DTSTART:20220217T200000
DTEND:20220217T201000
SUMMARY:[#7 ] King Godilla vs. [#6 ] The Mallards
DESCRIPTION:Adult Pickleball - Thursday - Session 1 - Carol Stream Park District
LOCATION:Simkus - Court 2 (West) - Pickleball 1
CATEGORIES:QuickScores; Pickleball Game
TRANSP:0
DALARM:20220217T180000;PT10M;2;[#7 ] King Godilla vs. [#6 ] The Mallards
END:VEVENT
BEGIN:VEVENT
DTSTART:20220217T201000
DTEND:20220217T202000
SUMMARY:[#4 ] Hold The Pickles vs. [#6 ] The Mallards
DESCRIPTION:Adult Pickleball - Thursday - Session 1 - Carol Stream Park District
LOCATION:Simkus - Court 2 (West) - Pickleball 1
CATEGORIES:QuickScores; Pickleball Game
TRANSP:0
DALARM:20220217T181000;PT10M;2;[#4 ] Hold The Pickles vs. [#6 ] The Mallards
END:VEVENT
BEGIN:VEVENT
DTSTART:20220217T201000
DTEND:20220217T202000
SUMMARY:[#2 ] Jeff and Colleen vs. [#5 ] Angst
DESCRIPTION:Adult Pickleball - Thursday - Session 1 - Carol Stream Park District
LOCATION:Simkus - Court 2 (West) - Pickleball 2
CATEGORIES:QuickScores; Pickleball Game
TRANSP:0
DALARM:20220217T181000;PT10M;2;[#2 ] Jeff and Colleen vs. [#5 ] Angst
END:VEVENT
BEGIN:VEVENT
DTSTART:20220217T202000
DTEND:20220217T203000
SUMMARY:[#1 ] Fickle Pickle vs. [#3 ] Fifth Element Fitness
DESCRIPTION:Adult Pickleball - Thursday - Session 1 - Carol Stream Park District
LOCATION:Simkus - Court 2 (West) - Pickleball 2
CATEGORIES:QuickScores; Pickleball Game
TRANSP:0
DALARM:20220217T182000;PT10M;2;[#1 ] Fickle Pickle vs. [#3 ] Fifth Element Fitness
END:VEVENT
BEGIN:VEVENT
DTSTART:20220217T202000
DTEND:20220217T203000
SUMMARY:[#2 ] Jeff and Colleen vs. [#4 ] Hold The Pickles
DESCRIPTION:Adult Pickleball - Thursday - Session 1 - Carol Stream Park District
LOCATION:Simkus - Court 2 (West) - Pickleball 1
CATEGORIES:QuickScores; Pickleball Game
TRANSP:0
DALARM:20220217T182000;PT10M;2;[#2 ] Jeff and Colleen vs. [#4 ] Hold The Pickles
END:VEVENT
BEGIN:VEVENT
DTSTART:20220217T203000
DTEND:20220217T204000
SUMMARY:[#3 ] Fifth Element Fitness vs. [#2 ] Jeff and Colleen
DESCRIPTION:Adult Pickleball - Thursday - Session 1 - Carol Stream Park District
LOCATION:Simkus - Court 2 (West) - Pickleball 2
CATEGORIES:QuickScores; Pickleball Game
TRANSP:0
DALARM:20220217T183000;PT10M;2;[#3 ] Fifth Element Fitness vs. [#2 ] Jeff and Colleen
END:VEVENT
BEGIN:VEVENT
DTSTART:20220217T204000
DTEND:20220217T205000
SUMMARY:[#1 ] Fickle Pickle vs. [#3 ] Fifth Element Fitness
DESCRIPTION:Adult Pickleball - Thursday - Session 1 - Carol Stream Park District
LOCATION:Simkus - Court 2 (West) - Pickleball 2
CATEGORIES:QuickScores; Pickleball Game
TRANSP:0
DALARM:20220217T184000;PT10M;2;[#1 ] Fickle Pickle vs. [#3 ] Fifth Element Fitness
END:VEVENT
BEGIN:VEVENT
DTSTART:20220217T205000
DTEND:20220217T210000
SUMMARY:[#3 ] Fifth Element Fitness vs. [#1 ] Fickle Pickle
DESCRIPTION:Adult Pickleball - Thursday - Session 1 - Carol Stream Park District
LOCATION:Simkus - Court 2 (West) - Pickleball 2
CATEGORIES:QuickScores; Pickleball Game
TRANSP:0
DALARM:20220217T185000;PT10M;2;[#3 ] Fifth Element Fitness vs. [#1 ] Fickle Pickle
END:VEVENT
END:VCALENDAR
