BEGIN:VCALENDAR
VERSION:1.0
BEGIN:VEVENT
DTSTART:20210909T183000
DTEND:20210909T194500
SUMMARY:SOOGAM vs. Beerlicious
DESCRIPTION:Thursday Men's D1 - Conejo Recreation and Park District
LOCATION:Borchard Park Field #3
CATEGORIES:QuickScores; Softball - Adult Game
TRANSP:0
DALARM:20210909T163000;PT10M;2;SOOGAM vs. Beerlicious
END:VEVENT
BEGIN:VEVENT
DTSTART:20210909T194500
DTEND:20210909T210000
SUMMARY:NAR dogs vs. Tiger Sharks
DESCRIPTION:Thursday Men's D1 - Conejo Recreation and Park District
LOCATION:Borchard Park Field #3
CATEGORIES:QuickScores; Softball - Adult Game
TRANSP:0
DALARM:20210909T174500;PT10M;2;NAR dogs vs. Tiger Sharks
END:VEVENT
BEGIN:VEVENT
DTSTART:20210909T210000
DTEND:20210909T221500
SUMMARY:The Senderson's vs. Alamo Bar & Grill
DESCRIPTION:Forfeit- Sendersons --- Thursday Men's D1 - Conejo Recreation and Park District
LOCATION:Borchard Park Field #3
CATEGORIES:QuickScores; Softball - Adult Game
TRANSP:0
DALARM:20210909T190000;PT10M;2;The Senderson's vs. Alamo Bar & Grill
END:VEVENT
BEGIN:VEVENT
DTSTART:20210916T183000
DTEND:20210916T194500
SUMMARY:The Senderson's vs. Tiger Sharks
DESCRIPTION:Thursday Men's D1 - Conejo Recreation and Park District
LOCATION:Borchard Park Field #3
CATEGORIES:QuickScores; Softball - Adult Game
TRANSP:0
DALARM:20210916T163000;PT10M;2;The Senderson's vs. Tiger Sharks
END:VEVENT
BEGIN:VEVENT
DTSTART:20210916T194500
DTEND:20210916T210000
SUMMARY:Alamo Bar & Grill vs. Beerlicious
DESCRIPTION:Thursday Men's D1 - Conejo Recreation and Park District
LOCATION:Borchard Park Field #3
CATEGORIES:QuickScores; Softball - Adult Game
TRANSP:0
DALARM:20210916T174500;PT10M;2;Alamo Bar & Grill vs. Beerlicious
END:VEVENT
BEGIN:VEVENT
DTSTART:20210916T210000
DTEND:20210916T221500
SUMMARY:NAR dogs vs. SOOGAM
DESCRIPTION:Thursday Men's D1 - Conejo Recreation and Park District
LOCATION:Borchard Park Field #3
CATEGORIES:QuickScores; Softball - Adult Game
TRANSP:0
DALARM:20210916T190000;PT10M;2;NAR dogs vs. SOOGAM
END:VEVENT
BEGIN:VEVENT
DTSTART:20210923T183000
DTEND:20210923T194500
SUMMARY:Tiger Sharks vs. Alamo Bar & Grill
DESCRIPTION:Thursday Men's D1 - Conejo Recreation and Park District
LOCATION:Borchard Park Field #3
CATEGORIES:QuickScores; Softball - Adult Game
TRANSP:0
DALARM:20210923T163000;PT10M;2;Tiger Sharks vs. Alamo Bar & Grill
END:VEVENT
BEGIN:VEVENT
DTSTART:20210923T194500
DTEND:20210923T210000
SUMMARY:SOOGAM vs. The Senderson's
DESCRIPTION:Thursday Men's D1 - Conejo Recreation and Park District
LOCATION:Borchard Park Field #3
CATEGORIES:QuickScores; Softball - Adult Game
TRANSP:0
DALARM:20210923T174500;PT10M;2;SOOGAM vs. The Senderson's
END:VEVENT
BEGIN:VEVENT
DTSTART:20210923T210000
DTEND:20210923T221500
SUMMARY:NAR dogs vs. Beerlicious
DESCRIPTION:Thursday Men's D1 - Conejo Recreation and Park District
LOCATION:Borchard Park Field #3
CATEGORIES:QuickScores; Softball - Adult Game
TRANSP:0
DALARM:20210923T190000;PT10M;2;NAR dogs vs. Beerlicious
END:VEVENT
BEGIN:VEVENT
DTSTART:20210930T183000
DTEND:20210930T194500
SUMMARY:Alamo Bar & Grill vs. SOOGAM
DESCRIPTION:Thursday Men's D1 - Conejo Recreation and Park District
LOCATION:Borchard Park Field #3
CATEGORIES:QuickScores; Softball - Adult Game
TRANSP:0
DALARM:20210930T163000;PT10M;2;Alamo Bar & Grill vs. SOOGAM
END:VEVENT
BEGIN:VEVENT
DTSTART:20210930T194500
DTEND:20210930T210000
SUMMARY:NAR dogs vs. The Senderson's
DESCRIPTION:Thursday Men's D1 - Conejo Recreation and Park District
LOCATION:Borchard Park Field #3
CATEGORIES:QuickScores; Softball - Adult Game
TRANSP:0
DALARM:20210930T174500;PT10M;2;NAR dogs vs. The Senderson's
END:VEVENT
BEGIN:VEVENT
DTSTART:20210930T210000
DTEND:20210930T221500
SUMMARY:Beerlicious vs. Tiger Sharks
DESCRIPTION:Thursday Men's D1 - Conejo Recreation and Park District
LOCATION:Borchard Park Field #3
CATEGORIES:QuickScores; Softball - Adult Game
TRANSP:0
DALARM:20210930T190000;PT10M;2;Beerlicious vs. Tiger Sharks
END:VEVENT
BEGIN:VEVENT
DTSTART:20211007T183000
DTEND:20211007T194500
SUMMARY:Beerlicious vs. The Senderson's
DESCRIPTION:Thursday Men's D1 - Conejo Recreation and Park District
LOCATION:Borchard Park Field #3
CATEGORIES:QuickScores; Softball - Adult Game
TRANSP:0
DALARM:20211007T163000;PT10M;2;Beerlicious vs. The Senderson's
END:VEVENT
BEGIN:VEVENT
DTSTART:20211007T194500
DTEND:20211007T210000
SUMMARY:Tiger Sharks vs. SOOGAM
DESCRIPTION:Thursday Men's D1 - Conejo Recreation and Park District
LOCATION:Borchard Park Field #3
CATEGORIES:QuickScores; Softball - Adult Game
TRANSP:0
DALARM:20211007T174500;PT10M;2;Tiger Sharks vs. SOOGAM
END:VEVENT
BEGIN:VEVENT
DTSTART:20211007T210000
DTEND:20211007T221500
SUMMARY:NAR dogs vs. Alamo Bar & Grill
DESCRIPTION:Thursday Men's D1 - Conejo Recreation and Park District
LOCATION:Borchard Park Field #3
CATEGORIES:QuickScores; Softball - Adult Game
TRANSP:0
DALARM:20211007T190000;PT10M;2;NAR dogs vs. Alamo Bar & Grill
END:VEVENT
BEGIN:VEVENT
DTSTART:20211014T183000
DTEND:20211014T194500
SUMMARY:Tiger Sharks vs. NAR dogs
DESCRIPTION:Thursday Men's D1 - Conejo Recreation and Park District
LOCATION:Borchard Park Field #3
CATEGORIES:QuickScores; Softball - Adult Game
TRANSP:0
DALARM:20211014T163000;PT10M;2;Tiger Sharks vs. NAR dogs
END:VEVENT
BEGIN:VEVENT
DTSTART:20211014T194500
DTEND:20211014T210000
SUMMARY:Beerlicious vs. SOOGAM
DESCRIPTION:Thursday Men's D1 - Conejo Recreation and Park District
LOCATION:Borchard Park Field #3
CATEGORIES:QuickScores; Softball - Adult Game
TRANSP:0
DALARM:20211014T174500;PT10M;2;Beerlicious vs. SOOGAM
END:VEVENT
BEGIN:VEVENT
DTSTART:20211014T210000
DTEND:20211014T221500
SUMMARY:Alamo Bar & Grill vs. The Senderson's
DESCRIPTION:Thursday Men's D1 - Conejo Recreation and Park District
LOCATION:Borchard Park Field #3
CATEGORIES:QuickScores; Softball - Adult Game
TRANSP:0
DALARM:20211014T190000;PT10M;2;Alamo Bar & Grill vs. The Senderson's
END:VEVENT
BEGIN:VEVENT
DTSTART:20211021T183000
DTEND:20211021T194500
SUMMARY:Tiger Sharks vs. The Senderson's
DESCRIPTION:Thursday Men's D1 - Conejo Recreation and Park District
LOCATION:Borchard Park Field #3
CATEGORIES:QuickScores; Softball - Adult Game
TRANSP:0
DALARM:20211021T163000;PT10M;2;Tiger Sharks vs. The Senderson's
END:VEVENT
BEGIN:VEVENT
DTSTART:20211021T194500
DTEND:20211021T210000
SUMMARY:Beerlicious vs. Alamo Bar & Grill
DESCRIPTION:Thursday Men's D1 - Conejo Recreation and Park District
LOCATION:Borchard Park Field #3
CATEGORIES:QuickScores; Softball - Adult Game
TRANSP:0
DALARM:20211021T174500;PT10M;2;Beerlicious vs. Alamo Bar & Grill
END:VEVENT
BEGIN:VEVENT
DTSTART:20211021T210000
DTEND:20211021T221500
SUMMARY:SOOGAM vs. NAR dogs
DESCRIPTION:Thursday Men's D1 - Conejo Recreation and Park District
LOCATION:Borchard Park Field #3
CATEGORIES:QuickScores; Softball - Adult Game
TRANSP:0
DALARM:20211021T190000;PT10M;2;SOOGAM vs. NAR dogs
END:VEVENT
BEGIN:VEVENT
DTSTART:20211028T183000
DTEND:20211028T194500
SUMMARY:Beerlicious vs. NAR dogs
DESCRIPTION:Thursday Men's D1 - Conejo Recreation and Park District
LOCATION:Borchard Park Field #3
CATEGORIES:QuickScores; Softball - Adult Game
TRANSP:0
DALARM:20211028T163000;PT10M;2;Beerlicious vs. NAR dogs
END:VEVENT
BEGIN:VEVENT
DTSTART:20211028T194500
DTEND:20211028T210000
SUMMARY:Alamo Bar & Grill vs. Tiger Sharks
DESCRIPTION:Thursday Men's D1 - Conejo Recreation and Park District
LOCATION:Borchard Park Field #3
CATEGORIES:QuickScores; Softball - Adult Game
TRANSP:0
DALARM:20211028T174500;PT10M;2;Alamo Bar & Grill vs. Tiger Sharks
END:VEVENT
BEGIN:VEVENT
DTSTART:20211028T210000
DTEND:20211028T221500
SUMMARY:The Senderson's vs. SOOGAM
DESCRIPTION:Thursday Men's D1 - Conejo Recreation and Park District
LOCATION:Borchard Park Field #3
CATEGORIES:QuickScores; Softball - Adult Game
TRANSP:0
DALARM:20211028T190000;PT10M;2;The Senderson's vs. SOOGAM
END:VEVENT
BEGIN:VEVENT
DTSTART:20211104T183000
DTEND:20211104T194500
SUMMARY:SOOGAM vs. Alamo Bar & Grill
DESCRIPTION:Thursday Men's D1 - Conejo Recreation and Park District
LOCATION:Borchard Park Field #3
CATEGORIES:QuickScores; Softball - Adult Game
TRANSP:0
DALARM:20211104T163000;PT10M;2;SOOGAM vs. Alamo Bar & Grill
END:VEVENT
BEGIN:VEVENT
DTSTART:20211104T194500
DTEND:20211104T210000
SUMMARY:The Senderson's vs. NAR dogs
DESCRIPTION:Thursday Men's D1 - Conejo Recreation and Park District
LOCATION:Borchard Park Field #3
CATEGORIES:QuickScores; Softball - Adult Game
TRANSP:0
DALARM:20211104T174500;PT10M;2;The Senderson's vs. NAR dogs
END:VEVENT
BEGIN:VEVENT
DTSTART:20211104T210000
DTEND:20211104T221500
SUMMARY:Tiger Sharks vs. Beerlicious
DESCRIPTION:Thursday Men's D1 - Conejo Recreation and Park District
LOCATION:Borchard Park Field #3
CATEGORIES:QuickScores; Softball - Adult Game
TRANSP:0
DALARM:20211104T190000;PT10M;2;Tiger Sharks vs. Beerlicious
END:VEVENT
BEGIN:VEVENT
DTSTART:20211118T184500
DTEND:20211118T200000
SUMMARY:Alamo Bar & Grill vs. NAR dogs
DESCRIPTION:Thursday Men's D1 - Conejo Recreation and Park District
LOCATION:Borchard Park Field #3
CATEGORIES:QuickScores; Softball - Adult Game
TRANSP:0
DALARM:20211118T164500;PT10M;2;Alamo Bar & Grill vs. NAR dogs
END:VEVENT
BEGIN:VEVENT
DTSTART:20211118T200000
DTEND:20211118T211500
SUMMARY:The Senderson's vs. Beerlicious
DESCRIPTION:Thursday Men's D1 - Conejo Recreation and Park District
LOCATION:Borchard Park Field #3
CATEGORIES:QuickScores; Softball - Adult Game
TRANSP:0
DALARM:20211118T180000;PT10M;2;The Senderson's vs. Beerlicious
END:VEVENT
BEGIN:VEVENT
DTSTART:20211118T210000
DTEND:20211118T221500
SUMMARY:SOOGAM vs. Tiger Sharks
DESCRIPTION:Thursday Men's D1 - Conejo Recreation and Park District
LOCATION:Borchard Park Field #3
CATEGORIES:QuickScores; Softball - Adult Game
TRANSP:0
DALARM:20211118T190000;PT10M;2;SOOGAM vs. Tiger Sharks
END:VEVENT
END:VCALENDAR
