BEGIN:VCALENDAR
VERSION:1.0
BEGIN:VEVENT
DTSTART:20210518T183000
DTEND:20210518T193000
SUMMARY:Wheat Thiccs vs. Spikological Warfare
DESCRIPTION:Tuesday Coed - Conejo Recreation and Park District
LOCATION:Dos Vientos Center Court #1
CATEGORIES:QuickScores; Volleyball - Adult Game
TRANSP:0
DALARM:20210518T163000;PT10M;2;Wheat Thiccs vs. Spikological Warfare
END:VEVENT
BEGIN:VEVENT
DTSTART:20210518T193000
DTEND:20210518T203000
SUMMARY:Super Smash Bros vs. Sand Monsters
DESCRIPTION:Tuesday Coed - Conejo Recreation and Park District
LOCATION:Dos Vientos Center Court #1
CATEGORIES:QuickScores; Volleyball - Adult Game
TRANSP:0
DALARM:20210518T173000;PT10M;2;Super Smash Bros vs. Sand Monsters
END:VEVENT
BEGIN:VEVENT
DTSTART:20210518T203000
DTEND:20210518T213000
SUMMARY:Resting Beach Face vs. It Happens
DESCRIPTION:Tuesday Coed - Conejo Recreation and Park District
LOCATION:Dos Vientos Center Court #1
CATEGORIES:QuickScores; Volleyball - Adult Game
TRANSP:0
DALARM:20210518T183000;PT10M;2;Resting Beach Face vs. It Happens
END:VEVENT
BEGIN:VEVENT
DTSTART:20210525T183000
DTEND:20210525T193000
SUMMARY:Sand Monsters vs. Resting Beach Face
DESCRIPTION:Tuesday Coed - Conejo Recreation and Park District
LOCATION:Dos Vientos Center Court #1
CATEGORIES:QuickScores; Volleyball - Adult Game
TRANSP:0
DALARM:20210525T163000;PT10M;2;Sand Monsters vs. Resting Beach Face
END:VEVENT
BEGIN:VEVENT
DTSTART:20210525T193000
DTEND:20210525T203000
SUMMARY:It Happens vs. Spikological Warfare
DESCRIPTION:Tuesday Coed - Conejo Recreation and Park District
LOCATION:Dos Vientos Center Court #1
CATEGORIES:QuickScores; Volleyball - Adult Game
TRANSP:0
DALARM:20210525T173000;PT10M;2;It Happens vs. Spikological Warfare
END:VEVENT
BEGIN:VEVENT
DTSTART:20210525T203000
DTEND:20210525T213000
SUMMARY:Wheat Thiccs vs. Super Smash Bros
DESCRIPTION:Tuesday Coed - Conejo Recreation and Park District
LOCATION:Dos Vientos Center Court #1
CATEGORIES:QuickScores; Volleyball - Adult Game
TRANSP:0
DALARM:20210525T183000;PT10M;2;Wheat Thiccs vs. Super Smash Bros
END:VEVENT
BEGIN:VEVENT
DTSTART:20210601T183000
DTEND:20210601T193000
SUMMARY:Resting Beach Face vs. Wheat Thiccs
DESCRIPTION:Tuesday Coed - Conejo Recreation and Park District
LOCATION:Dos Vientos Center Court #1
CATEGORIES:QuickScores; Volleyball - Adult Game
TRANSP:0
DALARM:20210601T163000;PT10M;2;Resting Beach Face vs. Wheat Thiccs
END:VEVENT
BEGIN:VEVENT
DTSTART:20210601T193000
DTEND:20210601T203000
SUMMARY:Sand Monsters vs. It Happens
DESCRIPTION:Tuesday Coed - Conejo Recreation and Park District
LOCATION:Dos Vientos Center Court #1
CATEGORIES:QuickScores; Volleyball - Adult Game
TRANSP:0
DALARM:20210601T173000;PT10M;2;Sand Monsters vs. It Happens
END:VEVENT
BEGIN:VEVENT
DTSTART:20210601T203000
DTEND:20210601T213000
SUMMARY:Super Smash Bros vs. Spikological Warfare
DESCRIPTION:Tuesday Coed - Conejo Recreation and Park District
LOCATION:Dos Vientos Center Court #1
CATEGORIES:QuickScores; Volleyball - Adult Game
TRANSP:0
DALARM:20210601T183000;PT10M;2;Super Smash Bros vs. Spikological Warfare
END:VEVENT
BEGIN:VEVENT
DTSTART:20210608T183000
DTEND:20210608T193000
SUMMARY:It Happens vs. Wheat Thiccs
DESCRIPTION:Tuesday Coed - Conejo Recreation and Park District
LOCATION:Dos Vientos Center Court #1
CATEGORIES:QuickScores; Volleyball - Adult Game
TRANSP:0
DALARM:20210608T163000;PT10M;2;It Happens vs. Wheat Thiccs
END:VEVENT
BEGIN:VEVENT
DTSTART:20210608T193000
DTEND:20210608T203000
SUMMARY:Resting Beach Face vs. Super Smash Bros
DESCRIPTION:Tuesday Coed - Conejo Recreation and Park District
LOCATION:Dos Vientos Center Court #1
CATEGORIES:QuickScores; Volleyball - Adult Game
TRANSP:0
DALARM:20210608T173000;PT10M;2;Resting Beach Face vs. Super Smash Bros
END:VEVENT
BEGIN:VEVENT
DTSTART:20210608T203000
DTEND:20210608T213000
SUMMARY:Spikological Warfare vs. Sand Monsters
DESCRIPTION:Tuesday Coed - Conejo Recreation and Park District
LOCATION:Dos Vientos Center Court #1
CATEGORIES:QuickScores; Volleyball - Adult Game
TRANSP:0
DALARM:20210608T183000;PT10M;2;Spikological Warfare vs. Sand Monsters
END:VEVENT
BEGIN:VEVENT
DTSTART:20210615T183000
DTEND:20210615T193000
SUMMARY:Super Smash Bros vs. It Happens
DESCRIPTION:Tuesday Coed - Conejo Recreation and Park District
LOCATION:Dos Vientos Center Court #1
CATEGORIES:QuickScores; Volleyball - Adult Game
TRANSP:0
DALARM:20210615T163000;PT10M;2;Super Smash Bros vs. It Happens
END:VEVENT
BEGIN:VEVENT
DTSTART:20210615T193000
DTEND:20210615T203000
SUMMARY:Spikological Warfare vs. Resting Beach Face
DESCRIPTION:Tuesday Coed - Conejo Recreation and Park District
LOCATION:Dos Vientos Center Court #1
CATEGORIES:QuickScores; Volleyball - Adult Game
TRANSP:0
DALARM:20210615T173000;PT10M;2;Spikological Warfare vs. Resting Beach Face
END:VEVENT
BEGIN:VEVENT
DTSTART:20210615T203000
DTEND:20210615T213000
SUMMARY:Wheat Thiccs vs. Sand Monsters
DESCRIPTION:Tuesday Coed - Conejo Recreation and Park District
LOCATION:Dos Vientos Center Court #1
CATEGORIES:QuickScores; Volleyball - Adult Game
TRANSP:0
DALARM:20210615T183000;PT10M;2;Wheat Thiccs vs. Sand Monsters
END:VEVENT
BEGIN:VEVENT
DTSTART:20210622T183000
DTEND:20210622T193000
SUMMARY:Sand Monsters vs. Super Smash Bros
DESCRIPTION:Tuesday Coed - Conejo Recreation and Park District
LOCATION:Dos Vientos Center Court #1
CATEGORIES:QuickScores; Volleyball - Adult Game
TRANSP:0
DALARM:20210622T163000;PT10M;2;Sand Monsters vs. Super Smash Bros
END:VEVENT
BEGIN:VEVENT
DTSTART:20210622T193000
DTEND:20210622T203000
SUMMARY:Spikological Warfare vs. Wheat Thiccs
DESCRIPTION:Tuesday Coed - Conejo Recreation and Park District
LOCATION:Dos Vientos Center Court #1
CATEGORIES:QuickScores; Volleyball - Adult Game
TRANSP:0
DALARM:20210622T173000;PT10M;2;Spikological Warfare vs. Wheat Thiccs
END:VEVENT
BEGIN:VEVENT
DTSTART:20210622T203000
DTEND:20210622T213000
SUMMARY:It Happens vs. Resting Beach Face
DESCRIPTION:Tuesday Coed - Conejo Recreation and Park District
LOCATION:Dos Vientos Center Court #1
CATEGORIES:QuickScores; Volleyball - Adult Game
TRANSP:0
DALARM:20210622T183000;PT10M;2;It Happens vs. Resting Beach Face
END:VEVENT
END:VCALENDAR
