BEGIN:VCALENDAR
VERSION:2.0
PRODID:-//QuickScores.com//BQ Dynamic iCal Creator//EN
METHOD:PUBLISH
X-WR-CALNAME:Golden State - Kobe League 7,8,9 - Spring 2026
X-WR-CALDESC:QuickScores game calendar
X-PUBLISHED-TTL:PT24H
REFRESH-INTERVAL;VALUE=DURATION:PT24H
CALSCALE:GREGORIAN
BEGIN:VTIMEZONE
TZID:America/Chicago
X-LIC-LOCATION:America/Chicago
BEGIN:DAYLIGHT
TZNAME:CDT
TZOFFSETFROM:-0600
TZOFFSETTO:-0500
DTSTART:19700308T020000
RRULE:FREQ=YEARLY;BYMONTH=3;BYDAY=2SU
END:DAYLIGHT
BEGIN:STANDARD
TZNAME:CST
TZOFFSETFROM:-0500
TZOFFSETTO:-0600
DTSTART:19701101T020000
RRULE:FREQ=YEARLY;BYMONTH=11;BYDAY=1SU
END:STANDARD
END:VTIMEZONE
BEGIN:VEVENT
UID:ymcaswkansas-73073110-20260221T090000@quickscores.com
DTSTAMP:20260423T062400Z
DTSTART;TZID=America/Chicago:20260221T090000
DURATION:PT0H45M0S
SUMMARY:Golden State vs. L.A.
DESCRIPTION:Kobe League 7,8,9 - Garden City Family YMCA
LOCATION:Dome Court Blue
CATEGORIES:QuickScores, Basketball - Youth Game
TRANSP:OPAQUE
BEGIN:VALARM
TRIGGER:-PT2H
ACTION:DISPLAY
DESCRIPTION:Golden State vs. L.A.
END:VALARM
END:VEVENT
BEGIN:VEVENT
UID:ymcaswkansas-73073111-20260228T100000@quickscores.com
DTSTAMP:20260423T062400Z
DTSTART;TZID=America/Chicago:20260228T100000
DURATION:PT0H45M0S
SUMMARY:New York vs. Golden State
DESCRIPTION:Kobe League 7,8,9 - Garden City Family YMCA
LOCATION:Dome Court Blue
CATEGORIES:QuickScores, Basketball - Youth Game
TRANSP:OPAQUE
BEGIN:VALARM
TRIGGER:-PT2H
ACTION:DISPLAY
DESCRIPTION:New York vs. Golden State
END:VALARM
END:VEVENT
BEGIN:VEVENT
UID:ymcaswkansas-73073114-20260307T090000@quickscores.com
DTSTAMP:20260423T062400Z
DTSTART;TZID=America/Chicago:20260307T090000
DURATION:PT0H45M0S
SUMMARY:Dallas vs. Golden State
DESCRIPTION:Kobe League 7,8,9 - Garden City Family YMCA
LOCATION:Dome Court Blue
CATEGORIES:QuickScores, Basketball - Youth Game
TRANSP:OPAQUE
BEGIN:VALARM
TRIGGER:-PT2H
ACTION:DISPLAY
DESCRIPTION:Dallas vs. Golden State
END:VALARM
END:VEVENT
BEGIN:VEVENT
UID:ymcaswkansas-73073116-20260314T100000@quickscores.com
DTSTAMP:20260423T062400Z
DTSTART;TZID=America/Chicago:20260314T100000
DURATION:PT0H45M0S
SUMMARY:L.A. vs. Golden State
DESCRIPTION:Kobe League 7,8,9 - Garden City Family YMCA
LOCATION:Dome Court Blue
CATEGORIES:QuickScores, Basketball - Youth Game
TRANSP:OPAQUE
BEGIN:VALARM
TRIGGER:-PT2H
ACTION:DISPLAY
DESCRIPTION:L.A. vs. Golden State
END:VALARM
END:VEVENT
BEGIN:VEVENT
UID:ymcaswkansas-73073120-20260328T100000@quickscores.com
DTSTAMP:20260423T062400Z
DTSTART;TZID=America/Chicago:20260328T100000
DURATION:PT0H45M0S
SUMMARY:Golden State vs. Dallas
DESCRIPTION:Kobe League 7,8,9 - Garden City Family YMCA
LOCATION:Dome Court Blue
CATEGORIES:QuickScores, Basketball - Youth Game
TRANSP:OPAQUE
BEGIN:VALARM
TRIGGER:-PT2H
ACTION:DISPLAY
DESCRIPTION:Golden State vs. Dallas
END:VALARM
END:VEVENT
BEGIN:VEVENT
UID:ymcaswkansas-73073117-20260404T090000@quickscores.com
DTSTAMP:20260423T062400Z
DTSTART;TZID=America/Chicago:20260404T090000
DURATION:PT0H45M0S
SUMMARY:Golden State vs. New York
DESCRIPTION:Kobe League 7,8,9 - Garden City Family YMCA
LOCATION:Dome Court Blue
CATEGORIES:QuickScores, Basketball - Youth Game
TRANSP:OPAQUE
BEGIN:VALARM
TRIGGER:-PT2H
ACTION:DISPLAY
DESCRIPTION:Golden State vs. New York
END:VALARM
END:VEVENT
BEGIN:VEVENT
UID:ymcaswkansas-74258888-20260411T080000@quickscores.com
DTSTAMP:20260423T062400Z
DTSTART;TZID=America/Chicago:20260411T080000
DURATION:PT1H0M0S
SUMMARY:Golden State vs. Dallas
DESCRIPTION:Kobe League 7,8,9 - Garden City Family YMCA
LOCATION:Dome Court Blue
CATEGORIES:QuickScores, Basketball - Youth Game
TRANSP:OPAQUE
BEGIN:VALARM
TRIGGER:-PT2H
ACTION:DISPLAY
DESCRIPTION:Golden State vs. Dallas
END:VALARM
END:VEVENT
END:VCALENDAR
