BEGIN:VCALENDAR
VERSION:2.0
PRODID:-//QuickScores.com//BQ Dynamic iCal Creator//EN
METHOD:PUBLISH
X-WR-CALNAME:Ball Is Life - 5 On 5 - Winter 2024-2025
X-WR-CALDESC:QuickScores game calendar
X-PUBLISHED-TTL:PT24H
REFRESH-INTERVAL;VALUE=DURATION:PT24H
CALSCALE:GREGORIAN
BEGIN:VTIMEZONE
TZID:America/Chicago
X-LIC-LOCATION:America/Chicago
BEGIN:DAYLIGHT
TZNAME:CDT
TZOFFSETFROM:-0600
TZOFFSETTO:-0500
DTSTART:19700308T020000
RRULE:FREQ=YEARLY;BYMONTH=3;BYDAY=2SU
END:DAYLIGHT
BEGIN:STANDARD
TZNAME:CST
TZOFFSETFROM:-0500
TZOFFSETTO:-0600
DTSTART:19701101T020000
RRULE:FREQ=YEARLY;BYMONTH=11;BYDAY=1SU
END:STANDARD
END:VTIMEZONE
BEGIN:VEVENT
UID:ymcaswkansas-67502451-20250316T150000@quickscores.com
DTSTAMP:20260424T080600Z
DTSTART;TZID=America/Chicago:20250316T150000
DURATION:PT1H0M0S
SUMMARY:Ball Is Life vs. Comfort Specialist
DESCRIPTION:5 On 5 - Garden City Family YMCA
LOCATION:Dome Court Blue
CATEGORIES:QuickScores, Basketball Game
TRANSP:OPAQUE
BEGIN:VALARM
TRIGGER:-PT2H
ACTION:DISPLAY
DESCRIPTION:Ball Is Life vs. Comfort Specialist
END:VALARM
END:VEVENT
BEGIN:VEVENT
UID:ymcaswkansas-67502457-20250323T170000@quickscores.com
DTSTAMP:20260424T080600Z
DTSTART;TZID=America/Chicago:20250323T170000
DURATION:PT1H0M0S
SUMMARY:Ball Is Life vs. Aces
DESCRIPTION:5 On 5 - Garden City Family YMCA
LOCATION:Dome Court Blue
CATEGORIES:QuickScores, Basketball Game
TRANSP:OPAQUE
BEGIN:VALARM
TRIGGER:-PT2H
ACTION:DISPLAY
DESCRIPTION:Ball Is Life vs. Aces
END:VALARM
END:VEVENT
BEGIN:VEVENT
UID:ymcaswkansas-67502460-20250330T160000@quickscores.com
DTSTAMP:20260424T080600Z
DTSTART;TZID=America/Chicago:20250330T160000
DURATION:PT1H0M0S
SUMMARY:LK Scrubs vs. Ball Is Life
DESCRIPTION:5 On 5 - Garden City Family YMCA
LOCATION:Dome Court Blue
CATEGORIES:QuickScores, Basketball Game
TRANSP:OPAQUE
BEGIN:VALARM
TRIGGER:-PT2H
ACTION:DISPLAY
DESCRIPTION:LK Scrubs vs. Ball Is Life
END:VALARM
END:VEVENT
BEGIN:VEVENT
UID:ymcaswkansas-67502465-20250406T170000@quickscores.com
DTSTAMP:20260424T080600Z
DTSTART;TZID=America/Chicago:20250406T170000
DURATION:PT1H0M0S
SUMMARY:Team Cox vs. Ball Is Life
DESCRIPTION:5 On 5 - Garden City Family YMCA
LOCATION:Dome Court Blue
CATEGORIES:QuickScores, Basketball Game
TRANSP:OPAQUE
BEGIN:VALARM
TRIGGER:-PT2H
ACTION:DISPLAY
DESCRIPTION:Team Cox vs. Ball Is Life
END:VALARM
END:VEVENT
BEGIN:VEVENT
UID:ymcaswkansas-67502467-20250413T150000@quickscores.com
DTSTAMP:20260424T080600Z
DTSTART;TZID=America/Chicago:20250413T150000
DURATION:PT1H0M0S
SUMMARY:LK Scrubs vs. Ball Is Life
DESCRIPTION:5 On 5 - Garden City Family YMCA
LOCATION:Dome Court Blue
CATEGORIES:QuickScores, Basketball Game
TRANSP:OPAQUE
BEGIN:VALARM
TRIGGER:-PT2H
ACTION:DISPLAY
DESCRIPTION:LK Scrubs vs. Ball Is Life
END:VALARM
END:VEVENT
BEGIN:VEVENT
UID:ymcaswkansas-67502472-20250427T160000@quickscores.com
DTSTAMP:20260424T080600Z
DTSTART;TZID=America/Chicago:20250427T160000
DURATION:PT1H0M0S
SUMMARY:GC Ballers vs. Ball Is Life
DESCRIPTION:5 On 5 - Garden City Family YMCA
LOCATION:Dome Court Blue
CATEGORIES:QuickScores, Basketball Game
TRANSP:OPAQUE
BEGIN:VALARM
TRIGGER:-PT2H
ACTION:DISPLAY
DESCRIPTION:GC Ballers vs. Ball Is Life
END:VALARM
END:VEVENT
BEGIN:VEVENT
UID:ymcaswkansas-68838699-20250504T160000@quickscores.com
DTSTAMP:20260424T080600Z
DTSTART;TZID=America/Chicago:20250504T160000
DURATION:PT1H0M0S
SUMMARY:[3] Aces vs. [6] Ball Is Life
DESCRIPTION:5 On 5 - Garden City Family YMCA
LOCATION:Dome Court Blue
CATEGORIES:QuickScores, Basketball Game
TRANSP:OPAQUE
BEGIN:VALARM
TRIGGER:-PT2H
ACTION:DISPLAY
DESCRIPTION:[3] Aces vs. [6] Ball Is Life
END:VALARM
END:VEVENT
END:VCALENDAR
