BEGIN:VCALENDAR
VERSION:2.0
PRODID:-//QuickScores.com//BQ Dynamic iCal Creator//EN
METHOD:PUBLISH
X-WR-CALNAME:Aces - 5 On 5 - Winter 2024-2025
X-WR-CALDESC:QuickScores game calendar
X-PUBLISHED-TTL:PT24H
REFRESH-INTERVAL;VALUE=DURATION:PT24H
CALSCALE:GREGORIAN
BEGIN:VTIMEZONE
TZID:America/Chicago
X-LIC-LOCATION:America/Chicago
BEGIN:DAYLIGHT
TZNAME:CDT
TZOFFSETFROM:-0600
TZOFFSETTO:-0500
DTSTART:19700308T020000
RRULE:FREQ=YEARLY;BYMONTH=3;BYDAY=2SU
END:DAYLIGHT
BEGIN:STANDARD
TZNAME:CST
TZOFFSETFROM:-0500
TZOFFSETTO:-0600
DTSTART:19701101T020000
RRULE:FREQ=YEARLY;BYMONTH=11;BYDAY=1SU
END:STANDARD
END:VTIMEZONE
BEGIN:VEVENT
UID:ymcaswkansas-67502449-20250309T170000@quickscores.com
DTSTAMP:20260425T070300Z
DTSTART;TZID=America/Chicago:20250309T170000
DURATION:PT1H0M0S
SUMMARY:Aces vs. LK Scrubs
DESCRIPTION:5 On 5 - Garden City Family YMCA
LOCATION:Dome Court Blue
CATEGORIES:QuickScores, Basketball Game
TRANSP:OPAQUE
BEGIN:VALARM
TRIGGER:-PT2H
ACTION:DISPLAY
DESCRIPTION:Aces vs. LK Scrubs
END:VALARM
END:VEVENT
BEGIN:VEVENT
UID:ymcaswkansas-67502452-20250316T160000@quickscores.com
DTSTAMP:20260425T070300Z
DTSTART;TZID=America/Chicago:20250316T160000
DURATION:PT1H0M0S
SUMMARY:Aces vs. GC Ballers
DESCRIPTION:5 On 5 - Garden City Family YMCA
LOCATION:Dome Court Blue
CATEGORIES:QuickScores, Basketball Game
TRANSP:OPAQUE
BEGIN:VALARM
TRIGGER:-PT2H
ACTION:DISPLAY
DESCRIPTION:Aces vs. GC Ballers
END:VALARM
END:VEVENT
BEGIN:VEVENT
UID:ymcaswkansas-67502457-20250323T170000@quickscores.com
DTSTAMP:20260425T070300Z
DTSTART;TZID=America/Chicago:20250323T170000
DURATION:PT1H0M0S
SUMMARY:Ball Is Life vs. Aces
DESCRIPTION:5 On 5 - Garden City Family YMCA
LOCATION:Dome Court Blue
CATEGORIES:QuickScores, Basketball Game
TRANSP:OPAQUE
BEGIN:VALARM
TRIGGER:-PT2H
ACTION:DISPLAY
DESCRIPTION:Ball Is Life vs. Aces
END:VALARM
END:VEVENT
BEGIN:VEVENT
UID:ymcaswkansas-67502459-20250330T150000@quickscores.com
DTSTAMP:20260425T070300Z
DTSTART;TZID=America/Chicago:20250330T150000
DURATION:PT1H0M0S
SUMMARY:Aces vs. Team Cox
DESCRIPTION:5 On 5 - Garden City Family YMCA
LOCATION:Dome Court Blue
CATEGORIES:QuickScores, Basketball Game
TRANSP:OPAQUE
BEGIN:VALARM
TRIGGER:-PT2H
ACTION:DISPLAY
DESCRIPTION:Aces vs. Team Cox
END:VALARM
END:VEVENT
BEGIN:VEVENT
UID:ymcaswkansas-67502464-20250406T160000@quickscores.com
DTSTAMP:20260425T070300Z
DTSTART;TZID=America/Chicago:20250406T160000
DURATION:PT1H0M0S
SUMMARY:Comfort Specialist vs. Aces
DESCRIPTION:5 On 5 - Garden City Family YMCA
LOCATION:Dome Court Blue
CATEGORIES:QuickScores, Basketball Game
TRANSP:OPAQUE
BEGIN:VALARM
TRIGGER:-PT2H
ACTION:DISPLAY
DESCRIPTION:Comfort Specialist vs. Aces
END:VALARM
END:VEVENT
BEGIN:VEVENT
UID:ymcaswkansas-67502471-20250427T150000@quickscores.com
DTSTAMP:20260425T070300Z
DTSTART;TZID=America/Chicago:20250427T150000
DURATION:PT1H0M0S
SUMMARY:Ice House vs. Aces
DESCRIPTION:5 On 5 - Garden City Family YMCA
LOCATION:Dome Court Blue
CATEGORIES:QuickScores, Basketball Game
TRANSP:OPAQUE
BEGIN:VALARM
TRIGGER:-PT2H
ACTION:DISPLAY
DESCRIPTION:Ice House vs. Aces
END:VALARM
END:VEVENT
BEGIN:VEVENT
UID:ymcaswkansas-68838699-20250504T160000@quickscores.com
DTSTAMP:20260425T070300Z
DTSTART;TZID=America/Chicago:20250504T160000
DURATION:PT1H0M0S
SUMMARY:[3] Aces vs. [6] Ball Is Life
DESCRIPTION:5 On 5 - Garden City Family YMCA
LOCATION:Dome Court Blue
CATEGORIES:QuickScores, Basketball Game
TRANSP:OPAQUE
BEGIN:VALARM
TRIGGER:-PT2H
ACTION:DISPLAY
DESCRIPTION:[3] Aces vs. [6] Ball Is Life
END:VALARM
END:VEVENT
BEGIN:VEVENT
UID:ymcaswkansas-68838701-20250518T160000@quickscores.com
DTSTAMP:20260425T070300Z
DTSTART;TZID=America/Chicago:20250518T160000
DURATION:PT1H0M0S
SUMMARY:[2] GC Ballers vs. [3] Aces
DESCRIPTION:5 On 5 - Garden City Family YMCA
LOCATION:Dome Court Blue
CATEGORIES:QuickScores, Basketball Game
TRANSP:OPAQUE
BEGIN:VALARM
TRIGGER:-PT2H
ACTION:DISPLAY
DESCRIPTION:[2] GC Ballers vs. [3] Aces
END:VALARM
END:VEVENT
BEGIN:VEVENT
UID:ymcaswkansas-68838702-20250518T170000@quickscores.com
DTSTAMP:20260425T070300Z
DTSTART;TZID=America/Chicago:20250518T170000
DURATION:PT1H0M0S
SUMMARY:[4] LK Scrubs vs. [3] Aces
DESCRIPTION:5 On 5 - Garden City Family YMCA
LOCATION:Dome Court Blue
CATEGORIES:QuickScores, Basketball Game
TRANSP:OPAQUE
BEGIN:VALARM
TRIGGER:-PT2H
ACTION:DISPLAY
DESCRIPTION:[4] LK Scrubs vs. [3] Aces
END:VALARM
END:VEVENT
END:VCALENDAR
