BEGIN:VCALENDAR
VERSION:2.0
PRODID:-//QuickScores.com//BQ Dynamic iCal Creator//EN
METHOD:PUBLISH
X-WR-CALNAME:Comfort Specialist - 5 On 5 - Winter 2024-2025
X-WR-CALDESC:QuickScores game calendar
X-PUBLISHED-TTL:PT24H
REFRESH-INTERVAL;VALUE=DURATION:PT24H
CALSCALE:GREGORIAN
BEGIN:VTIMEZONE
TZID:America/Chicago
X-LIC-LOCATION:America/Chicago
BEGIN:DAYLIGHT
TZNAME:CDT
TZOFFSETFROM:-0600
TZOFFSETTO:-0500
DTSTART:19700308T020000
RRULE:FREQ=YEARLY;BYMONTH=3;BYDAY=2SU
END:DAYLIGHT
BEGIN:STANDARD
TZNAME:CST
TZOFFSETFROM:-0500
TZOFFSETTO:-0600
DTSTART:19701101T020000
RRULE:FREQ=YEARLY;BYMONTH=11;BYDAY=1SU
END:STANDARD
END:VTIMEZONE
BEGIN:VEVENT
UID:ymcaswkansas-67502448-20250309T160000@quickscores.com
DTSTAMP:20260424T052600Z
DTSTART;TZID=America/Chicago:20250309T160000
DURATION:PT1H0M0S
SUMMARY:Comfort Specialist vs. Ice House
DESCRIPTION:5 On 5 - Garden City Family YMCA
LOCATION:Dome Court Blue
CATEGORIES:QuickScores, Basketball Game
TRANSP:OPAQUE
BEGIN:VALARM
TRIGGER:-PT2H
ACTION:DISPLAY
DESCRIPTION:Comfort Specialist vs. Ice House
END:VALARM
END:VEVENT
BEGIN:VEVENT
UID:ymcaswkansas-67502451-20250316T150000@quickscores.com
DTSTAMP:20260424T052600Z
DTSTART;TZID=America/Chicago:20250316T150000
DURATION:PT1H0M0S
SUMMARY:Ball Is Life vs. Comfort Specialist
DESCRIPTION:5 On 5 - Garden City Family YMCA
LOCATION:Dome Court Blue
CATEGORIES:QuickScores, Basketball Game
TRANSP:OPAQUE
BEGIN:VALARM
TRIGGER:-PT2H
ACTION:DISPLAY
DESCRIPTION:Ball Is Life vs. Comfort Specialist
END:VALARM
END:VEVENT
BEGIN:VEVENT
UID:ymcaswkansas-67502455-20250323T150000@quickscores.com
DTSTAMP:20260424T052600Z
DTSTART;TZID=America/Chicago:20250323T150000
DURATION:PT1H0M0S
SUMMARY:Comfort Specialist vs. Ice House
DESCRIPTION:5 On 5 - Garden City Family YMCA
LOCATION:Dome Court Blue
CATEGORIES:QuickScores, Basketball Game
TRANSP:OPAQUE
BEGIN:VALARM
TRIGGER:-PT2H
ACTION:DISPLAY
DESCRIPTION:Comfort Specialist vs. Ice House
END:VALARM
END:VEVENT
BEGIN:VEVENT
UID:ymcaswkansas-67502464-20250406T160000@quickscores.com
DTSTAMP:20260424T052600Z
DTSTART;TZID=America/Chicago:20250406T160000
DURATION:PT1H0M0S
SUMMARY:Comfort Specialist vs. Aces
DESCRIPTION:5 On 5 - Garden City Family YMCA
LOCATION:Dome Court Blue
CATEGORIES:QuickScores, Basketball Game
TRANSP:OPAQUE
BEGIN:VALARM
TRIGGER:-PT2H
ACTION:DISPLAY
DESCRIPTION:Comfort Specialist vs. Aces
END:VALARM
END:VEVENT
BEGIN:VEVENT
UID:ymcaswkansas-67502469-20250413T170000@quickscores.com
DTSTAMP:20260424T052600Z
DTSTART;TZID=America/Chicago:20250413T170000
DURATION:PT1H0M0S
SUMMARY:GC Ballers vs. Comfort Specialist
DESCRIPTION:5 On 5 - Garden City Family YMCA
LOCATION:Dome Court Blue
CATEGORIES:QuickScores, Basketball Game
TRANSP:OPAQUE
BEGIN:VALARM
TRIGGER:-PT2H
ACTION:DISPLAY
DESCRIPTION:GC Ballers vs. Comfort Specialist
END:VALARM
END:VEVENT
BEGIN:VEVENT
UID:ymcaswkansas-67502473-20250427T170000@quickscores.com
DTSTAMP:20260424T052600Z
DTSTART;TZID=America/Chicago:20250427T170000
DURATION:PT1H0M0S
SUMMARY:Comfort Specialist vs. Team Cox
DESCRIPTION:5 On 5 - Garden City Family YMCA
LOCATION:Dome Court Blue
CATEGORIES:QuickScores, Basketball Game
TRANSP:OPAQUE
BEGIN:VALARM
TRIGGER:-PT2H
ACTION:DISPLAY
DESCRIPTION:Comfort Specialist vs. Team Cox
END:VALARM
END:VEVENT
BEGIN:VEVENT
UID:ymcaswkansas-68838697-20250504T140000@quickscores.com
DTSTAMP:20260424T052600Z
DTSTART;TZID=America/Chicago:20250504T140000
DURATION:PT1H0M0S
SUMMARY:[4] LK Scrubs vs. [5] Comfort Specialist
DESCRIPTION:5 On 5 - Garden City Family YMCA
LOCATION:Dome Court Blue
CATEGORIES:QuickScores, Basketball Game
TRANSP:OPAQUE
BEGIN:VALARM
TRIGGER:-PT2H
ACTION:DISPLAY
DESCRIPTION:[4] LK Scrubs vs. [5] Comfort Specialist
END:VALARM
END:VEVENT
END:VCALENDAR
