BEGIN:VCALENDAR
VERSION:2.0
PRODID:-//QuickScores.com//BQ Dynamic iCal Creator//EN
METHOD:PUBLISH
X-WR-CALNAME:Sidekickers - 1-2 - Winter 2024-2025
X-WR-CALDESC:QuickScores game calendar
X-PUBLISHED-TTL:PT24H
REFRESH-INTERVAL;VALUE=DURATION:PT24H
CALSCALE:GREGORIAN
BEGIN:VTIMEZONE
TZID:America/Chicago
X-LIC-LOCATION:America/Chicago
BEGIN:DAYLIGHT
TZNAME:CDT
TZOFFSETFROM:-0600
TZOFFSETTO:-0500
DTSTART:19700308T020000
RRULE:FREQ=YEARLY;BYMONTH=3;BYDAY=2SU
END:DAYLIGHT
BEGIN:STANDARD
TZNAME:CST
TZOFFSETFROM:-0500
TZOFFSETTO:-0600
DTSTART:19701101T020000
RRULE:FREQ=YEARLY;BYMONTH=11;BYDAY=1SU
END:STANDARD
END:VTIMEZONE
BEGIN:VEVENT
UID:ymcaswkansas-66675519-20250112T140000@quickscores.com
DTSTAMP:20260424T081900Z
DTSTART;TZID=America/Chicago:20250112T140000
DURATION:PT0H30M0S
SUMMARY:All-Stars FC vs. Sidekickers
DESCRIPTION:1-2 - Garden City Family YMCA
LOCATION:Dome Court Blue
CATEGORIES:QuickScores, Soccer - Youth Game
TRANSP:OPAQUE
BEGIN:VALARM
TRIGGER:-PT2H
ACTION:DISPLAY
DESCRIPTION:All-Stars FC vs. Sidekickers
END:VALARM
END:VEVENT
BEGIN:VEVENT
UID:ymcaswkansas-66675521-20250119T140000@quickscores.com
DTSTAMP:20260424T081900Z
DTSTART;TZID=America/Chicago:20250119T140000
DURATION:PT0H30M0S
SUMMARY:Sidekickers vs. Hurricanes
DESCRIPTION:1-2 - Garden City Family YMCA
LOCATION:Dome Court Blue
CATEGORIES:QuickScores, Soccer - Youth Game
TRANSP:OPAQUE
BEGIN:VALARM
TRIGGER:-PT2H
ACTION:DISPLAY
DESCRIPTION:Sidekickers vs. Hurricanes
END:VALARM
END:VEVENT
BEGIN:VEVENT
UID:ymcaswkansas-66675522-20250126T143000@quickscores.com
DTSTAMP:20260424T081900Z
DTSTART;TZID=America/Chicago:20250126T143000
DURATION:PT0H30M0S
SUMMARY:Golden Gloves vs. Sidekickers
DESCRIPTION:1-2 - Garden City Family YMCA
LOCATION:Dome Court Blue
CATEGORIES:QuickScores, Soccer - Youth Game
TRANSP:OPAQUE
BEGIN:VALARM
TRIGGER:-PT2H
ACTION:DISPLAY
DESCRIPTION:Golden Gloves vs. Sidekickers
END:VALARM
END:VEVENT
BEGIN:VEVENT
UID:ymcaswkansas-66675525-20250202T143000@quickscores.com
DTSTAMP:20260424T081900Z
DTSTART;TZID=America/Chicago:20250202T143000
DURATION:PT0H30M0S
SUMMARY:Sidekickers vs. All-Stars FC
DESCRIPTION:1-2 - Garden City Family YMCA
LOCATION:Dome Court Blue
CATEGORIES:QuickScores, Soccer - Youth Game
TRANSP:OPAQUE
BEGIN:VALARM
TRIGGER:-PT2H
ACTION:DISPLAY
DESCRIPTION:Sidekickers vs. All-Stars FC
END:VALARM
END:VEVENT
BEGIN:VEVENT
UID:ymcaswkansas-66675527-20250209T143000@quickscores.com
DTSTAMP:20260424T081900Z
DTSTART;TZID=America/Chicago:20250209T143000
DURATION:PT0H30M0S
SUMMARY:Hurricanes vs. Sidekickers
DESCRIPTION:1-2 - Garden City Family YMCA
LOCATION:Dome Court Blue
CATEGORIES:QuickScores, Soccer - Youth Game
TRANSP:OPAQUE
BEGIN:VALARM
TRIGGER:-PT2H
ACTION:DISPLAY
DESCRIPTION:Hurricanes vs. Sidekickers
END:VALARM
END:VEVENT
BEGIN:VEVENT
UID:ymcaswkansas-66675528-20250216T140000@quickscores.com
DTSTAMP:20260424T081900Z
DTSTART;TZID=America/Chicago:20250216T140000
DURATION:PT0H30M0S
SUMMARY:Sidekickers vs. Golden Gloves
DESCRIPTION:1-2 - Garden City Family YMCA
LOCATION:Dome Court Blue
CATEGORIES:QuickScores, Soccer - Youth Game
TRANSP:OPAQUE
BEGIN:VALARM
TRIGGER:-PT2H
ACTION:DISPLAY
DESCRIPTION:Sidekickers vs. Golden Gloves
END:VALARM
END:VEVENT
END:VCALENDAR
