BEGIN:VCALENDAR
VERSION:2.0
PRODID:-//QuickScores.com//BQ Dynamic iCal Creator//EN
METHOD:PUBLISH
X-WR-CALNAME:Rams - 6U - 47 - 6u - Nfl Flag Division - Fall 2024
X-WR-CALDESC:QuickScores game calendar
X-PUBLISHED-TTL:PT24H
REFRESH-INTERVAL;VALUE=DURATION:PT24H
CALSCALE:GREGORIAN
BEGIN:VTIMEZONE
TZID:America/Denver
X-LIC-LOCATION:America/Denver
BEGIN:DAYLIGHT
TZNAME:MDT
TZOFFSETFROM:-0700
TZOFFSETTO:-0600
DTSTART:19700308T020000
RRULE:FREQ=YEARLY;BYMONTH=3;BYDAY=2SU
END:DAYLIGHT
BEGIN:STANDARD
TZNAME:MST
TZOFFSETFROM:-0600
TZOFFSETTO:-0700
DTSTART:19701101T020000
RRULE:FREQ=YEARLY;BYMONTH=11;BYDAY=1SU
END:STANDARD
END:VTIMEZONE
BEGIN:VEVENT
UID:yasports-64178582-20240803T090000@quickscores.com
DTSTAMP:20260422T033400Z
DTSTART;TZID=America/Denver:20240803T090000
DURATION:PT1H0M0S
SUMMARY:Vikings - 6U - 62 vs. Rams - 6U - 47
DESCRIPTION:6u - Nfl Flag Division - New Mexico Young America Football League
LOCATION:Mesa Del Sol Field 4
CATEGORIES:QuickScores, Flag Football Game
TRANSP:OPAQUE
BEGIN:VALARM
TRIGGER:-PT2H
ACTION:DISPLAY
DESCRIPTION:Vikings - 6U - 62 vs. Rams - 6U - 47
END:VALARM
END:VEVENT
BEGIN:VEVENT
UID:yasports-64178584-20240810T120000@quickscores.com
DTSTAMP:20260422T033400Z
DTSTART;TZID=America/Denver:20240810T120000
DURATION:PT1H0M0S
SUMMARY:Raiders - 6U - 46 vs. Rams - 6U - 47
DESCRIPTION:6u - Nfl Flag Division - New Mexico Young America Football League
LOCATION:Rio Rancho Sportsplex Field 3
CATEGORIES:QuickScores, Flag Football Game
TRANSP:OPAQUE
BEGIN:VALARM
TRIGGER:-PT2H
ACTION:DISPLAY
DESCRIPTION:Raiders - 6U - 46 vs. Rams - 6U - 47
END:VALARM
END:VEVENT
BEGIN:VEVENT
UID:yasports-64178588-20240817T110000@quickscores.com
DTSTAMP:20260422T033400Z
DTSTART;TZID=America/Denver:20240817T110000
DURATION:PT1H0M0S
SUMMARY:Ravens - 6U - 57 vs. Rams - 6U - 47
DESCRIPTION:6u - Nfl Flag Division - New Mexico Young America Football League
LOCATION:Mesa Del Sol Field 4
CATEGORIES:QuickScores, Flag Football Game
TRANSP:OPAQUE
BEGIN:VALARM
TRIGGER:-PT2H
ACTION:DISPLAY
DESCRIPTION:Ravens - 6U - 57 vs. Rams - 6U - 47
END:VALARM
END:VEVENT
BEGIN:VEVENT
UID:yasports-64178591-20240824T090000@quickscores.com
DTSTAMP:20260422T033400Z
DTSTART;TZID=America/Denver:20240824T090000
DURATION:PT1H0M0S
SUMMARY:Rams - 6U - 47 vs. Dolphins - 6U - 48
DESCRIPTION:6u - Nfl Flag Division - New Mexico Young America Football League
LOCATION:Rio Rancho Sportsplex Field 3
CATEGORIES:QuickScores, Flag Football Game
TRANSP:OPAQUE
BEGIN:VALARM
TRIGGER:-PT2H
ACTION:DISPLAY
DESCRIPTION:Rams - 6U - 47 vs. Dolphins - 6U - 48
END:VALARM
END:VEVENT
BEGIN:VEVENT
UID:yasports-64178597-20240907T100000@quickscores.com
DTSTAMP:20260422T033400Z
DTSTART;TZID=America/Denver:20240907T100000
DURATION:PT1H0M0S
SUMMARY:Ravens - 6U - 57 vs. Rams - 6U - 47
DESCRIPTION:6u - Nfl Flag Division - New Mexico Young America Football League
LOCATION:Mesa Del Sol Field 4
CATEGORIES:QuickScores, Flag Football Game
TRANSP:OPAQUE
BEGIN:VALARM
TRIGGER:-PT2H
ACTION:DISPLAY
DESCRIPTION:Ravens - 6U - 57 vs. Rams - 6U - 47
END:VALARM
END:VEVENT
BEGIN:VEVENT
UID:yasports-64178596-20240907T110000@quickscores.com
DTSTAMP:20260422T033400Z
DTSTART;TZID=America/Denver:20240907T110000
DURATION:PT1H0M0S
SUMMARY:Dolphins - 6U - 48 vs. Rams - 6U - 47
DESCRIPTION:6u - Nfl Flag Division - New Mexico Young America Football League
LOCATION:Mesa Del Sol Field 4
CATEGORIES:QuickScores, Flag Football Game
TRANSP:OPAQUE
BEGIN:VALARM
TRIGGER:-PT2H
ACTION:DISPLAY
DESCRIPTION:Dolphins - 6U - 48 vs. Rams - 6U - 47
END:VALARM
END:VEVENT
BEGIN:VEVENT
UID:yasports-64178600-20240914T110000@quickscores.com
DTSTAMP:20260422T033400Z
DTSTART;TZID=America/Denver:20240914T110000
DURATION:PT1H0M0S
SUMMARY:Rams - 6U - 47 vs. Raiders - 6U - 46
DESCRIPTION:6u - Nfl Flag Division - New Mexico Young America Football League
LOCATION:Mesa Del Sol Field 4
CATEGORIES:QuickScores, Flag Football Game
TRANSP:OPAQUE
BEGIN:VALARM
TRIGGER:-PT2H
ACTION:DISPLAY
DESCRIPTION:Rams - 6U - 47 vs. Raiders - 6U - 46
END:VALARM
END:VEVENT
BEGIN:VEVENT
UID:yasports-64216397-20240921T110000@quickscores.com
DTSTAMP:20260422T033400Z
DTSTART;TZID=America/Denver:20240921T110000
DURATION:PT1H0M0S
SUMMARY:Rams - 6U - 47 vs. Vikings - 6U - 62
DESCRIPTION:6u - Nfl Flag Division - New Mexico Young America Football League
LOCATION:Mesa Del Sol Field 4
CATEGORIES:QuickScores, Flag Football Game
TRANSP:OPAQUE
BEGIN:VALARM
TRIGGER:-PT2H
ACTION:DISPLAY
DESCRIPTION:Rams - 6U - 47 vs. Vikings - 6U - 62
END:VALARM
END:VEVENT
BEGIN:VEVENT
UID:yasports-64178592-20240928T110000@quickscores.com
DTSTAMP:20260422T033400Z
DTSTART;TZID=America/Denver:20240928T110000
DURATION:PT1H0M0S
SUMMARY:Rams - 6U - 47 vs. Dolphins - 6U - 48
DESCRIPTION:6u - Nfl Flag Division - New Mexico Young America Football League
LOCATION:Rio Rancho Sportsplex Field 3
CATEGORIES:QuickScores, Flag Football Game
TRANSP:OPAQUE
BEGIN:VALARM
TRIGGER:-PT2H
ACTION:DISPLAY
DESCRIPTION:Rams - 6U - 47 vs. Dolphins - 6U - 48
END:VALARM
END:VEVENT
BEGIN:VEVENT
UID:yasports-65102434-20241005T080000@quickscores.com
DTSTAMP:20260422T033400Z
DTSTART;TZID=America/Denver:20241005T080000
DURATION:PT1H0M0S
SUMMARY:Rams - 6U - 47 vs. Ravens - 6U - 57
DESCRIPTION:6u - Nfl Flag Division - New Mexico Young America Football League
LOCATION:Mesa Del Sol Field 4
CATEGORIES:QuickScores, Flag Football Game
TRANSP:OPAQUE
BEGIN:VALARM
TRIGGER:-PT2H
ACTION:DISPLAY
DESCRIPTION:Rams - 6U - 47 vs. Ravens - 6U - 57
END:VALARM
END:VEVENT
BEGIN:VEVENT
UID:yasports-65102437-20241013T090000@quickscores.com
DTSTAMP:20260422T033400Z
DTSTART;TZID=America/Denver:20241013T090000
DURATION:PT1H0M0S
SUMMARY:Dolphins - 6U - 48 vs. Rams - 6U - 47
DESCRIPTION:6u - Nfl Flag Division - New Mexico Young America Football League
LOCATION:Community Stadium II
CATEGORIES:QuickScores, Flag Football Game
TRANSP:OPAQUE
BEGIN:VALARM
TRIGGER:-PT2H
ACTION:DISPLAY
DESCRIPTION:Dolphins - 6U - 48 vs. Rams - 6U - 47
END:VALARM
END:VEVENT
END:VCALENDAR
