BEGIN:VCALENDAR
VERSION:2.0
PRODID:-//QuickScores.com//BQ Dynamic iCal Creator//EN
METHOD:PUBLISH
X-WR-CALNAME:West Mesa Sophomores - 11u - Sophomore Division - Fall 2024
X-WR-CALDESC:QuickScores game calendar
X-PUBLISHED-TTL:PT24H
REFRESH-INTERVAL;VALUE=DURATION:PT24H
CALSCALE:GREGORIAN
BEGIN:VTIMEZONE
TZID:America/Denver
X-LIC-LOCATION:America/Denver
BEGIN:DAYLIGHT
TZNAME:MDT
TZOFFSETFROM:-0700
TZOFFSETTO:-0600
DTSTART:19700308T020000
RRULE:FREQ=YEARLY;BYMONTH=3;BYDAY=2SU
END:DAYLIGHT
BEGIN:STANDARD
TZNAME:MST
TZOFFSETFROM:-0600
TZOFFSETTO:-0700
DTSTART:19701101T020000
RRULE:FREQ=YEARLY;BYMONTH=11;BYDAY=1SU
END:STANDARD
END:VTIMEZONE
BEGIN:VEVENT
UID:yasports-64178265-20240803T110000@quickscores.com
DTSTAMP:20260424T094200Z
DTSTART;TZID=America/Denver:20240803T110000
DURATION:PT2H0M0S
SUMMARY:Cibola Sophomores vs. West Mesa Sophomores
DESCRIPTION:11u - Sophomore Division - New Mexico Young America Football League
LOCATION:Mesa Del Sol Field 2
CATEGORIES:QuickScores, Football Game
TRANSP:OPAQUE
BEGIN:VALARM
TRIGGER:-PT2H
ACTION:DISPLAY
DESCRIPTION:Cibola Sophomores vs. West Mesa Sophomores
END:VALARM
END:VEVENT
BEGIN:VEVENT
UID:yasports-64178132-20240810T150000@quickscores.com
DTSTAMP:20260424T094200Z
DTSTART;TZID=America/Denver:20240810T150000
DURATION:PT2H0M0S
SUMMARY:West Mesa Sophomores vs. Manzano Sophomores
DESCRIPTION:11u - Sophomore Division - New Mexico Young America Football League
LOCATION:Rio Rancho Sportsplex Field 2
CATEGORIES:QuickScores, Football Game
TRANSP:OPAQUE
BEGIN:VALARM
TRIGGER:-PT2H
ACTION:DISPLAY
DESCRIPTION:West Mesa Sophomores vs. Manzano Sophomores
END:VALARM
END:VEVENT
BEGIN:VEVENT
UID:yasports-64178141-20240817T150000@quickscores.com
DTSTAMP:20260424T094200Z
DTSTART;TZID=America/Denver:20240817T150000
DURATION:PT2H0M0S
SUMMARY:Volcano Vista Sophomores vs. West Mesa Sophomores
DESCRIPTION:11u - Sophomore Division - New Mexico Young America Football League
LOCATION:Mesa Del Sol Field 3
CATEGORIES:QuickScores, Football Game
TRANSP:OPAQUE
BEGIN:VALARM
TRIGGER:-PT2H
ACTION:DISPLAY
DESCRIPTION:Volcano Vista Sophomores vs. West Mesa Sophomores
END:VALARM
END:VEVENT
BEGIN:VEVENT
UID:yasports-64178144-20240824T150000@quickscores.com
DTSTAMP:20260424T094200Z
DTSTART;TZID=America/Denver:20240824T150000
DURATION:PT2H0M0S
SUMMARY:La Cueva Sophomores vs. West Mesa Sophomores
DESCRIPTION:11u - Sophomore Division - New Mexico Young America Football League
LOCATION:Rio Rancho Sportsplex Field 2
CATEGORIES:QuickScores, Football Game
TRANSP:OPAQUE
BEGIN:VALARM
TRIGGER:-PT2H
ACTION:DISPLAY
DESCRIPTION:La Cueva Sophomores vs. West Mesa Sophomores
END:VALARM
END:VEVENT
BEGIN:VEVENT
UID:yasports-64178160-20240907T130000@quickscores.com
DTSTAMP:20260424T094200Z
DTSTART;TZID=America/Denver:20240907T130000
DURATION:PT2H0M0S
SUMMARY:Atrisco Heritage Sophomores vs. West Mesa Sophomores
DESCRIPTION:11u - Sophomore Division - New Mexico Young America Football League
LOCATION:Rio Rancho Sportsplex Field 1
CATEGORIES:QuickScores, Football Game
TRANSP:OPAQUE
BEGIN:VALARM
TRIGGER:-PT2H
ACTION:DISPLAY
DESCRIPTION:Atrisco Heritage Sophomores vs. West Mesa Sophomores
END:VALARM
END:VEVENT
BEGIN:VEVENT
UID:yasports-64178168-20240914T130000@quickscores.com
DTSTAMP:20260424T094200Z
DTSTART;TZID=America/Denver:20240914T130000
DURATION:PT2H0M0S
SUMMARY:West Mesa Sophomores vs. Volcano Vista East Sophomores
DESCRIPTION:11u - Sophomore Division - New Mexico Young America Football League
LOCATION:Rio Rancho Sportsplex Field 2
CATEGORIES:QuickScores, Football Game
TRANSP:OPAQUE
BEGIN:VALARM
TRIGGER:-PT2H
ACTION:DISPLAY
DESCRIPTION:West Mesa Sophomores vs. Volcano Vista East Sophomores
END:VALARM
END:VEVENT
BEGIN:VEVENT
UID:yasports-64178177-20240921T130000@quickscores.com
DTSTAMP:20260424T094200Z
DTSTART;TZID=America/Denver:20240921T130000
DURATION:PT2H0M0S
SUMMARY:West Mesa Sophomores vs. Albuquerque High Sophomores
DESCRIPTION:11u - Sophomore Division - New Mexico Young America Football League
LOCATION:Rio Rancho Sportsplex Field 2
CATEGORIES:QuickScores, Football Game
TRANSP:OPAQUE
BEGIN:VALARM
TRIGGER:-PT2H
ACTION:DISPLAY
DESCRIPTION:West Mesa Sophomores vs. Albuquerque High Sophomores
END:VALARM
END:VEVENT
BEGIN:VEVENT
UID:yasports-64178155-20240928T130000@quickscores.com
DTSTAMP:20260424T094200Z
DTSTART;TZID=America/Denver:20240928T130000
DURATION:PT2H0M0S
SUMMARY:Rio Rancho Sophomores vs. West Mesa Sophomores
DESCRIPTION:11u - Sophomore Division - New Mexico Young America Football League
LOCATION:Rio Rancho Sportsplex Field 2
CATEGORIES:QuickScores, Football Game
TRANSP:OPAQUE
BEGIN:VALARM
TRIGGER:-PT2H
ACTION:DISPLAY
DESCRIPTION:Rio Rancho Sophomores vs. West Mesa Sophomores
END:VALARM
END:VEVENT
BEGIN:VEVENT
UID:yasports-65102464-20241005T120000@quickscores.com
DTSTAMP:20260424T094200Z
DTSTART;TZID=America/Denver:20241005T120000
DURATION:PT2H0M0S
SUMMARY:West Mesa Sophomores vs. Valencia Sophomores
DESCRIPTION:11u - Sophomore Division - New Mexico Young America Football League
LOCATION:Mesa Del Sol Field 6
CATEGORIES:QuickScores, Football Game
TRANSP:OPAQUE
BEGIN:VALARM
TRIGGER:-PT2H
ACTION:DISPLAY
DESCRIPTION:West Mesa Sophomores vs. Valencia Sophomores
END:VALARM
END:VEVENT
BEGIN:VEVENT
UID:yasports-65102468-20241013T120000@quickscores.com
DTSTAMP:20260424T094200Z
DTSTART;TZID=America/Denver:20241013T120000
DURATION:PT2H0M0S
SUMMARY:Sandia Sophomores vs. West Mesa Sophomores
DESCRIPTION:11u - Sophomore Division - New Mexico Young America Football League
LOCATION:Wilson Stadium
CATEGORIES:QuickScores, Football Game
TRANSP:OPAQUE
BEGIN:VALARM
TRIGGER:-PT2H
ACTION:DISPLAY
DESCRIPTION:Sandia Sophomores vs. West Mesa Sophomores
END:VALARM
END:VEVENT
END:VCALENDAR
