BEGIN:VCALENDAR
VERSION:2.0
PRODID:-//QuickScores.com//BQ Dynamic iCal Creator//EN
METHOD:PUBLISH
X-WR-CALNAME:Cibola Sophomores - 11u - Sophomore Division - Fall 2024
X-WR-CALDESC:QuickScores game calendar
X-PUBLISHED-TTL:PT24H
REFRESH-INTERVAL;VALUE=DURATION:PT24H
CALSCALE:GREGORIAN
BEGIN:VTIMEZONE
TZID:America/Denver
X-LIC-LOCATION:America/Denver
BEGIN:DAYLIGHT
TZNAME:MDT
TZOFFSETFROM:-0700
TZOFFSETTO:-0600
DTSTART:19700308T020000
RRULE:FREQ=YEARLY;BYMONTH=3;BYDAY=2SU
END:DAYLIGHT
BEGIN:STANDARD
TZNAME:MST
TZOFFSETFROM:-0600
TZOFFSETTO:-0700
DTSTART:19701101T020000
RRULE:FREQ=YEARLY;BYMONTH=11;BYDAY=1SU
END:STANDARD
END:VTIMEZONE
BEGIN:VEVENT
UID:yasports-64178265-20240803T110000@quickscores.com
DTSTAMP:20260424T122900Z
DTSTART;TZID=America/Denver:20240803T110000
DURATION:PT2H0M0S
SUMMARY:Cibola Sophomores vs. West Mesa Sophomores
DESCRIPTION:11u - Sophomore Division - New Mexico Young America Football League
LOCATION:Mesa Del Sol Field 2
CATEGORIES:QuickScores, Football Game
TRANSP:OPAQUE
BEGIN:VALARM
TRIGGER:-PT2H
ACTION:DISPLAY
DESCRIPTION:Cibola Sophomores vs. West Mesa Sophomores
END:VALARM
END:VEVENT
BEGIN:VEVENT
UID:yasports-64178133-20240810T090000@quickscores.com
DTSTAMP:20260424T122900Z
DTSTART;TZID=America/Denver:20240810T090000
DURATION:PT2H0M0S
SUMMARY:Sue Cleveland Sophomores vs. Cibola Sophomores
DESCRIPTION:11u - Sophomore Division - New Mexico Young America Football League
LOCATION:Mesa Del Sol Field 1
CATEGORIES:QuickScores, Football Game
TRANSP:OPAQUE
BEGIN:VALARM
TRIGGER:-PT2H
ACTION:DISPLAY
DESCRIPTION:Sue Cleveland Sophomores vs. Cibola Sophomores
END:VALARM
END:VEVENT
BEGIN:VEVENT
UID:yasports-64178138-20240817T110000@quickscores.com
DTSTAMP:20260424T122900Z
DTSTART;TZID=America/Denver:20240817T110000
DURATION:PT2H0M0S
SUMMARY:Cibola Sophomores vs. Los Lunas Sophomores
DESCRIPTION:11u - Sophomore Division - New Mexico Young America Football League
LOCATION:Heritage Park Field 1 - Los Lunas
CATEGORIES:QuickScores, Football Game
TRANSP:OPAQUE
BEGIN:VALARM
TRIGGER:-PT2H
ACTION:DISPLAY
DESCRIPTION:Cibola Sophomores vs. Los Lunas Sophomores
END:VALARM
END:VEVENT
BEGIN:VEVENT
UID:yasports-64178147-20240824T090000@quickscores.com
DTSTAMP:20260424T122900Z
DTSTART;TZID=America/Denver:20240824T090000
DURATION:PT2H0M0S
SUMMARY:Valencia Sophomores vs. Cibola Sophomores
DESCRIPTION:11u - Sophomore Division - New Mexico Young America Football League
LOCATION:Heritage Park Field 1 - Los Lunas
CATEGORIES:QuickScores, Football Game
TRANSP:OPAQUE
BEGIN:VALARM
TRIGGER:-PT2H
ACTION:DISPLAY
DESCRIPTION:Valencia Sophomores vs. Cibola Sophomores
END:VALARM
END:VEVENT
BEGIN:VEVENT
UID:yasports-64178157-20240907T150000@quickscores.com
DTSTAMP:20260424T122900Z
DTSTART;TZID=America/Denver:20240907T150000
DURATION:PT2H0M0S
SUMMARY:Cibola Sophomores vs. Eldorado Sophomores
DESCRIPTION:11u - Sophomore Division - New Mexico Young America Football League
LOCATION:Mesa Del Sol Field 1
CATEGORIES:QuickScores, Football Game
TRANSP:OPAQUE
BEGIN:VALARM
TRIGGER:-PT2H
ACTION:DISPLAY
DESCRIPTION:Cibola Sophomores vs. Eldorado Sophomores
END:VALARM
END:VEVENT
BEGIN:VEVENT
UID:yasports-64178165-20240914T110000@quickscores.com
DTSTAMP:20260424T122900Z
DTSTART;TZID=America/Denver:20240914T110000
DURATION:PT2H0M0S
SUMMARY:Cibola Sophomores vs. Albuquerque High Sophomores
DESCRIPTION:11u - Sophomore Division - New Mexico Young America Football League
LOCATION:Mesa Del Sol Field 1
CATEGORIES:QuickScores, Football Game
TRANSP:OPAQUE
BEGIN:VALARM
TRIGGER:-PT2H
ACTION:DISPLAY
DESCRIPTION:Cibola Sophomores vs. Albuquerque High Sophomores
END:VALARM
END:VEVENT
BEGIN:VEVENT
UID:yasports-64178171-20240921T110000@quickscores.com
DTSTAMP:20260424T122900Z
DTSTART;TZID=America/Denver:20240921T110000
DURATION:PT2H0M0S
SUMMARY:Cibola Sophomores vs. Sandia Sophomores
DESCRIPTION:11u - Sophomore Division - New Mexico Young America Football League
LOCATION:Mesa Del Sol Field 2
CATEGORIES:QuickScores, Football Game
TRANSP:OPAQUE
BEGIN:VALARM
TRIGGER:-PT2H
ACTION:DISPLAY
DESCRIPTION:Cibola Sophomores vs. Sandia Sophomores
END:VALARM
END:VEVENT
BEGIN:VEVENT
UID:yasports-64178150-20240928T150000@quickscores.com
DTSTAMP:20260424T122900Z
DTSTART;TZID=America/Denver:20240928T150000
DURATION:PT2H0M0S
SUMMARY:Cibola Sophomores vs. Volcano Vista Sophomores
DESCRIPTION:11u - Sophomore Division - New Mexico Young America Football League
LOCATION:Mesa Del Sol Field 6
CATEGORIES:QuickScores, Football Game
TRANSP:OPAQUE
BEGIN:VALARM
TRIGGER:-PT2H
ACTION:DISPLAY
DESCRIPTION:Cibola Sophomores vs. Volcano Vista Sophomores
END:VALARM
END:VEVENT
BEGIN:VEVENT
UID:yasports-65102460-20241005T120000@quickscores.com
DTSTAMP:20260424T122900Z
DTSTART;TZID=America/Denver:20241005T120000
DURATION:PT2H0M0S
SUMMARY:Cibola Sophomores vs. Albuquerque High Sophomores
DESCRIPTION:11u - Sophomore Division - New Mexico Young America Football League
LOCATION:Mesa Del Sol Field 5
CATEGORIES:QuickScores, Football Game
TRANSP:OPAQUE
BEGIN:VALARM
TRIGGER:-PT2H
ACTION:DISPLAY
DESCRIPTION:Cibola Sophomores vs. Albuquerque High Sophomores
END:VALARM
END:VEVENT
BEGIN:VEVENT
UID:yasports-65102466-20241013T080000@quickscores.com
DTSTAMP:20260424T122900Z
DTSTART;TZID=America/Denver:20241013T080000
DURATION:PT2H0M0S
SUMMARY:La Cueva Sophomores vs. Cibola Sophomores
DESCRIPTION:11u - Sophomore Division - New Mexico Young America Football League
LOCATION:Wilson Stadium
CATEGORIES:QuickScores, Football Game
TRANSP:OPAQUE
BEGIN:VALARM
TRIGGER:-PT2H
ACTION:DISPLAY
DESCRIPTION:La Cueva Sophomores vs. Cibola Sophomores
END:VALARM
END:VEVENT
BEGIN:VEVENT
UID:yasports-65102469-20241020T140000@quickscores.com
DTSTAMP:20260424T122900Z
DTSTART;TZID=America/Denver:20241020T140000
DURATION:PT2H0M0S
SUMMARY:Volcano Vista Sophomores vs. Cibola Sophomores
DESCRIPTION:11u - Sophomore Division - New Mexico Young America Football League
LOCATION:Wilson Stadium
CATEGORIES:QuickScores, Football Game
TRANSP:OPAQUE
BEGIN:VALARM
TRIGGER:-PT2H
ACTION:DISPLAY
DESCRIPTION:Volcano Vista Sophomores vs. Cibola Sophomores
END:VALARM
END:VEVENT
END:VCALENDAR
