BEGIN:VCALENDAR
VERSION:2.0
PRODID:-//QuickScores.com//BQ Dynamic iCal Creator//EN
METHOD:PUBLISH
X-WR-CALNAME:Rio Rancho Sophomores - 11u - Sophomore Division - Fall 2024
X-WR-CALDESC:QuickScores game calendar
X-PUBLISHED-TTL:PT24H
REFRESH-INTERVAL;VALUE=DURATION:PT24H
CALSCALE:GREGORIAN
BEGIN:VTIMEZONE
TZID:America/Denver
X-LIC-LOCATION:America/Denver
BEGIN:DAYLIGHT
TZNAME:MDT
TZOFFSETFROM:-0700
TZOFFSETTO:-0600
DTSTART:19700308T020000
RRULE:FREQ=YEARLY;BYMONTH=3;BYDAY=2SU
END:DAYLIGHT
BEGIN:STANDARD
TZNAME:MST
TZOFFSETFROM:-0600
TZOFFSETTO:-0700
DTSTART:19701101T020000
RRULE:FREQ=YEARLY;BYMONTH=11;BYDAY=1SU
END:STANDARD
END:VTIMEZONE
BEGIN:VEVENT
UID:yasports-64178268-20240803T130000@quickscores.com
DTSTAMP:20260424T081700Z
DTSTART;TZID=America/Denver:20240803T130000
DURATION:PT2H0M0S
SUMMARY:Eldorado Sophomores vs. Rio Rancho Sophomores
DESCRIPTION:11u - Sophomore Division - New Mexico Young America Football League
LOCATION:Mesa Del Sol Field 5
CATEGORIES:QuickScores, Football Game
TRANSP:OPAQUE
BEGIN:VALARM
TRIGGER:-PT2H
ACTION:DISPLAY
DESCRIPTION:Eldorado Sophomores vs. Rio Rancho Sophomores
END:VALARM
END:VEVENT
BEGIN:VEVENT
UID:yasports-64178129-20240810T110000@quickscores.com
DTSTAMP:20260424T081700Z
DTSTART;TZID=America/Denver:20240810T110000
DURATION:PT2H0M0S
SUMMARY:Albuquerque High Sophomores vs. Rio Rancho Sophomores
DESCRIPTION:11u - Sophomore Division - New Mexico Young America Football League
LOCATION:Mesa Del Sol Field 1
CATEGORIES:QuickScores, Football Game
TRANSP:OPAQUE
BEGIN:VALARM
TRIGGER:-PT2H
ACTION:DISPLAY
DESCRIPTION:Albuquerque High Sophomores vs. Rio Rancho Sophomores
END:VALARM
END:VEVENT
BEGIN:VEVENT
UID:yasports-64178140-20240817T130000@quickscores.com
DTSTAMP:20260424T081700Z
DTSTART;TZID=America/Denver:20240817T130000
DURATION:PT2H0M0S
SUMMARY:Volcano Vista East Sophomores vs. Rio Rancho Sophomores
DESCRIPTION:11u - Sophomore Division - New Mexico Young America Football League
LOCATION:Rio Rancho Sportsplex Field 2
CATEGORIES:QuickScores, Football Game
TRANSP:OPAQUE
BEGIN:VALARM
TRIGGER:-PT2H
ACTION:DISPLAY
DESCRIPTION:Volcano Vista East Sophomores vs. Rio Rancho Sophomores
END:VALARM
END:VEVENT
BEGIN:VEVENT
UID:yasports-64178149-20240824T130000@quickscores.com
DTSTAMP:20260424T081700Z
DTSTART;TZID=America/Denver:20240824T130000
DURATION:PT2H0M0S
SUMMARY:Atrisco Heritage Sophomores vs. Rio Rancho Sophomores
DESCRIPTION:11u - Sophomore Division - New Mexico Young America Football League
LOCATION:Mesa Del Sol Field 6
CATEGORIES:QuickScores, Football Game
TRANSP:OPAQUE
BEGIN:VALARM
TRIGGER:-PT2H
ACTION:DISPLAY
DESCRIPTION:Atrisco Heritage Sophomores vs. Rio Rancho Sophomores
END:VALARM
END:VEVENT
BEGIN:VEVENT
UID:yasports-64178162-20240907T130000@quickscores.com
DTSTAMP:20260424T081700Z
DTSTART;TZID=America/Denver:20240907T130000
DURATION:PT2H0M0S
SUMMARY:Rio Rancho Sophomores vs. Sue Cleveland Sophomores
DESCRIPTION:11u - Sophomore Division - New Mexico Young America Football League
LOCATION:Rio Rancho Sportsplex Field 2
CATEGORIES:QuickScores, Football Game
TRANSP:OPAQUE
BEGIN:VALARM
TRIGGER:-PT2H
ACTION:DISPLAY
DESCRIPTION:Rio Rancho Sophomores vs. Sue Cleveland Sophomores
END:VALARM
END:VEVENT
BEGIN:VEVENT
UID:yasports-64178166-20240914T150000@quickscores.com
DTSTAMP:20260424T081700Z
DTSTART;TZID=America/Denver:20240914T150000
DURATION:PT2H0M0S
SUMMARY:Rio Rancho Sophomores vs. La Cueva Sophomores
DESCRIPTION:11u - Sophomore Division - New Mexico Young America Football League
LOCATION:Rio Rancho Sportsplex Field 2
CATEGORIES:QuickScores, Football Game
TRANSP:OPAQUE
BEGIN:VALARM
TRIGGER:-PT2H
ACTION:DISPLAY
DESCRIPTION:Rio Rancho Sophomores vs. La Cueva Sophomores
END:VALARM
END:VEVENT
BEGIN:VEVENT
UID:yasports-64178174-20240921T090000@quickscores.com
DTSTAMP:20260424T081700Z
DTSTART;TZID=America/Denver:20240921T090000
DURATION:PT2H0M0S
SUMMARY:Rio Rancho Sophomores vs. Manzano Sophomores
DESCRIPTION:11u - Sophomore Division - New Mexico Young America Football League
LOCATION:Mesa Del Sol Field 1
CATEGORIES:QuickScores, Football Game
TRANSP:OPAQUE
BEGIN:VALARM
TRIGGER:-PT2H
ACTION:DISPLAY
DESCRIPTION:Rio Rancho Sophomores vs. Manzano Sophomores
END:VALARM
END:VEVENT
BEGIN:VEVENT
UID:yasports-64178155-20240928T130000@quickscores.com
DTSTAMP:20260424T081700Z
DTSTART;TZID=America/Denver:20240928T130000
DURATION:PT2H0M0S
SUMMARY:Rio Rancho Sophomores vs. West Mesa Sophomores
DESCRIPTION:11u - Sophomore Division - New Mexico Young America Football League
LOCATION:Rio Rancho Sportsplex Field 2
CATEGORIES:QuickScores, Football Game
TRANSP:OPAQUE
BEGIN:VALARM
TRIGGER:-PT2H
ACTION:DISPLAY
DESCRIPTION:Rio Rancho Sophomores vs. West Mesa Sophomores
END:VALARM
END:VEVENT
BEGIN:VEVENT
UID:yasports-65102462-20241005T080000@quickscores.com
DTSTAMP:20260424T081700Z
DTSTART;TZID=America/Denver:20241005T080000
DURATION:PT2H0M0S
SUMMARY:Los Lunas Sophomores vs. Rio Rancho Sophomores
DESCRIPTION:11u - Sophomore Division - New Mexico Young America Football League
LOCATION:Mesa Del Sol Field 5
CATEGORIES:QuickScores, Football Game
TRANSP:OPAQUE
BEGIN:VALARM
TRIGGER:-PT2H
ACTION:DISPLAY
DESCRIPTION:Los Lunas Sophomores vs. Rio Rancho Sophomores
END:VALARM
END:VEVENT
BEGIN:VEVENT
UID:yasports-65102467-20241013T140000@quickscores.com
DTSTAMP:20260424T081700Z
DTSTART;TZID=America/Denver:20241013T140000
DURATION:PT2H0M0S
SUMMARY:Atrisco Heritage Sophomores vs. Rio Rancho Sophomores
DESCRIPTION:11u - Sophomore Division - New Mexico Young America Football League
LOCATION:Wilson Stadium
CATEGORIES:QuickScores, Football Game
TRANSP:OPAQUE
BEGIN:VALARM
TRIGGER:-PT2H
ACTION:DISPLAY
DESCRIPTION:Atrisco Heritage Sophomores vs. Rio Rancho Sophomores
END:VALARM
END:VEVENT
END:VCALENDAR
