BEGIN:VCALENDAR
VERSION:2.0
PRODID:-//QuickScores.com//BQ Dynamic iCal Creator//EN
METHOD:PUBLISH
X-WR-CALNAME:Atrisco Heritage Sophomores - 11u - Sophomore Division - Fall 2024
X-WR-CALDESC:QuickScores game calendar
X-PUBLISHED-TTL:PT24H
REFRESH-INTERVAL;VALUE=DURATION:PT24H
CALSCALE:GREGORIAN
BEGIN:VTIMEZONE
TZID:America/Denver
X-LIC-LOCATION:America/Denver
BEGIN:DAYLIGHT
TZNAME:MDT
TZOFFSETFROM:-0700
TZOFFSETTO:-0600
DTSTART:19700308T020000
RRULE:FREQ=YEARLY;BYMONTH=3;BYDAY=2SU
END:DAYLIGHT
BEGIN:STANDARD
TZNAME:MST
TZOFFSETFROM:-0600
TZOFFSETTO:-0700
DTSTART:19701101T020000
RRULE:FREQ=YEARLY;BYMONTH=11;BYDAY=1SU
END:STANDARD
END:VTIMEZONE
BEGIN:VEVENT
UID:yasports-64178264-20240803T130000@quickscores.com
DTSTAMP:20260424T052000Z
DTSTART;TZID=America/Denver:20240803T130000
DURATION:PT2H0M0S
SUMMARY:Sandia Sophomores vs. Atrisco Heritage Sophomores
DESCRIPTION:11u - Sophomore Division - New Mexico Young America Football League
LOCATION:Mesa Del Sol Field 1
CATEGORIES:QuickScores, Football Game
TRANSP:OPAQUE
BEGIN:VALARM
TRIGGER:-PT2H
ACTION:DISPLAY
DESCRIPTION:Sandia Sophomores vs. Atrisco Heritage Sophomores
END:VALARM
END:VEVENT
BEGIN:VEVENT
UID:yasports-64178135-20240810T110000@quickscores.com
DTSTAMP:20260424T052000Z
DTSTART;TZID=America/Denver:20240810T110000
DURATION:PT2H0M0S
SUMMARY:Eldorado Sophomores vs. Atrisco Heritage Sophomores
DESCRIPTION:11u - Sophomore Division - New Mexico Young America Football League
LOCATION:Mesa Del Sol Field 2
CATEGORIES:QuickScores, Football Game
TRANSP:OPAQUE
BEGIN:VALARM
TRIGGER:-PT2H
ACTION:DISPLAY
DESCRIPTION:Eldorado Sophomores vs. Atrisco Heritage Sophomores
END:VALARM
END:VEVENT
BEGIN:VEVENT
UID:yasports-64178142-20240817T150000@quickscores.com
DTSTAMP:20260424T052000Z
DTSTART;TZID=America/Denver:20240817T150000
DURATION:PT2H0M0S
SUMMARY:La Cueva Sophomores vs. Atrisco Heritage Sophomores
DESCRIPTION:11u - Sophomore Division - New Mexico Young America Football League
LOCATION:Heritage Park Field 1 - Los Lunas
CATEGORIES:QuickScores, Football Game
TRANSP:OPAQUE
BEGIN:VALARM
TRIGGER:-PT2H
ACTION:DISPLAY
DESCRIPTION:La Cueva Sophomores vs. Atrisco Heritage Sophomores
END:VALARM
END:VEVENT
BEGIN:VEVENT
UID:yasports-64178149-20240824T130000@quickscores.com
DTSTAMP:20260424T052000Z
DTSTART;TZID=America/Denver:20240824T130000
DURATION:PT2H0M0S
SUMMARY:Atrisco Heritage Sophomores vs. Rio Rancho Sophomores
DESCRIPTION:11u - Sophomore Division - New Mexico Young America Football League
LOCATION:Mesa Del Sol Field 6
CATEGORIES:QuickScores, Football Game
TRANSP:OPAQUE
BEGIN:VALARM
TRIGGER:-PT2H
ACTION:DISPLAY
DESCRIPTION:Atrisco Heritage Sophomores vs. Rio Rancho Sophomores
END:VALARM
END:VEVENT
BEGIN:VEVENT
UID:yasports-64178160-20240907T130000@quickscores.com
DTSTAMP:20260424T052000Z
DTSTART;TZID=America/Denver:20240907T130000
DURATION:PT2H0M0S
SUMMARY:Atrisco Heritage Sophomores vs. West Mesa Sophomores
DESCRIPTION:11u - Sophomore Division - New Mexico Young America Football League
LOCATION:Rio Rancho Sportsplex Field 1
CATEGORIES:QuickScores, Football Game
TRANSP:OPAQUE
BEGIN:VALARM
TRIGGER:-PT2H
ACTION:DISPLAY
DESCRIPTION:Atrisco Heritage Sophomores vs. West Mesa Sophomores
END:VALARM
END:VEVENT
BEGIN:VEVENT
UID:yasports-64178167-20240914T090000@quickscores.com
DTSTAMP:20260424T052000Z
DTSTART;TZID=America/Denver:20240914T090000
DURATION:PT2H0M0S
SUMMARY:Manzano Sophomores vs. Atrisco Heritage Sophomores
DESCRIPTION:11u - Sophomore Division - New Mexico Young America Football League
LOCATION:Mesa Del Sol Field 1
CATEGORIES:QuickScores, Football Game
TRANSP:OPAQUE
BEGIN:VALARM
TRIGGER:-PT2H
ACTION:DISPLAY
DESCRIPTION:Manzano Sophomores vs. Atrisco Heritage Sophomores
END:VALARM
END:VEVENT
BEGIN:VEVENT
UID:yasports-64178173-20240921T110000@quickscores.com
DTSTAMP:20260424T052000Z
DTSTART;TZID=America/Denver:20240921T110000
DURATION:PT2H0M0S
SUMMARY:Atrisco Heritage Sophomores vs. Volcano Vista East Sophomores
DESCRIPTION:11u - Sophomore Division - New Mexico Young America Football League
LOCATION:Heritage Park Field 1 - Los Lunas
CATEGORIES:QuickScores, Football Game
TRANSP:OPAQUE
BEGIN:VALARM
TRIGGER:-PT2H
ACTION:DISPLAY
DESCRIPTION:Atrisco Heritage Sophomores vs. Volcano Vista East Sophomores
END:VALARM
END:VEVENT
BEGIN:VEVENT
UID:yasports-64178153-20240928T150000@quickscores.com
DTSTAMP:20260424T052000Z
DTSTART;TZID=America/Denver:20240928T150000
DURATION:PT2H0M0S
SUMMARY:Atrisco Heritage Sophomores vs. Albuquerque High Sophomores
DESCRIPTION:11u - Sophomore Division - New Mexico Young America Football League
LOCATION:Mesa Del Sol Field 2
CATEGORIES:QuickScores, Football Game
TRANSP:OPAQUE
BEGIN:VALARM
TRIGGER:-PT2H
ACTION:DISPLAY
DESCRIPTION:Atrisco Heritage Sophomores vs. Albuquerque High Sophomores
END:VALARM
END:VEVENT
BEGIN:VEVENT
UID:yasports-65102467-20241013T140000@quickscores.com
DTSTAMP:20260424T052000Z
DTSTART;TZID=America/Denver:20241013T140000
DURATION:PT2H0M0S
SUMMARY:Atrisco Heritage Sophomores vs. Rio Rancho Sophomores
DESCRIPTION:11u - Sophomore Division - New Mexico Young America Football League
LOCATION:Wilson Stadium
CATEGORIES:QuickScores, Football Game
TRANSP:OPAQUE
BEGIN:VALARM
TRIGGER:-PT2H
ACTION:DISPLAY
DESCRIPTION:Atrisco Heritage Sophomores vs. Rio Rancho Sophomores
END:VALARM
END:VEVENT
BEGIN:VEVENT
UID:yasports-65102470-20241020T120000@quickscores.com
DTSTAMP:20260424T052000Z
DTSTART;TZID=America/Denver:20241020T120000
DURATION:PT2H0M0S
SUMMARY:Atrisco Heritage Sophomores vs. Sandia Sophomores
DESCRIPTION:11u - Sophomore Division - New Mexico Young America Football League
LOCATION:Wilson Stadium
CATEGORIES:QuickScores, Football Game
TRANSP:OPAQUE
BEGIN:VALARM
TRIGGER:-PT2H
ACTION:DISPLAY
DESCRIPTION:Atrisco Heritage Sophomores vs. Sandia Sophomores
END:VALARM
END:VEVENT
BEGIN:VEVENT
UID:yasports-65102471-20241027T120000@quickscores.com
DTSTAMP:20260424T052000Z
DTSTART;TZID=America/Denver:20241027T120000
DURATION:PT2H0M0S
SUMMARY:Volcano Vista Sophomores vs. Atrisco Heritage Sophomores
DESCRIPTION:11u - Sophomore Division - New Mexico Young America Football League
LOCATION:Community Stadium
CATEGORIES:QuickScores, Football Game
TRANSP:OPAQUE
BEGIN:VALARM
TRIGGER:-PT2H
ACTION:DISPLAY
DESCRIPTION:Volcano Vista Sophomores vs. Atrisco Heritage Sophomores
END:VALARM
END:VEVENT
END:VCALENDAR
