BEGIN:VCALENDAR
VERSION:2.0
PRODID:-//QuickScores.com//BQ Dynamic iCal Creator//EN
METHOD:PUBLISH
X-WR-CALNAME:Hornets - 8u Boys - Winter 2025-2026
X-WR-CALDESC:QuickScores game calendar
X-PUBLISHED-TTL:PT24H
REFRESH-INTERVAL;VALUE=DURATION:PT24H
CALSCALE:GREGORIAN
BEGIN:VTIMEZONE
TZID:America/New_York
X-LIC-LOCATION:America/New_York
BEGIN:DAYLIGHT
TZNAME:EDT
TZOFFSETFROM:-0500
TZOFFSETTO:-0400
DTSTART:19700308T020000
RRULE:FREQ=YEARLY;BYMONTH=3;BYDAY=2SU
END:DAYLIGHT
BEGIN:STANDARD
TZNAME:EST
TZOFFSETFROM:-0400
TZOFFSETTO:-0500
DTSTART:19701101T020000
RRULE:FREQ=YEARLY;BYMONTH=11;BYDAY=1SU
END:STANDARD
END:VTIMEZONE
BEGIN:VEVENT
UID:wrga-71524279-20251201T190000@quickscores.com
DTSTAMP:20260419T215500Z
DTSTART;TZID=America/New_York:20251201T190000
DURATION:PT1H0M0S
SUMMARY:Hornets vs. Nets
DESCRIPTION:8u Boys - Warner Robins Parks and Recreation 
LOCATION:NH Court 3
CATEGORIES:QuickScores, Basketball - Youth Game
TRANSP:OPAQUE
BEGIN:VALARM
TRIGGER:-PT2H
ACTION:DISPLAY
DESCRIPTION:Hornets vs. Nets
END:VALARM
END:VEVENT
BEGIN:VEVENT
UID:wrga-71524305-20251212T180000@quickscores.com
DTSTAMP:20260419T215500Z
DTSTART;TZID=America/New_York:20251212T180000
DURATION:PT1H0M0S
SUMMARY:Hornets vs. Hawks
DESCRIPTION:8u Boys - Warner Robins Parks and Recreation 
LOCATION:NH Court 4
CATEGORIES:QuickScores, Basketball - Youth Game
TRANSP:OPAQUE
BEGIN:VALARM
TRIGGER:-PT2H
ACTION:DISPLAY
DESCRIPTION:Hornets vs. Hawks
END:VALARM
END:VEVENT
BEGIN:VEVENT
UID:wrga-71524302-20251213T100000@quickscores.com
DTSTAMP:20260419T215500Z
DTSTART;TZID=America/New_York:20251213T100000
DURATION:PT1H0M0S
SUMMARY:Hornets vs. Thunder
DESCRIPTION:8u Boys - Warner Robins Parks and Recreation 
LOCATION:NH Court 3
CATEGORIES:QuickScores, Basketball - Youth Game
TRANSP:OPAQUE
BEGIN:VALARM
TRIGGER:-PT2H
ACTION:DISPLAY
DESCRIPTION:Hornets vs. Thunder
END:VALARM
END:VEVENT
BEGIN:VEVENT
UID:wrga-71524319-20260110T100000@quickscores.com
DTSTAMP:20260419T215500Z
DTSTART;TZID=America/New_York:20260110T100000
DURATION:PT1H0M0S
SUMMARY:Lakers vs. Hornets
DESCRIPTION:8u Boys - Warner Robins Parks and Recreation 
LOCATION:NH Court 3
CATEGORIES:QuickScores, Basketball - Youth Game
TRANSP:OPAQUE
BEGIN:VALARM
TRIGGER:-PT2H
ACTION:DISPLAY
DESCRIPTION:Lakers vs. Hornets
END:VALARM
END:VEVENT
BEGIN:VEVENT
UID:wrga-71524332-20260117T120000@quickscores.com
DTSTAMP:20260419T215500Z
DTSTART;TZID=America/New_York:20260117T120000
DURATION:PT1H0M0S
SUMMARY:Hornets vs. Bulls
DESCRIPTION:8u Boys - Warner Robins Parks and Recreation 
LOCATION:NH Court 3
CATEGORIES:QuickScores, Basketball - Youth Game
TRANSP:OPAQUE
BEGIN:VALARM
TRIGGER:-PT2H
ACTION:DISPLAY
DESCRIPTION:Hornets vs. Bulls
END:VALARM
END:VEVENT
BEGIN:VEVENT
UID:wrga-71524340-20260124T130000@quickscores.com
DTSTAMP:20260419T215500Z
DTSTART;TZID=America/New_York:20260124T130000
DURATION:PT1H0M0S
SUMMARY:Thunder vs. Hornets
DESCRIPTION:8u Boys - Warner Robins Parks and Recreation 
LOCATION:NH Court 3
CATEGORIES:QuickScores, Basketball - Youth Game
TRANSP:OPAQUE
BEGIN:VALARM
TRIGGER:-PT2H
ACTION:DISPLAY
DESCRIPTION:Thunder vs. Hornets
END:VALARM
END:VEVENT
BEGIN:VEVENT
UID:wrga-71524346-20260204T180000@quickscores.com
DTSTAMP:20260419T215500Z
DTSTART;TZID=America/New_York:20260204T180000
DURATION:PT1H0M0S
SUMMARY:Bulls vs. Hornets
DESCRIPTION:8u Boys - Warner Robins Parks and Recreation 
LOCATION:NH Court 3
CATEGORIES:QuickScores, Basketball - Youth Game
TRANSP:OPAQUE
BEGIN:VALARM
TRIGGER:-PT2H
ACTION:DISPLAY
DESCRIPTION:Bulls vs. Hornets
END:VALARM
END:VEVENT
BEGIN:VEVENT
UID:wrga-71524352-20260211T190000@quickscores.com
DTSTAMP:20260419T215500Z
DTSTART;TZID=America/New_York:20260211T190000
DURATION:PT1H0M0S
SUMMARY:Hawks vs. Hornets
DESCRIPTION:8u Boys - Warner Robins Parks and Recreation 
LOCATION:NH Court 3
CATEGORIES:QuickScores, Basketball - Youth Game
TRANSP:OPAQUE
BEGIN:VALARM
TRIGGER:-PT2H
ACTION:DISPLAY
DESCRIPTION:Hawks vs. Hornets
END:VALARM
END:VEVENT
BEGIN:VEVENT
UID:wrga-71524361-20260214T090000@quickscores.com
DTSTAMP:20260419T215500Z
DTSTART;TZID=America/New_York:20260214T090000
DURATION:PT1H0M0S
SUMMARY:Nets vs. Hornets
DESCRIPTION:8u Boys - Warner Robins Parks and Recreation 
LOCATION:NH Court 1
CATEGORIES:QuickScores, Basketball - Youth Game
TRANSP:OPAQUE
BEGIN:VALARM
TRIGGER:-PT2H
ACTION:DISPLAY
DESCRIPTION:Nets vs. Hornets
END:VALARM
END:VEVENT
BEGIN:VEVENT
UID:wrga-71524290-20260221T110000@quickscores.com
DTSTAMP:20260419T215500Z
DTSTART;TZID=America/New_York:20260221T110000
DURATION:PT1H0M0S
SUMMARY:Hornets vs. Lakers
DESCRIPTION:8u Boys - Warner Robins Parks and Recreation 
LOCATION:NH Court 3
CATEGORIES:QuickScores, Basketball - Youth Game
TRANSP:OPAQUE
BEGIN:VALARM
TRIGGER:-PT2H
ACTION:DISPLAY
DESCRIPTION:Hornets vs. Lakers
END:VALARM
END:VEVENT
BEGIN:VEVENT
UID:wrga-71522050-20260225T180000@quickscores.com
DTSTAMP:20260419T215500Z
DTSTART;TZID=America/New_York:20260225T180000
DURATION:PT1H0M0S
SUMMARY:[D2 #2] Hornets vs. [D1 #3] Bucks
DESCRIPTION:8u Boys - Warner Robins Parks and Recreation 
LOCATION:NH Court 1
CATEGORIES:QuickScores, Basketball - Youth Game
TRANSP:OPAQUE
BEGIN:VALARM
TRIGGER:-PT2H
ACTION:DISPLAY
DESCRIPTION:[D2 #2] Hornets vs. [D1 #3] Bucks
END:VALARM
END:VEVENT
END:VCALENDAR
