BEGIN:VCALENDAR
VERSION:2.0
PRODID:-//QuickScores.com//BQ Dynamic iCal Creator//EN
METHOD:PUBLISH
X-WR-CALNAME:Hornets - 6u - Winter 2025-2026
X-WR-CALDESC:QuickScores game calendar
X-PUBLISHED-TTL:PT24H
REFRESH-INTERVAL;VALUE=DURATION:PT24H
CALSCALE:GREGORIAN
BEGIN:VTIMEZONE
TZID:America/New_York
X-LIC-LOCATION:America/New_York
BEGIN:DAYLIGHT
TZNAME:EDT
TZOFFSETFROM:-0500
TZOFFSETTO:-0400
DTSTART:19700308T020000
RRULE:FREQ=YEARLY;BYMONTH=3;BYDAY=2SU
END:DAYLIGHT
BEGIN:STANDARD
TZNAME:EST
TZOFFSETFROM:-0400
TZOFFSETTO:-0500
DTSTART:19701101T020000
RRULE:FREQ=YEARLY;BYMONTH=11;BYDAY=1SU
END:STANDARD
END:VTIMEZONE
BEGIN:VEVENT
UID:wrga-71522914-20251208T190000@quickscores.com
DTSTAMP:20260423T152600Z
DTSTART;TZID=America/New_York:20251208T190000
DURATION:PT1H0M0S
SUMMARY:Celtics vs. Hornets
DESCRIPTION:6u - Warner Robins Parks and Recreation 
LOCATION:NH Court 4
CATEGORIES:QuickScores, Basketball - Youth Game
TRANSP:OPAQUE
BEGIN:VALARM
TRIGGER:-PT2H
ACTION:DISPLAY
DESCRIPTION:Celtics vs. Hornets
END:VALARM
END:VEVENT
BEGIN:VEVENT
UID:wrga-71522927-20251213T100000@quickscores.com
DTSTAMP:20260423T152600Z
DTSTART;TZID=America/New_York:20251213T100000
DURATION:PT1H0M0S
SUMMARY:Hornets vs. Timberwolves
DESCRIPTION:6u - Warner Robins Parks and Recreation 
LOCATION:Deloris Toliver
CATEGORIES:QuickScores, Basketball - Youth Game
TRANSP:OPAQUE
BEGIN:VALARM
TRIGGER:-PT2H
ACTION:DISPLAY
DESCRIPTION:Hornets vs. Timberwolves
END:VALARM
END:VEVENT
BEGIN:VEVENT
UID:wrga-71522932-20260107T190000@quickscores.com
DTSTAMP:20260423T152600Z
DTSTART;TZID=America/New_York:20260107T190000
DURATION:PT1H0M0S
SUMMARY:Bucks vs. Hornets
DESCRIPTION:6u - Warner Robins Parks and Recreation 
LOCATION:NH Court 4
CATEGORIES:QuickScores, Basketball - Youth Game
TRANSP:OPAQUE
BEGIN:VALARM
TRIGGER:-PT2H
ACTION:DISPLAY
DESCRIPTION:Bucks vs. Hornets
END:VALARM
END:VEVENT
BEGIN:VEVENT
UID:wrga-71522941-20260110T120000@quickscores.com
DTSTAMP:20260423T152600Z
DTSTART;TZID=America/New_York:20260110T120000
DURATION:PT1H0M0S
SUMMARY:Hornets vs. Knicks
DESCRIPTION:6u - Warner Robins Parks and Recreation 
LOCATION:Deloris Toliver
CATEGORIES:QuickScores, Basketball - Youth Game
TRANSP:OPAQUE
BEGIN:VALARM
TRIGGER:-PT2H
ACTION:DISPLAY
DESCRIPTION:Hornets vs. Knicks
END:VALARM
END:VEVENT
BEGIN:VEVENT
UID:wrga-71522949-20260114T180000@quickscores.com
DTSTAMP:20260423T152600Z
DTSTART;TZID=America/New_York:20260114T180000
DURATION:PT1H0M0S
SUMMARY:Hawks vs. Hornets
DESCRIPTION:6u - Warner Robins Parks and Recreation 
LOCATION:NH Court 4
CATEGORIES:QuickScores, Basketball - Youth Game
TRANSP:OPAQUE
BEGIN:VALARM
TRIGGER:-PT2H
ACTION:DISPLAY
DESCRIPTION:Hawks vs. Hornets
END:VALARM
END:VEVENT
BEGIN:VEVENT
UID:wrga-71522966-20260124T130000@quickscores.com
DTSTAMP:20260423T152600Z
DTSTART;TZID=America/New_York:20260124T130000
DURATION:PT1H0M0S
SUMMARY:Mavericks vs. Hornets
DESCRIPTION:6u - Warner Robins Parks and Recreation 
LOCATION:Deloris Toliver
CATEGORIES:QuickScores, Basketball - Youth Game
TRANSP:OPAQUE
BEGIN:VALARM
TRIGGER:-PT2H
ACTION:DISPLAY
DESCRIPTION:Mavericks vs. Hornets
END:VALARM
END:VEVENT
BEGIN:VEVENT
UID:wrga-71522964-20260126T180000@quickscores.com
DTSTAMP:20260423T152600Z
DTSTART;TZID=America/New_York:20260126T180000
DURATION:PT1H0M0S
SUMMARY:Hornets vs. Hawks
DESCRIPTION:6u - Warner Robins Parks and Recreation 
LOCATION:NH Court 4
CATEGORIES:QuickScores, Basketball - Youth Game
TRANSP:OPAQUE
BEGIN:VALARM
TRIGGER:-PT2H
ACTION:DISPLAY
DESCRIPTION:Hornets vs. Hawks
END:VALARM
END:VEVENT
BEGIN:VEVENT
UID:wrga-71522970-20260202T180000@quickscores.com
DTSTAMP:20260423T152600Z
DTSTART;TZID=America/New_York:20260202T180000
DURATION:PT1H0M0S
SUMMARY:Hornets vs. Mavericks
DESCRIPTION:6u - Warner Robins Parks and Recreation 
LOCATION:NH Court 4
CATEGORIES:QuickScores, Basketball - Youth Game
TRANSP:OPAQUE
BEGIN:VALARM
TRIGGER:-PT2H
ACTION:DISPLAY
DESCRIPTION:Hornets vs. Mavericks
END:VALARM
END:VEVENT
END:VCALENDAR
