BEGIN:VCALENDAR
VERSION:2.0
PRODID:-//QuickScores.com//BQ Dynamic iCal Creator//EN
METHOD:PUBLISH
X-WR-CALNAME:Hawks - 6u - Winter 2025-2026
X-WR-CALDESC:QuickScores game calendar
X-PUBLISHED-TTL:PT24H
REFRESH-INTERVAL;VALUE=DURATION:PT24H
CALSCALE:GREGORIAN
BEGIN:VTIMEZONE
TZID:America/New_York
X-LIC-LOCATION:America/New_York
BEGIN:DAYLIGHT
TZNAME:EDT
TZOFFSETFROM:-0500
TZOFFSETTO:-0400
DTSTART:19700308T020000
RRULE:FREQ=YEARLY;BYMONTH=3;BYDAY=2SU
END:DAYLIGHT
BEGIN:STANDARD
TZNAME:EST
TZOFFSETFROM:-0400
TZOFFSETTO:-0500
DTSTART:19701101T020000
RRULE:FREQ=YEARLY;BYMONTH=11;BYDAY=1SU
END:STANDARD
END:VTIMEZONE
BEGIN:VEVENT
UID:wrga-71522904-20251203T190000@quickscores.com
DTSTAMP:20260423T064100Z
DTSTART;TZID=America/New_York:20251203T190000
DURATION:PT1H0M0S
SUMMARY:Hawks vs. Mavericks
DESCRIPTION:6u - Warner Robins Parks and Recreation 
LOCATION:NH Court 4
CATEGORIES:QuickScores, Basketball - Youth Game
TRANSP:OPAQUE
BEGIN:VALARM
TRIGGER:-PT2H
ACTION:DISPLAY
DESCRIPTION:Hawks vs. Mavericks
END:VALARM
END:VEVENT
BEGIN:VEVENT
UID:wrga-71522924-20251213T090000@quickscores.com
DTSTAMP:20260423T064100Z
DTSTART;TZID=America/New_York:20251213T090000
DURATION:PT1H0M0S
SUMMARY:Hawks vs. Celtics
DESCRIPTION:6u - Warner Robins Parks and Recreation 
LOCATION:Deloris Toliver
CATEGORIES:QuickScores, Basketball - Youth Game
TRANSP:OPAQUE
BEGIN:VALARM
TRIGGER:-PT2H
ACTION:DISPLAY
DESCRIPTION:Hawks vs. Celtics
END:VALARM
END:VEVENT
BEGIN:VEVENT
UID:wrga-71522931-20260105T190000@quickscores.com
DTSTAMP:20260423T064100Z
DTSTART;TZID=America/New_York:20260105T190000
DURATION:PT1H0M0S
SUMMARY:Timberwolves vs. Hawks
DESCRIPTION:6u - Warner Robins Parks and Recreation 
LOCATION:NH Court 4
CATEGORIES:QuickScores, Basketball - Youth Game
TRANSP:OPAQUE
BEGIN:VALARM
TRIGGER:-PT2H
ACTION:DISPLAY
DESCRIPTION:Timberwolves vs. Hawks
END:VALARM
END:VEVENT
BEGIN:VEVENT
UID:wrga-71522943-20260112T190000@quickscores.com
DTSTAMP:20260423T064100Z
DTSTART;TZID=America/New_York:20260112T190000
DURATION:PT1H0M0S
SUMMARY:Bucks vs. Hawks
DESCRIPTION:6u - Warner Robins Parks and Recreation 
LOCATION:NH Court 4
CATEGORIES:QuickScores, Basketball - Youth Game
TRANSP:OPAQUE
BEGIN:VALARM
TRIGGER:-PT2H
ACTION:DISPLAY
DESCRIPTION:Bucks vs. Hawks
END:VALARM
END:VEVENT
BEGIN:VEVENT
UID:wrga-71522949-20260114T180000@quickscores.com
DTSTAMP:20260423T064100Z
DTSTART;TZID=America/New_York:20260114T180000
DURATION:PT1H0M0S
SUMMARY:Hawks vs. Hornets
DESCRIPTION:6u - Warner Robins Parks and Recreation 
LOCATION:NH Court 4
CATEGORIES:QuickScores, Basketball - Youth Game
TRANSP:OPAQUE
BEGIN:VALARM
TRIGGER:-PT2H
ACTION:DISPLAY
DESCRIPTION:Hawks vs. Hornets
END:VALARM
END:VEVENT
BEGIN:VEVENT
UID:wrga-71522955-20260121T180000@quickscores.com
DTSTAMP:20260423T064100Z
DTSTART;TZID=America/New_York:20260121T180000
DURATION:PT1H0M0S
SUMMARY:Knicks vs. Hawks
DESCRIPTION:6u - Warner Robins Parks and Recreation 
LOCATION:NH Court 4
CATEGORIES:QuickScores, Basketball - Youth Game
TRANSP:OPAQUE
BEGIN:VALARM
TRIGGER:-PT2H
ACTION:DISPLAY
DESCRIPTION:Knicks vs. Hawks
END:VALARM
END:VEVENT
BEGIN:VEVENT
UID:wrga-71522964-20260126T180000@quickscores.com
DTSTAMP:20260423T064100Z
DTSTART;TZID=America/New_York:20260126T180000
DURATION:PT1H0M0S
SUMMARY:Hornets vs. Hawks
DESCRIPTION:6u - Warner Robins Parks and Recreation 
LOCATION:NH Court 4
CATEGORIES:QuickScores, Basketball - Youth Game
TRANSP:OPAQUE
BEGIN:VALARM
TRIGGER:-PT2H
ACTION:DISPLAY
DESCRIPTION:Hornets vs. Hawks
END:VALARM
END:VEVENT
BEGIN:VEVENT
UID:wrga-71522920-20260218T190000@quickscores.com
DTSTAMP:20260423T064100Z
DTSTART;TZID=America/New_York:20260218T190000
DURATION:PT1H0M0S
SUMMARY:Hawks vs. Knicks
DESCRIPTION:6u - Warner Robins Parks and Recreation 
LOCATION:NH Court 4
CATEGORIES:QuickScores, Basketball - Youth Game
TRANSP:OPAQUE
BEGIN:VALARM
TRIGGER:-PT2H
ACTION:DISPLAY
DESCRIPTION:Hawks vs. Knicks
END:VALARM
END:VEVENT
END:VCALENDAR
