BEGIN:VCALENDAR
VERSION:2.0
PRODID:-//QuickScores.com//BQ Dynamic iCal Creator//EN
METHOD:PUBLISH
X-WR-CALNAME:Grizzlies - 6u - Winter 2025-2026
X-WR-CALDESC:QuickScores game calendar
X-PUBLISHED-TTL:PT24H
REFRESH-INTERVAL;VALUE=DURATION:PT24H
CALSCALE:GREGORIAN
BEGIN:VTIMEZONE
TZID:America/New_York
X-LIC-LOCATION:America/New_York
BEGIN:DAYLIGHT
TZNAME:EDT
TZOFFSETFROM:-0500
TZOFFSETTO:-0400
DTSTART:19700308T020000
RRULE:FREQ=YEARLY;BYMONTH=3;BYDAY=2SU
END:DAYLIGHT
BEGIN:STANDARD
TZNAME:EST
TZOFFSETFROM:-0400
TZOFFSETTO:-0500
DTSTART:19701101T020000
RRULE:FREQ=YEARLY;BYMONTH=11;BYDAY=1SU
END:STANDARD
END:VTIMEZONE
BEGIN:VEVENT
UID:wrga-71522903-20251201T180000@quickscores.com
DTSTAMP:20260423T165400Z
DTSTART;TZID=America/New_York:20251201T180000
DURATION:PT1H0M0S
SUMMARY:Grizzlies vs. Jazz
DESCRIPTION:6u - Warner Robins Parks and Recreation 
LOCATION:NH Court 4
CATEGORIES:QuickScores, Basketball - Youth Game
TRANSP:OPAQUE
BEGIN:VALARM
TRIGGER:-PT2H
ACTION:DISPLAY
DESCRIPTION:Grizzlies vs. Jazz
END:VALARM
END:VEVENT
BEGIN:VEVENT
UID:wrga-71522918-20251208T180000@quickscores.com
DTSTAMP:20260423T165400Z
DTSTART;TZID=America/New_York:20251208T180000
DURATION:PT1H0M0S
SUMMARY:Lakers vs. Grizzlies
DESCRIPTION:6u - Warner Robins Parks and Recreation 
LOCATION:NH Court 4
CATEGORIES:QuickScores, Basketball - Youth Game
TRANSP:OPAQUE
BEGIN:VALARM
TRIGGER:-PT2H
ACTION:DISPLAY
DESCRIPTION:Lakers vs. Grizzlies
END:VALARM
END:VEVENT
BEGIN:VEVENT
UID:wrga-71522928-20251213T130000@quickscores.com
DTSTAMP:20260423T165400Z
DTSTART;TZID=America/New_York:20251213T130000
DURATION:PT1H0M0S
SUMMARY:Suns vs. Grizzlies
DESCRIPTION:6u - Warner Robins Parks and Recreation 
LOCATION:Deloris Toliver
CATEGORIES:QuickScores, Basketball - Youth Game
TRANSP:OPAQUE
BEGIN:VALARM
TRIGGER:-PT2H
ACTION:DISPLAY
DESCRIPTION:Suns vs. Grizzlies
END:VALARM
END:VEVENT
BEGIN:VEVENT
UID:wrga-71522933-20260107T180000@quickscores.com
DTSTAMP:20260423T165400Z
DTSTART;TZID=America/New_York:20260107T180000
DURATION:PT1H0M0S
SUMMARY:Bulls vs. Grizzlies
DESCRIPTION:6u - Warner Robins Parks and Recreation 
LOCATION:NH Court 4
CATEGORIES:QuickScores, Basketball - Youth Game
TRANSP:OPAQUE
BEGIN:VALARM
TRIGGER:-PT2H
ACTION:DISPLAY
DESCRIPTION:Bulls vs. Grizzlies
END:VALARM
END:VEVENT
BEGIN:VEVENT
UID:wrga-71522947-20260114T190000@quickscores.com
DTSTAMP:20260423T165400Z
DTSTART;TZID=America/New_York:20260114T190000
DURATION:PT1H0M0S
SUMMARY:Heat vs. Grizzlies
DESCRIPTION:6u - Warner Robins Parks and Recreation 
LOCATION:NH Court 4
CATEGORIES:QuickScores, Basketball - Youth Game
TRANSP:OPAQUE
BEGIN:VALARM
TRIGGER:-PT2H
ACTION:DISPLAY
DESCRIPTION:Heat vs. Grizzlies
END:VALARM
END:VEVENT
BEGIN:VEVENT
UID:wrga-71522954-20260117T110000@quickscores.com
DTSTAMP:20260423T165400Z
DTSTART;TZID=America/New_York:20260117T110000
DURATION:PT1H0M0S
SUMMARY:Grizzlies vs. 76ers
DESCRIPTION:6u - Warner Robins Parks and Recreation 
LOCATION:Deloris Toliver
CATEGORIES:QuickScores, Basketball - Youth Game
TRANSP:OPAQUE
BEGIN:VALARM
TRIGGER:-PT2H
ACTION:DISPLAY
DESCRIPTION:Grizzlies vs. 76ers
END:VALARM
END:VEVENT
BEGIN:VEVENT
UID:wrga-71522961-20260124T090000@quickscores.com
DTSTAMP:20260423T165400Z
DTSTART;TZID=America/New_York:20260124T090000
DURATION:PT1H0M0S
SUMMARY:Grizzlies vs. Lakers
DESCRIPTION:6u - Warner Robins Parks and Recreation 
LOCATION:Deloris Toliver
CATEGORIES:QuickScores, Basketball - Youth Game
TRANSP:OPAQUE
BEGIN:VALARM
TRIGGER:-PT2H
ACTION:DISPLAY
DESCRIPTION:Grizzlies vs. Lakers
END:VALARM
END:VEVENT
BEGIN:VEVENT
UID:wrga-71522919-20260221T100000@quickscores.com
DTSTAMP:20260423T165400Z
DTSTART;TZID=America/New_York:20260221T100000
DURATION:PT1H0M0S
SUMMARY:Grizzlies vs. Bulls
DESCRIPTION:6u - Warner Robins Parks and Recreation 
LOCATION:NH Court 4
CATEGORIES:QuickScores, Basketball - Youth Game
TRANSP:OPAQUE
BEGIN:VALARM
TRIGGER:-PT2H
ACTION:DISPLAY
DESCRIPTION:Grizzlies vs. Bulls
END:VALARM
END:VEVENT
END:VCALENDAR
