BEGIN:VCALENDAR
VERSION:2.0
PRODID:-//QuickScores.com//BQ Dynamic iCal Creator//EN
METHOD:PUBLISH
X-WR-CALNAME:Chiefs - 12u - Fall 2025
X-WR-CALDESC:QuickScores game calendar
X-PUBLISHED-TTL:PT24H
REFRESH-INTERVAL;VALUE=DURATION:PT24H
CALSCALE:GREGORIAN
BEGIN:VTIMEZONE
TZID:America/New_York
X-LIC-LOCATION:America/New_York
BEGIN:DAYLIGHT
TZNAME:EDT
TZOFFSETFROM:-0500
TZOFFSETTO:-0400
DTSTART:19700308T020000
RRULE:FREQ=YEARLY;BYMONTH=3;BYDAY=2SU
END:DAYLIGHT
BEGIN:STANDARD
TZNAME:EST
TZOFFSETFROM:-0400
TZOFFSETTO:-0500
DTSTART:19701101T020000
RRULE:FREQ=YEARLY;BYMONTH=11;BYDAY=1SU
END:STANDARD
END:VTIMEZONE
BEGIN:VEVENT
UID:wrga-69816653-20250823T103000@quickscores.com
DTSTAMP:20260419T185500Z
DTSTART;TZID=America/New_York:20250823T103000
DURATION:PT1H0M0S
SUMMARY:Chiefs vs. Texans
DESCRIPTION:12u - Warner Robins Parks and Recreation 
LOCATION:Tanner 1
CATEGORIES:QuickScores, Football Game
TRANSP:OPAQUE
BEGIN:VALARM
TRIGGER:-PT2H
ACTION:DISPLAY
DESCRIPTION:Chiefs vs. Texans
END:VALARM
END:VEVENT
BEGIN:VEVENT
UID:wrga-69816660-20250906T110000@quickscores.com
DTSTAMP:20260419T185500Z
DTSTART;TZID=America/New_York:20250906T110000
DURATION:PT1H0M0S
SUMMARY:Chiefs vs. Steelers (P)
DESCRIPTION:12u - Warner Robins Parks and Recreation 
LOCATION:Tanner 4
CATEGORIES:QuickScores, Football Game
TRANSP:OPAQUE
BEGIN:VALARM
TRIGGER:-PT2H
ACTION:DISPLAY
DESCRIPTION:Chiefs vs. Steelers (P)
END:VALARM
END:VEVENT
BEGIN:VEVENT
UID:wrga-69816665-20250913T110000@quickscores.com
DTSTAMP:20260419T185500Z
DTSTART;TZID=America/New_York:20250913T110000
DURATION:PT1H0M0S
SUMMARY:Titans vs. Chiefs
DESCRIPTION:12u - Warner Robins Parks and Recreation 
LOCATION:Tanner 4
CATEGORIES:QuickScores, Football Game
TRANSP:OPAQUE
BEGIN:VALARM
TRIGGER:-PT2H
ACTION:DISPLAY
DESCRIPTION:Titans vs. Chiefs
END:VALARM
END:VEVENT
BEGIN:VEVENT
UID:wrga-69816658-20250923T193000@quickscores.com
DTSTAMP:20260419T185500Z
DTSTART;TZID=America/New_York:20250923T193000
DURATION:PT1H0M0S
SUMMARY:Cardinals vs. Chiefs
DESCRIPTION:12u - Warner Robins Parks and Recreation 
LOCATION:Tanner 1
CATEGORIES:QuickScores, Football Game
TRANSP:OPAQUE
BEGIN:VALARM
TRIGGER:-PT2H
ACTION:DISPLAY
DESCRIPTION:Cardinals vs. Chiefs
END:VALARM
END:VEVENT
BEGIN:VEVENT
UID:wrga-69816672-20250927T120000@quickscores.com
DTSTAMP:20260419T185500Z
DTSTART;TZID=America/New_York:20250927T120000
DURATION:PT1H0M0S
SUMMARY:Chiefs vs. Vikings (P)
DESCRIPTION:12u - Warner Robins Parks and Recreation 
LOCATION:Tanner 2
CATEGORIES:QuickScores, Football Game
TRANSP:OPAQUE
BEGIN:VALARM
TRIGGER:-PT2H
ACTION:DISPLAY
DESCRIPTION:Chiefs vs. Vikings (P)
END:VALARM
END:VEVENT
BEGIN:VEVENT
UID:wrga-69816678-20250930T193000@quickscores.com
DTSTAMP:20260419T185500Z
DTSTART;TZID=America/New_York:20250930T193000
DURATION:PT1H0M0S
SUMMARY:Chiefs vs. Buccaneers (P)
DESCRIPTION:12u - Warner Robins Parks and Recreation 
LOCATION:Tanner 1
CATEGORIES:QuickScores, Football Game
TRANSP:OPAQUE
BEGIN:VALARM
TRIGGER:-PT2H
ACTION:DISPLAY
DESCRIPTION:Chiefs vs. Buccaneers (P)
END:VALARM
END:VEVENT
BEGIN:VEVENT
UID:wrga-69816681-20251014T190000@quickscores.com
DTSTAMP:20260419T185500Z
DTSTART;TZID=America/New_York:20251014T190000
DURATION:PT1H0M0S
SUMMARY:Texans vs. Chiefs
DESCRIPTION:12u - Warner Robins Parks and Recreation 
LOCATION:Tanner 2
CATEGORIES:QuickScores, Football Game
TRANSP:OPAQUE
BEGIN:VALARM
TRIGGER:-PT2H
ACTION:DISPLAY
DESCRIPTION:Texans vs. Chiefs
END:VALARM
END:VEVENT
BEGIN:VEVENT
UID:wrga-69816687-20251018T090000@quickscores.com
DTSTAMP:20260419T185500Z
DTSTART;TZID=America/New_York:20251018T090000
DURATION:PT1H0M0S
SUMMARY:Buccaneers (P) vs. Chiefs
DESCRIPTION:12u - Warner Robins Parks and Recreation 
LOCATION:Creekwood
CATEGORIES:QuickScores, Football Game
TRANSP:OPAQUE
BEGIN:VALARM
TRIGGER:-PT2H
ACTION:DISPLAY
DESCRIPTION:Buccaneers (P) vs. Chiefs
END:VALARM
END:VEVENT
BEGIN:VEVENT
UID:wrga-71358826-20251023T193000@quickscores.com
DTSTAMP:20260419T185500Z
DTSTART;TZID=America/New_York:20251023T193000
DURATION:PT1H30M0S
SUMMARY:Chiefs vs. Cardinals
DESCRIPTION:12u - Warner Robins Parks and Recreation 
LOCATION:Tanner 1
CATEGORIES:QuickScores, Football Game
TRANSP:OPAQUE
BEGIN:VALARM
TRIGGER:-PT2H
ACTION:DISPLAY
DESCRIPTION:Chiefs vs. Cardinals
END:VALARM
END:VEVENT
BEGIN:VEVENT
UID:wrga-71358829-20251101T165000@quickscores.com
DTSTAMP:20260419T185500Z
DTSTART;TZID=America/New_York:20251101T165000
DURATION:PT1H15M0S
SUMMARY:Chiefs vs. Titans
DESCRIPTION:12u - Warner Robins Parks and Recreation 
LOCATION:The Mac
CATEGORIES:QuickScores, Football Game
TRANSP:OPAQUE
BEGIN:VALARM
TRIGGER:-PT2H
ACTION:DISPLAY
DESCRIPTION:Chiefs vs. Titans
END:VALARM
END:VEVENT
END:VCALENDAR
