BEGIN:VCALENDAR
VERSION:2.0
PRODID:-//QuickScores.com//BQ Dynamic iCal Creator//EN
METHOD:PUBLISH
X-WR-CALNAME:Astros (PC) - 8u Boys - Spring 2025
X-WR-CALDESC:QuickScores game calendar
X-PUBLISHED-TTL:PT24H
REFRESH-INTERVAL;VALUE=DURATION:PT24H
CALSCALE:GREGORIAN
BEGIN:VTIMEZONE
TZID:America/New_York
X-LIC-LOCATION:America/New_York
BEGIN:DAYLIGHT
TZNAME:EDT
TZOFFSETFROM:-0500
TZOFFSETTO:-0400
DTSTART:19700308T020000
RRULE:FREQ=YEARLY;BYMONTH=3;BYDAY=2SU
END:DAYLIGHT
BEGIN:STANDARD
TZNAME:EST
TZOFFSETFROM:-0400
TZOFFSETTO:-0500
DTSTART:19701101T020000
RRULE:FREQ=YEARLY;BYMONTH=11;BYDAY=1SU
END:STANDARD
END:VTIMEZONE
BEGIN:VEVENT
UID:wrga-67590971-20250408T180000@quickscores.com
DTSTAMP:20260419T215400Z
DTSTART;TZID=America/New_York:20250408T180000
DURATION:PT1H15M0S
SUMMARY:Astros (PC) vs. Astros
DESCRIPTION:8u Boys - Warner Robins Parks and Recreation 
LOCATION:North Peach - Field 3
CATEGORIES:QuickScores, Baseball - Youth Game
TRANSP:OPAQUE
BEGIN:VALARM
TRIGGER:-PT2H
ACTION:DISPLAY
DESCRIPTION:Astros (PC) vs. Astros
END:VALARM
END:VEVENT
BEGIN:VEVENT
UID:wrga-67590974-20250417T180000@quickscores.com
DTSTAMP:20260419T215400Z
DTSTART;TZID=America/New_York:20250417T180000
DURATION:PT1H15M0S
SUMMARY:Astros (PC) vs. Mariners (PC)
DESCRIPTION:8u Boys - Warner Robins Parks and Recreation 
LOCATION:South Peach 1
CATEGORIES:QuickScores, Baseball - Youth Game
TRANSP:OPAQUE
BEGIN:VALARM
TRIGGER:-PT2H
ACTION:DISPLAY
DESCRIPTION:Astros (PC) vs. Mariners (PC)
END:VALARM
END:VEVENT
BEGIN:VEVENT
UID:wrga-67590980-20250419T101500@quickscores.com
DTSTAMP:20260419T215400Z
DTSTART;TZID=America/New_York:20250419T101500
DURATION:PT1H15M0S
SUMMARY:Braves vs. Astros (PC)
DESCRIPTION:8u Boys - Warner Robins Parks and Recreation 
LOCATION:Simpson - Field 4
CATEGORIES:QuickScores, Baseball - Youth Game
TRANSP:OPAQUE
BEGIN:VALARM
TRIGGER:-PT2H
ACTION:DISPLAY
DESCRIPTION:Braves vs. Astros (PC)
END:VALARM
END:VEVENT
BEGIN:VEVENT
UID:wrga-67590982-20250422T180000@quickscores.com
DTSTAMP:20260419T215400Z
DTSTART;TZID=America/New_York:20250422T180000
DURATION:PT1H15M0S
SUMMARY:Pirates (PC) vs. Astros (PC)
DESCRIPTION:8u Boys - Warner Robins Parks and Recreation 
LOCATION:North Peach - Field 3
CATEGORIES:QuickScores, Baseball - Youth Game
TRANSP:OPAQUE
BEGIN:VALARM
TRIGGER:-PT2H
ACTION:DISPLAY
DESCRIPTION:Pirates (PC) vs. Astros (PC)
END:VALARM
END:VEVENT
BEGIN:VEVENT
UID:wrga-67590989-20250429T180000@quickscores.com
DTSTAMP:20260419T215400Z
DTSTART;TZID=America/New_York:20250429T180000
DURATION:PT1H15M0S
SUMMARY:Astros vs. Astros (PC)
DESCRIPTION:8u Boys - Warner Robins Parks and Recreation 
LOCATION:Simpson - Field 4
CATEGORIES:QuickScores, Baseball - Youth Game
TRANSP:OPAQUE
BEGIN:VALARM
TRIGGER:-PT2H
ACTION:DISPLAY
DESCRIPTION:Astros vs. Astros (PC)
END:VALARM
END:VEVENT
BEGIN:VEVENT
UID:wrga-67590985-20250501T180000@quickscores.com
DTSTAMP:20260419T215400Z
DTSTART;TZID=America/New_York:20250501T180000
DURATION:PT1H15M0S
SUMMARY:Astros (PC) vs. Rockies
DESCRIPTION:8u Boys - Warner Robins Parks and Recreation 
LOCATION:North Peach - Field 3
CATEGORIES:QuickScores, Baseball - Youth Game
TRANSP:OPAQUE
BEGIN:VALARM
TRIGGER:-PT2H
ACTION:DISPLAY
DESCRIPTION:Astros (PC) vs. Rockies
END:VALARM
END:VEVENT
BEGIN:VEVENT
UID:wrga-67590992-20250503T101500@quickscores.com
DTSTAMP:20260419T215400Z
DTSTART;TZID=America/New_York:20250503T101500
DURATION:PT1H15M0S
SUMMARY:Giants vs. Astros (PC)
DESCRIPTION:8u Boys - Warner Robins Parks and Recreation 
LOCATION:Simpson - Field 4
CATEGORIES:QuickScores, Baseball - Youth Game
TRANSP:OPAQUE
BEGIN:VALARM
TRIGGER:-PT2H
ACTION:DISPLAY
DESCRIPTION:Giants vs. Astros (PC)
END:VALARM
END:VEVENT
BEGIN:VEVENT
UID:wrga-67590996-20250512T180000@quickscores.com
DTSTAMP:20260419T215400Z
DTSTART;TZID=America/New_York:20250512T180000
DURATION:PT1H15M0S
SUMMARY:Astros (PC) vs. Rockies
DESCRIPTION:8u Boys - Warner Robins Parks and Recreation 
LOCATION:North Peach - Field B
CATEGORIES:QuickScores, Baseball - Youth Game
TRANSP:OPAQUE
BEGIN:VALARM
TRIGGER:-PT2H
ACTION:DISPLAY
DESCRIPTION:Astros (PC) vs. Rockies
END:VALARM
END:VEVENT
END:VCALENDAR
