BEGIN:VCALENDAR
VERSION:2.0
PRODID:-//QuickScores.com//BQ Dynamic iCal Creator//EN
METHOD:PUBLISH
X-WR-CALNAME:LaRoche Tree Service - Adult Softball League - Spring 2022
X-WR-CALDESC:QuickScores game calendar
X-PUBLISHED-TTL:PT24H
REFRESH-INTERVAL;VALUE=DURATION:PT24H
CALSCALE:GREGORIAN
BEGIN:VTIMEZONE
TZID:America/New_York
X-LIC-LOCATION:America/New_York
BEGIN:DAYLIGHT
TZNAME:EDT
TZOFFSETFROM:-0500
TZOFFSETTO:-0400
DTSTART:19700308T020000
RRULE:FREQ=YEARLY;BYMONTH=3;BYDAY=2SU
END:DAYLIGHT
BEGIN:STANDARD
TZNAME:EST
TZOFFSETFROM:-0400
TZOFFSETTO:-0500
DTSTART:19701101T020000
RRULE:FREQ=YEARLY;BYMONTH=11;BYDAY=1SU
END:STANDARD
END:VTIMEZONE
BEGIN:VEVENT
UID:wheelingwv-53341041-20220515T110000@quickscores.com
DTSTAMP:20260424T023100Z
DTSTART;TZID=America/New_York:20220515T110000
DURATION:PT1H0M0S
SUMMARY:LaRoche Tree Service vs. Taylor's Preowned Autos
DESCRIPTION:Brianna Johnson --- Adult Softball League - Wheeling, WV Parks and Recreation
LOCATION:35th Street, South Wheeling
CATEGORIES:QuickScores, Softball - Adult Game
TRANSP:OPAQUE
BEGIN:VALARM
TRIGGER:-PT2H
ACTION:DISPLAY
DESCRIPTION:LaRoche Tree Service vs. Taylor's Preowned Autos
END:VALARM
END:VEVENT
BEGIN:VEVENT
UID:wheelingwv-53341132-20220515T120000@quickscores.com
DTSTAMP:20260424T023100Z
DTSTART;TZID=America/New_York:20220515T120000
DURATION:PT1H0M0S
SUMMARY:Taylor's Preowned Autos vs. LaRoche Tree Service
DESCRIPTION:Brianna Johnson --- Adult Softball League - Wheeling, WV Parks and Recreation
LOCATION:35th Street, South Wheeling
CATEGORIES:QuickScores, Softball - Adult Game
TRANSP:OPAQUE
BEGIN:VALARM
TRIGGER:-PT2H
ACTION:DISPLAY
DESCRIPTION:Taylor's Preowned Autos vs. LaRoche Tree Service
END:VALARM
END:VEVENT
BEGIN:VEVENT
UID:wheelingwv-53341046-20220522T130000@quickscores.com
DTSTAMP:20260424T023100Z
DTSTART;TZID=America/New_York:20220522T130000
DURATION:PT1H0M0S
SUMMARY:Chaos vs. LaRoche Tree Service
DESCRIPTION:Brianna Johnson --- Adult Softball League - Wheeling, WV Parks and Recreation
LOCATION:35th Street, South Wheeling
CATEGORIES:QuickScores, Softball - Adult Game
TRANSP:OPAQUE
BEGIN:VALARM
TRIGGER:-PT2H
ACTION:DISPLAY
DESCRIPTION:Chaos vs. LaRoche Tree Service
END:VALARM
END:VEVENT
BEGIN:VEVENT
UID:wheelingwv-53341141-20220522T140000@quickscores.com
DTSTAMP:20260424T023100Z
DTSTART;TZID=America/New_York:20220522T140000
DURATION:PT1H0M0S
SUMMARY:LaRoche Tree Service vs. Chaos
DESCRIPTION:Brianna Johnson --- Adult Softball League - Wheeling, WV Parks and Recreation
LOCATION:35th Street, South Wheeling
CATEGORIES:QuickScores, Softball - Adult Game
TRANSP:OPAQUE
BEGIN:VALARM
TRIGGER:-PT2H
ACTION:DISPLAY
DESCRIPTION:LaRoche Tree Service vs. Chaos
END:VALARM
END:VEVENT
BEGIN:VEVENT
UID:wheelingwv-53341057-20220605T110000@quickscores.com
DTSTAMP:20260424T023100Z
DTSTART;TZID=America/New_York:20220605T110000
DURATION:PT1H0M0S
SUMMARY:LaRoche Tree Service vs. Uncle Pete's
DESCRIPTION:Brianna Johnson --- Adult Softball League - Wheeling, WV Parks and Recreation
LOCATION:35th Street, South Wheeling
CATEGORIES:QuickScores, Softball - Adult Game
TRANSP:OPAQUE
BEGIN:VALARM
TRIGGER:-PT2H
ACTION:DISPLAY
DESCRIPTION:LaRoche Tree Service vs. Uncle Pete's
END:VALARM
END:VEVENT
BEGIN:VEVENT
UID:wheelingwv-53341216-20220605T120000@quickscores.com
DTSTAMP:20260424T023100Z
DTSTART;TZID=America/New_York:20220605T120000
DURATION:PT1H0M0S
SUMMARY:Uncle Pete's vs. LaRoche Tree Service
DESCRIPTION:Brianna Johnson --- Adult Softball League - Wheeling, WV Parks and Recreation
LOCATION:35th Street, South Wheeling
CATEGORIES:QuickScores, Softball - Adult Game
TRANSP:OPAQUE
BEGIN:VALARM
TRIGGER:-PT2H
ACTION:DISPLAY
DESCRIPTION:Uncle Pete's vs. LaRoche Tree Service
END:VALARM
END:VEVENT
BEGIN:VEVENT
UID:wheelingwv-53341064-20220612T110000@quickscores.com
DTSTAMP:20260424T023100Z
DTSTART;TZID=America/New_York:20220612T110000
DURATION:PT1H0M0S
SUMMARY:PAP Club vs. LaRoche Tree Service
DESCRIPTION:Jose Caban --- Adult Softball League - Wheeling, WV Parks and Recreation
LOCATION:Whg Island-Bridge Park (Big Field)
CATEGORIES:QuickScores, Softball - Adult Game
TRANSP:OPAQUE
BEGIN:VALARM
TRIGGER:-PT2H
ACTION:DISPLAY
DESCRIPTION:PAP Club vs. LaRoche Tree Service
END:VALARM
END:VEVENT
BEGIN:VEVENT
UID:wheelingwv-53341439-20220612T120000@quickscores.com
DTSTAMP:20260424T023100Z
DTSTART;TZID=America/New_York:20220612T120000
DURATION:PT1H0M0S
SUMMARY:LaRoche Tree Service vs. PAP Club
DESCRIPTION:Jose Caban --- Adult Softball League - Wheeling, WV Parks and Recreation
LOCATION:Whg Island-Bridge Park (Big Field)
CATEGORIES:QuickScores, Softball - Adult Game
TRANSP:OPAQUE
BEGIN:VALARM
TRIGGER:-PT2H
ACTION:DISPLAY
DESCRIPTION:LaRoche Tree Service vs. PAP Club
END:VALARM
END:VEVENT
BEGIN:VEVENT
UID:wheelingwv-53341075-20220626T110000@quickscores.com
DTSTAMP:20260424T023100Z
DTSTART;TZID=America/New_York:20220626T110000
DURATION:PT1H0M0S
SUMMARY:Shalepro vs. LaRoche Tree Service
DESCRIPTION:Adult Softball League - Wheeling, WV Parks and Recreation
LOCATION:Whg Island-Bridge Park (Big Field)
CATEGORIES:QuickScores, Softball - Adult Game
TRANSP:OPAQUE
BEGIN:VALARM
TRIGGER:-PT2H
ACTION:DISPLAY
DESCRIPTION:Shalepro vs. LaRoche Tree Service
END:VALARM
END:VEVENT
BEGIN:VEVENT
UID:wheelingwv-53347507-20220626T120000@quickscores.com
DTSTAMP:20260424T023100Z
DTSTART;TZID=America/New_York:20220626T120000
DURATION:PT1H0M0S
SUMMARY:LaRoche Tree Service vs. Shalepro
DESCRIPTION:Jose Caban --- Adult Softball League - Wheeling, WV Parks and Recreation
LOCATION:Whg Island-Bridge Park (Big Field)
CATEGORIES:QuickScores, Softball - Adult Game
TRANSP:OPAQUE
BEGIN:VALARM
TRIGGER:-PT2H
ACTION:DISPLAY
DESCRIPTION:LaRoche Tree Service vs. Shalepro
END:VALARM
END:VEVENT
BEGIN:VEVENT
UID:wheelingwv-53341086-20220710T090000@quickscores.com
DTSTAMP:20260424T023100Z
DTSTART;TZID=America/New_York:20220710T090000
DURATION:PT1H0M0S
SUMMARY:The Voo Doo Lounge vs. LaRoche Tree Service
DESCRIPTION:Jose Caban --- Adult Softball League - Wheeling, WV Parks and Recreation
LOCATION:Whg Island-Bridge Park (Big Field)
CATEGORIES:QuickScores, Softball - Adult Game
TRANSP:OPAQUE
BEGIN:VALARM
TRIGGER:-PT2H
ACTION:DISPLAY
DESCRIPTION:The Voo Doo Lounge vs. LaRoche Tree Service
END:VALARM
END:VEVENT
BEGIN:VEVENT
UID:wheelingwv-53347511-20220710T100000@quickscores.com
DTSTAMP:20260424T023100Z
DTSTART;TZID=America/New_York:20220710T100000
DURATION:PT1H0M0S
SUMMARY:LaRoche Tree Service vs. The Voo Doo Lounge
DESCRIPTION:Adult Softball League - Wheeling, WV Parks and Recreation
LOCATION:Whg Island-Bridge Park (Big Field)
CATEGORIES:QuickScores, Softball - Adult Game
TRANSP:OPAQUE
BEGIN:VALARM
TRIGGER:-PT2H
ACTION:DISPLAY
DESCRIPTION:LaRoche Tree Service vs. The Voo Doo Lounge
END:VALARM
END:VEVENT
BEGIN:VEVENT
UID:wheelingwv-53341090-20220717T130000@quickscores.com
DTSTAMP:20260424T023100Z
DTSTART;TZID=America/New_York:20220717T130000
DURATION:PT1H0M0S
SUMMARY:Energizers vs. LaRoche Tree Service
DESCRIPTION:Adult Softball League - Wheeling, WV Parks and Recreation
LOCATION:35th Street, South Wheeling
CATEGORIES:QuickScores, Softball - Adult Game
TRANSP:OPAQUE
BEGIN:VALARM
TRIGGER:-PT2H
ACTION:DISPLAY
DESCRIPTION:Energizers vs. LaRoche Tree Service
END:VALARM
END:VEVENT
BEGIN:VEVENT
UID:wheelingwv-53347521-20220717T140000@quickscores.com
DTSTAMP:20260424T023100Z
DTSTART;TZID=America/New_York:20220717T140000
DURATION:PT1H0M0S
SUMMARY:LaRoche Tree Service vs. Energizers
DESCRIPTION:Adult Softball League - Wheeling, WV Parks and Recreation
LOCATION:35th Street, South Wheeling
CATEGORIES:QuickScores, Softball - Adult Game
TRANSP:OPAQUE
BEGIN:VALARM
TRIGGER:-PT2H
ACTION:DISPLAY
DESCRIPTION:LaRoche Tree Service vs. Energizers
END:VALARM
END:VEVENT
BEGIN:VEVENT
UID:wheelingwv-53341097-20220724T090000@quickscores.com
DTSTAMP:20260424T023100Z
DTSTART;TZID=America/New_York:20220724T090000
DURATION:PT1H0M0S
SUMMARY:LaRoche Tree Service vs. C & H Building Contractors
DESCRIPTION:Brianna Johnson --- Adult Softball League - Wheeling, WV Parks and Recreation
LOCATION:35th Street, South Wheeling
CATEGORIES:QuickScores, Softball - Adult Game
TRANSP:OPAQUE
BEGIN:VALARM
TRIGGER:-PT2H
ACTION:DISPLAY
DESCRIPTION:LaRoche Tree Service vs. C & H Building Contractors
END:VALARM
END:VEVENT
BEGIN:VEVENT
UID:wheelingwv-53347523-20220724T100000@quickscores.com
DTSTAMP:20260424T023100Z
DTSTART;TZID=America/New_York:20220724T100000
DURATION:PT1H0M0S
SUMMARY:C & H Building Contractors vs. LaRoche Tree Service
DESCRIPTION:Brianna Johnson --- Adult Softball League - Wheeling, WV Parks and Recreation
LOCATION:35th Street, South Wheeling
CATEGORIES:QuickScores, Softball - Adult Game
TRANSP:OPAQUE
BEGIN:VALARM
TRIGGER:-PT2H
ACTION:DISPLAY
DESCRIPTION:C & H Building Contractors vs. LaRoche Tree Service
END:VALARM
END:VEVENT
BEGIN:VEVENT
UID:wheelingwv-53341079-20220731T090000@quickscores.com
DTSTAMP:20260424T023100Z
DTSTART;TZID=America/New_York:20220731T090000
DURATION:PT1H0M0S
SUMMARY:Jokers vs. LaRoche Tree Service
DESCRIPTION:Adult Softball League - Wheeling, WV Parks and Recreation
LOCATION:Whg Island-Bridge Park (Big Field)
CATEGORIES:QuickScores, Softball - Adult Game
TRANSP:OPAQUE
BEGIN:VALARM
TRIGGER:-PT2H
ACTION:DISPLAY
DESCRIPTION:Jokers vs. LaRoche Tree Service
END:VALARM
END:VEVENT
BEGIN:VEVENT
UID:wheelingwv-53347538-20220731T100000@quickscores.com
DTSTAMP:20260424T023100Z
DTSTART;TZID=America/New_York:20220731T100000
DURATION:PT1H0M0S
SUMMARY:LaRoche Tree Service vs. Jokers
DESCRIPTION:Adult Softball League - Wheeling, WV Parks and Recreation
LOCATION:Whg Island-Bridge Park (Big Field)
CATEGORIES:QuickScores, Softball - Adult Game
TRANSP:OPAQUE
BEGIN:VALARM
TRIGGER:-PT2H
ACTION:DISPLAY
DESCRIPTION:LaRoche Tree Service vs. Jokers
END:VALARM
END:VEVENT
BEGIN:VEVENT
UID:wheelingwv-53341068-20220814T130000@quickscores.com
DTSTAMP:20260424T023100Z
DTSTART;TZID=America/New_York:20220814T130000
DURATION:PT1H0M0S
SUMMARY:LaRoche Tree Service vs. Carin's Hitters
DESCRIPTION:Adult Softball League - Wheeling, WV Parks and Recreation
LOCATION:Whg Island-Bridge Park (Big Field)
CATEGORIES:QuickScores, Softball - Adult Game
TRANSP:OPAQUE
BEGIN:VALARM
TRIGGER:-PT2H
ACTION:DISPLAY
DESCRIPTION:LaRoche Tree Service vs. Carin's Hitters
END:VALARM
END:VEVENT
BEGIN:VEVENT
UID:wheelingwv-53347503-20220814T140000@quickscores.com
DTSTAMP:20260424T023100Z
DTSTART;TZID=America/New_York:20220814T140000
DURATION:PT1H0M0S
SUMMARY:Carin's Hitters vs. LaRoche Tree Service
DESCRIPTION:Adult Softball League - Wheeling, WV Parks and Recreation
LOCATION:Whg Island-Bridge Park (Big Field)
CATEGORIES:QuickScores, Softball - Adult Game
TRANSP:OPAQUE
BEGIN:VALARM
TRIGGER:-PT2H
ACTION:DISPLAY
DESCRIPTION:Carin's Hitters vs. LaRoche Tree Service
END:VALARM
END:VEVENT
BEGIN:VEVENT
UID:wheelingwv-53341053-20220828T130000@quickscores.com
DTSTAMP:20260424T023100Z
DTSTART;TZID=America/New_York:20220828T130000
DURATION:PT1H0M0S
SUMMARY:LaRoche Tree Service vs. RC Rentals
DESCRIPTION:Adult Softball League - Wheeling, WV Parks and Recreation
LOCATION:Whg Island-Bridge Park (Big Field)
CATEGORIES:QuickScores, Softball - Adult Game
TRANSP:OPAQUE
BEGIN:VALARM
TRIGGER:-PT2H
ACTION:DISPLAY
DESCRIPTION:LaRoche Tree Service vs. RC Rentals
END:VALARM
END:VEVENT
BEGIN:VEVENT
UID:wheelingwv-53347548-20220828T140000@quickscores.com
DTSTAMP:20260424T023100Z
DTSTART;TZID=America/New_York:20220828T140000
DURATION:PT1H0M0S
SUMMARY:RC Rentals vs. LaRoche Tree Service
DESCRIPTION:Adult Softball League - Wheeling, WV Parks and Recreation
LOCATION:Whg Island-Bridge Park (Big Field)
CATEGORIES:QuickScores, Softball - Adult Game
TRANSP:OPAQUE
BEGIN:VALARM
TRIGGER:-PT2H
ACTION:DISPLAY
DESCRIPTION:RC Rentals vs. LaRoche Tree Service
END:VALARM
END:VEVENT
BEGIN:VEVENT
UID:wheelingwv-54838943-20220904T100000@quickscores.com
DTSTAMP:20260424T023100Z
DTSTART;TZID=America/New_York:20220904T100000
DURATION:PT1H0M0S
SUMMARY:[#4 ] Taylor's Preowned Autos vs. [#5 ] LaRoche Tree Service
DESCRIPTION:Adult Softball League - Wheeling, WV Parks and Recreation
LOCATION:Whg Island-Bridge Park (Big Field)
CATEGORIES:QuickScores, Softball - Adult Game
TRANSP:OPAQUE
BEGIN:VALARM
TRIGGER:-PT2H
ACTION:DISPLAY
DESCRIPTION:[#4 ] Taylor's Preowned Autos vs. [#5 ] LaRoche Tree Service
END:VALARM
END:VEVENT
BEGIN:VEVENT
UID:wheelingwv-54838952-20220904T120000@quickscores.com
DTSTAMP:20260424T023100Z
DTSTART;TZID=America/New_York:20220904T120000
DURATION:PT1H0M0S
SUMMARY:[#5 ] LaRoche Tree Service vs. [#10 ] Carin's Hitters
DESCRIPTION:Adult Softball League - Wheeling, WV Parks and Recreation
LOCATION:35th Street, South Wheeling
CATEGORIES:QuickScores, Softball - Adult Game
TRANSP:OPAQUE
BEGIN:VALARM
TRIGGER:-PT2H
ACTION:DISPLAY
DESCRIPTION:[#5 ] LaRoche Tree Service vs. [#10 ] Carin's Hitters
END:VALARM
END:VEVENT
END:VCALENDAR
