BEGIN:VCALENDAR
VERSION:2.0
PRODID:-//QuickScores.com//BQ Dynamic iCal Creator//EN
METHOD:PUBLISH
X-WR-CALNAME:Uncle Pete&#039;s - Adult Softball League - Spring 2022
X-WR-CALDESC:QuickScores game calendar
X-PUBLISHED-TTL:PT24H
REFRESH-INTERVAL;VALUE=DURATION:PT24H
CALSCALE:GREGORIAN
BEGIN:VTIMEZONE
TZID:America/New_York
X-LIC-LOCATION:America/New_York
BEGIN:DAYLIGHT
TZNAME:EDT
TZOFFSETFROM:-0500
TZOFFSETTO:-0400
DTSTART:19700308T020000
RRULE:FREQ=YEARLY;BYMONTH=3;BYDAY=2SU
END:DAYLIGHT
BEGIN:STANDARD
TZNAME:EST
TZOFFSETFROM:-0400
TZOFFSETTO:-0500
DTSTART:19701101T020000
RRULE:FREQ=YEARLY;BYMONTH=11;BYDAY=1SU
END:STANDARD
END:VTIMEZONE
BEGIN:VEVENT
UID:wheelingwv-53341037-20220515T110000@quickscores.com
DTSTAMP:20260424T150200Z
DTSTART;TZID=America/New_York:20220515T110000
DURATION:PT1H0M0S
SUMMARY:Uncle Pete's vs. Carin's Hitters
DESCRIPTION:Jose Caban --- Adult Softball League - Wheeling, WV Parks and Recreation
LOCATION:Whg Island-Bridge Park (Big Field)
CATEGORIES:QuickScores, Softball - Adult Game
TRANSP:OPAQUE
BEGIN:VALARM
TRIGGER:-PT2H
ACTION:DISPLAY
DESCRIPTION:Uncle Pete's vs. Carin's Hitters
END:VALARM
END:VEVENT
BEGIN:VEVENT
UID:wheelingwv-53341133-20220515T120000@quickscores.com
DTSTAMP:20260424T150200Z
DTSTART;TZID=America/New_York:20220515T120000
DURATION:PT1H0M0S
SUMMARY:Carin's Hitters vs. Uncle Pete's
DESCRIPTION:Jose Caban --- Adult Softball League - Wheeling, WV Parks and Recreation
LOCATION:Whg Island-Bridge Park (Big Field)
CATEGORIES:QuickScores, Softball - Adult Game
TRANSP:OPAQUE
BEGIN:VALARM
TRIGGER:-PT2H
ACTION:DISPLAY
DESCRIPTION:Carin's Hitters vs. Uncle Pete's
END:VALARM
END:VEVENT
BEGIN:VEVENT
UID:wheelingwv-53341044-20220522T110000@quickscores.com
DTSTAMP:20260424T150200Z
DTSTART;TZID=America/New_York:20220522T110000
DURATION:PT1H0M0S
SUMMARY:Uncle Pete's vs. Jokers
DESCRIPTION:Brianna Johnson --- Adult Softball League - Wheeling, WV Parks and Recreation
LOCATION:35th Street, South Wheeling
CATEGORIES:QuickScores, Softball - Adult Game
TRANSP:OPAQUE
BEGIN:VALARM
TRIGGER:-PT2H
ACTION:DISPLAY
DESCRIPTION:Uncle Pete's vs. Jokers
END:VALARM
END:VEVENT
BEGIN:VEVENT
UID:wheelingwv-53341139-20220522T120000@quickscores.com
DTSTAMP:20260424T150200Z
DTSTART;TZID=America/New_York:20220522T120000
DURATION:PT1H0M0S
SUMMARY:Jokers vs. Uncle Pete's
DESCRIPTION:Brianna Johnson --- Adult Softball League - Wheeling, WV Parks and Recreation
LOCATION:35th Street, South Wheeling
CATEGORIES:QuickScores, Softball - Adult Game
TRANSP:OPAQUE
BEGIN:VALARM
TRIGGER:-PT2H
ACTION:DISPLAY
DESCRIPTION:Jokers vs. Uncle Pete's
END:VALARM
END:VEVENT
BEGIN:VEVENT
UID:wheelingwv-53341057-20220605T110000@quickscores.com
DTSTAMP:20260424T150200Z
DTSTART;TZID=America/New_York:20220605T110000
DURATION:PT1H0M0S
SUMMARY:LaRoche Tree Service vs. Uncle Pete's
DESCRIPTION:Brianna Johnson --- Adult Softball League - Wheeling, WV Parks and Recreation
LOCATION:35th Street, South Wheeling
CATEGORIES:QuickScores, Softball - Adult Game
TRANSP:OPAQUE
BEGIN:VALARM
TRIGGER:-PT2H
ACTION:DISPLAY
DESCRIPTION:LaRoche Tree Service vs. Uncle Pete's
END:VALARM
END:VEVENT
BEGIN:VEVENT
UID:wheelingwv-53341216-20220605T120000@quickscores.com
DTSTAMP:20260424T150200Z
DTSTART;TZID=America/New_York:20220605T120000
DURATION:PT1H0M0S
SUMMARY:Uncle Pete's vs. LaRoche Tree Service
DESCRIPTION:Brianna Johnson --- Adult Softball League - Wheeling, WV Parks and Recreation
LOCATION:35th Street, South Wheeling
CATEGORIES:QuickScores, Softball - Adult Game
TRANSP:OPAQUE
BEGIN:VALARM
TRIGGER:-PT2H
ACTION:DISPLAY
DESCRIPTION:Uncle Pete's vs. LaRoche Tree Service
END:VALARM
END:VEVENT
BEGIN:VEVENT
UID:wheelingwv-53341061-20220612T090000@quickscores.com
DTSTAMP:20260424T150200Z
DTSTART;TZID=America/New_York:20220612T090000
DURATION:PT1H0M0S
SUMMARY:Chaos vs. Uncle Pete's
DESCRIPTION:Jose Caban --- Adult Softball League - Wheeling, WV Parks and Recreation
LOCATION:Whg Island-Bridge Park (Big Field)
CATEGORIES:QuickScores, Softball - Adult Game
TRANSP:OPAQUE
BEGIN:VALARM
TRIGGER:-PT2H
ACTION:DISPLAY
DESCRIPTION:Chaos vs. Uncle Pete's
END:VALARM
END:VEVENT
BEGIN:VEVENT
UID:wheelingwv-53341437-20220612T100000@quickscores.com
DTSTAMP:20260424T150200Z
DTSTART;TZID=America/New_York:20220612T100000
DURATION:PT1H0M0S
SUMMARY:Uncle Pete's vs. Chaos
DESCRIPTION:Jose Caban --- Adult Softball League - Wheeling, WV Parks and Recreation
LOCATION:Whg Island-Bridge Park (Big Field)
CATEGORIES:QuickScores, Softball - Adult Game
TRANSP:OPAQUE
BEGIN:VALARM
TRIGGER:-PT2H
ACTION:DISPLAY
DESCRIPTION:Uncle Pete's vs. Chaos
END:VALARM
END:VEVENT
BEGIN:VEVENT
UID:wheelingwv-53341074-20220626T090000@quickscores.com
DTSTAMP:20260424T150200Z
DTSTART;TZID=America/New_York:20220626T090000
DURATION:PT1H0M0S
SUMMARY:Taylor's Preowned Autos vs. Uncle Pete's
DESCRIPTION:Adult Softball League - Wheeling, WV Parks and Recreation
LOCATION:Whg Island-Bridge Park (Big Field)
CATEGORIES:QuickScores, Softball - Adult Game
TRANSP:OPAQUE
BEGIN:VALARM
TRIGGER:-PT2H
ACTION:DISPLAY
DESCRIPTION:Taylor's Preowned Autos vs. Uncle Pete's
END:VALARM
END:VEVENT
BEGIN:VEVENT
UID:wheelingwv-53347505-20220626T100000@quickscores.com
DTSTAMP:20260424T150200Z
DTSTART;TZID=America/New_York:20220626T100000
DURATION:PT1H0M0S
SUMMARY:Uncle Pete's vs. Taylor's Preowned Autos
DESCRIPTION:Adult Softball League - Wheeling, WV Parks and Recreation
LOCATION:Whg Island-Bridge Park (Big Field)
CATEGORIES:QuickScores, Softball - Adult Game
TRANSP:OPAQUE
BEGIN:VALARM
TRIGGER:-PT2H
ACTION:DISPLAY
DESCRIPTION:Uncle Pete's vs. Taylor's Preowned Autos
END:VALARM
END:VEVENT
BEGIN:VEVENT
UID:wheelingwv-53341087-20220710T110000@quickscores.com
DTSTAMP:20260424T150200Z
DTSTART;TZID=America/New_York:20220710T110000
DURATION:PT1H0M0S
SUMMARY:Uncle Pete's vs. RC Rentals
DESCRIPTION:Brianna Johnson --- Adult Softball League - Wheeling, WV Parks and Recreation
LOCATION:35th Street, South Wheeling
CATEGORIES:QuickScores, Softball - Adult Game
TRANSP:OPAQUE
BEGIN:VALARM
TRIGGER:-PT2H
ACTION:DISPLAY
DESCRIPTION:Uncle Pete's vs. RC Rentals
END:VALARM
END:VEVENT
BEGIN:VEVENT
UID:wheelingwv-53347512-20220710T120000@quickscores.com
DTSTAMP:20260424T150200Z
DTSTART;TZID=America/New_York:20220710T120000
DURATION:PT1H0M0S
SUMMARY:RC Rentals vs. Uncle Pete's
DESCRIPTION:Brianna Johnson --- Adult Softball League - Wheeling, WV Parks and Recreation
LOCATION:35th Street, South Wheeling
CATEGORIES:QuickScores, Softball - Adult Game
TRANSP:OPAQUE
BEGIN:VALARM
TRIGGER:-PT2H
ACTION:DISPLAY
DESCRIPTION:RC Rentals vs. Uncle Pete's
END:VALARM
END:VEVENT
BEGIN:VEVENT
UID:wheelingwv-53341095-20220717T130000@quickscores.com
DTSTAMP:20260424T150200Z
DTSTART;TZID=America/New_York:20220717T130000
DURATION:PT1H0M0S
SUMMARY:Uncle Pete's vs. Shalepro
DESCRIPTION:Adult Softball League - Wheeling, WV Parks and Recreation
LOCATION:Whg Island-Bridge Park (Big Field)
CATEGORIES:QuickScores, Softball - Adult Game
TRANSP:OPAQUE
BEGIN:VALARM
TRIGGER:-PT2H
ACTION:DISPLAY
DESCRIPTION:Uncle Pete's vs. Shalepro
END:VALARM
END:VEVENT
BEGIN:VEVENT
UID:wheelingwv-53347522-20220717T140000@quickscores.com
DTSTAMP:20260424T150200Z
DTSTART;TZID=America/New_York:20220717T140000
DURATION:PT1H0M0S
SUMMARY:Shalepro vs. Uncle Pete's
DESCRIPTION:Adult Softball League - Wheeling, WV Parks and Recreation
LOCATION:Whg Island-Bridge Park (Big Field)
CATEGORIES:QuickScores, Softball - Adult Game
TRANSP:OPAQUE
BEGIN:VALARM
TRIGGER:-PT2H
ACTION:DISPLAY
DESCRIPTION:Shalepro vs. Uncle Pete's
END:VALARM
END:VEVENT
BEGIN:VEVENT
UID:wheelingwv-53341100-20220724T130000@quickscores.com
DTSTAMP:20260424T150200Z
DTSTART;TZID=America/New_York:20220724T130000
DURATION:PT1H0M0S
SUMMARY:PAP Club vs. Uncle Pete's
DESCRIPTION:Brianna Johnson --- Adult Softball League - Wheeling, WV Parks and Recreation
LOCATION:35th Street, South Wheeling
CATEGORIES:QuickScores, Softball - Adult Game
TRANSP:OPAQUE
BEGIN:VALARM
TRIGGER:-PT2H
ACTION:DISPLAY
DESCRIPTION:PAP Club vs. Uncle Pete's
END:VALARM
END:VEVENT
BEGIN:VEVENT
UID:wheelingwv-53347527-20220724T140000@quickscores.com
DTSTAMP:20260424T150200Z
DTSTART;TZID=America/New_York:20220724T140000
DURATION:PT1H0M0S
SUMMARY:Uncle Pete's vs. PAP Club
DESCRIPTION:Brianna Johnson --- Adult Softball League - Wheeling, WV Parks and Recreation
LOCATION:35th Street, South Wheeling
CATEGORIES:QuickScores, Softball - Adult Game
TRANSP:OPAQUE
BEGIN:VALARM
TRIGGER:-PT2H
ACTION:DISPLAY
DESCRIPTION:Uncle Pete's vs. PAP Club
END:VALARM
END:VEVENT
BEGIN:VEVENT
UID:wheelingwv-53341083-20220731T130000@quickscores.com
DTSTAMP:20260424T150200Z
DTSTART;TZID=America/New_York:20220731T130000
DURATION:PT1H0M0S
SUMMARY:Uncle Pete's vs. The Voo Doo Lounge
DESCRIPTION:Adult Softball League - Wheeling, WV Parks and Recreation
LOCATION:Whg Island-Bridge Park (Big Field)
CATEGORIES:QuickScores, Softball - Adult Game
TRANSP:OPAQUE
BEGIN:VALARM
TRIGGER:-PT2H
ACTION:DISPLAY
DESCRIPTION:Uncle Pete's vs. The Voo Doo Lounge
END:VALARM
END:VEVENT
BEGIN:VEVENT
UID:wheelingwv-53347542-20220731T140000@quickscores.com
DTSTAMP:20260424T150200Z
DTSTART;TZID=America/New_York:20220731T140000
DURATION:PT1H0M0S
SUMMARY:The Voo Doo Lounge vs. Uncle Pete's
DESCRIPTION:Adult Softball League - Wheeling, WV Parks and Recreation
LOCATION:Whg Island-Bridge Park (Big Field)
CATEGORIES:QuickScores, Softball - Adult Game
TRANSP:OPAQUE
BEGIN:VALARM
TRIGGER:-PT2H
ACTION:DISPLAY
DESCRIPTION:The Voo Doo Lounge vs. Uncle Pete's
END:VALARM
END:VEVENT
BEGIN:VEVENT
UID:wheelingwv-53341070-20220814T130000@quickscores.com
DTSTAMP:20260424T150200Z
DTSTART;TZID=America/New_York:20220814T130000
DURATION:PT1H0M0S
SUMMARY:Uncle Pete's vs. C & H Building Contractors
DESCRIPTION:Brianna Johnson --- Adult Softball League - Wheeling, WV Parks and Recreation
LOCATION:35th Street, South Wheeling
CATEGORIES:QuickScores, Softball - Adult Game
TRANSP:OPAQUE
BEGIN:VALARM
TRIGGER:-PT2H
ACTION:DISPLAY
DESCRIPTION:Uncle Pete's vs. C & H Building Contractors
END:VALARM
END:VEVENT
BEGIN:VEVENT
UID:wheelingwv-53347502-20220814T140000@quickscores.com
DTSTAMP:20260424T150200Z
DTSTART;TZID=America/New_York:20220814T140000
DURATION:PT1H0M0S
SUMMARY:C & H Building Contractors vs. Uncle Pete's
DESCRIPTION:Brianna Johnson --- Adult Softball League - Wheeling, WV Parks and Recreation
LOCATION:35th Street, South Wheeling
CATEGORIES:QuickScores, Softball - Adult Game
TRANSP:OPAQUE
BEGIN:VALARM
TRIGGER:-PT2H
ACTION:DISPLAY
DESCRIPTION:C & H Building Contractors vs. Uncle Pete's
END:VALARM
END:VEVENT
BEGIN:VEVENT
UID:wheelingwv-53341048-20220828T090000@quickscores.com
DTSTAMP:20260424T150200Z
DTSTART;TZID=America/New_York:20220828T090000
DURATION:PT1H0M0S
SUMMARY:Energizers vs. Uncle Pete's
DESCRIPTION:Brianna Johnson --- Adult Softball League - Wheeling, WV Parks and Recreation
LOCATION:35th Street, South Wheeling
CATEGORIES:QuickScores, Softball - Adult Game
TRANSP:OPAQUE
BEGIN:VALARM
TRIGGER:-PT2H
ACTION:DISPLAY
DESCRIPTION:Energizers vs. Uncle Pete's
END:VALARM
END:VEVENT
BEGIN:VEVENT
UID:wheelingwv-53347543-20220828T100000@quickscores.com
DTSTAMP:20260424T150200Z
DTSTART;TZID=America/New_York:20220828T100000
DURATION:PT1H0M0S
SUMMARY:Uncle Pete's vs. Energizers
DESCRIPTION:Brianna Johnson --- Adult Softball League - Wheeling, WV Parks and Recreation
LOCATION:35th Street, South Wheeling
CATEGORIES:QuickScores, Softball - Adult Game
TRANSP:OPAQUE
BEGIN:VALARM
TRIGGER:-PT2H
ACTION:DISPLAY
DESCRIPTION:Uncle Pete's vs. Energizers
END:VALARM
END:VEVENT
END:VCALENDAR
