BEGIN:VCALENDAR
VERSION:2.0
PRODID:-//QuickScores.com//BQ Dynamic iCal Creator//EN
METHOD:PUBLISH
X-WR-CALNAME:Shalepro - Adult Softball League - Spring 2022
X-WR-CALDESC:QuickScores game calendar
X-PUBLISHED-TTL:PT24H
REFRESH-INTERVAL;VALUE=DURATION:PT24H
CALSCALE:GREGORIAN
BEGIN:VTIMEZONE
TZID:America/New_York
X-LIC-LOCATION:America/New_York
BEGIN:DAYLIGHT
TZNAME:EDT
TZOFFSETFROM:-0500
TZOFFSETTO:-0400
DTSTART:19700308T020000
RRULE:FREQ=YEARLY;BYMONTH=3;BYDAY=2SU
END:DAYLIGHT
BEGIN:STANDARD
TZNAME:EST
TZOFFSETFROM:-0400
TZOFFSETTO:-0500
DTSTART:19701101T020000
RRULE:FREQ=YEARLY;BYMONTH=11;BYDAY=1SU
END:STANDARD
END:VTIMEZONE
BEGIN:VEVENT
UID:wheelingwv-53341036-20220515T090000@quickscores.com
DTSTAMP:20260423T193900Z
DTSTART;TZID=America/New_York:20220515T090000
DURATION:PT1H0M0S
SUMMARY:Energizers vs. Shalepro
DESCRIPTION:Jose Caban --- Adult Softball League - Wheeling, WV Parks and Recreation
LOCATION:Whg Island-Bridge Park (Big Field)
CATEGORIES:QuickScores, Softball - Adult Game
TRANSP:OPAQUE
BEGIN:VALARM
TRIGGER:-PT2H
ACTION:DISPLAY
DESCRIPTION:Energizers vs. Shalepro
END:VALARM
END:VEVENT
BEGIN:VEVENT
UID:wheelingwv-53341131-20220515T100000@quickscores.com
DTSTAMP:20260423T193900Z
DTSTART;TZID=America/New_York:20220515T100000
DURATION:PT1H0M0S
SUMMARY:Shalepro vs. Energizers
DESCRIPTION:Jose Caban --- Adult Softball League - Wheeling, WV Parks and Recreation
LOCATION:Whg Island-Bridge Park (Big Field)
CATEGORIES:QuickScores, Softball - Adult Game
TRANSP:OPAQUE
BEGIN:VALARM
TRIGGER:-PT2H
ACTION:DISPLAY
DESCRIPTION:Shalepro vs. Energizers
END:VALARM
END:VEVENT
BEGIN:VEVENT
UID:wheelingwv-53341043-20220522T090000@quickscores.com
DTSTAMP:20260423T193900Z
DTSTART;TZID=America/New_York:20220522T090000
DURATION:PT1H0M0S
SUMMARY:Shalepro vs. PAP Club
DESCRIPTION:Brianna Johnson --- Adult Softball League - Wheeling, WV Parks and Recreation
LOCATION:35th Street, South Wheeling
CATEGORIES:QuickScores, Softball - Adult Game
TRANSP:OPAQUE
BEGIN:VALARM
TRIGGER:-PT2H
ACTION:DISPLAY
DESCRIPTION:Shalepro vs. PAP Club
END:VALARM
END:VEVENT
BEGIN:VEVENT
UID:wheelingwv-53341137-20220522T100000@quickscores.com
DTSTAMP:20260423T193900Z
DTSTART;TZID=America/New_York:20220522T100000
DURATION:PT1H0M0S
SUMMARY:PAP Club vs. Shalepro
DESCRIPTION:Brianna Johnson --- Adult Softball League - Wheeling, WV Parks and Recreation
LOCATION:35th Street, South Wheeling
CATEGORIES:QuickScores, Softball - Adult Game
TRANSP:OPAQUE
BEGIN:VALARM
TRIGGER:-PT2H
ACTION:DISPLAY
DESCRIPTION:PAP Club vs. Shalepro
END:VALARM
END:VEVENT
BEGIN:VEVENT
UID:wheelingwv-53341056-20220605T090000@quickscores.com
DTSTAMP:20260423T193900Z
DTSTART;TZID=America/New_York:20220605T090000
DURATION:PT1H0M0S
SUMMARY:RC Rentals vs. Shalepro
DESCRIPTION:Brianna Johnson --- Adult Softball League - Wheeling, WV Parks and Recreation
LOCATION:35th Street, South Wheeling
CATEGORIES:QuickScores, Softball - Adult Game
TRANSP:OPAQUE
BEGIN:VALARM
TRIGGER:-PT2H
ACTION:DISPLAY
DESCRIPTION:RC Rentals vs. Shalepro
END:VALARM
END:VEVENT
BEGIN:VEVENT
UID:wheelingwv-53341214-20220605T100000@quickscores.com
DTSTAMP:20260423T193900Z
DTSTART;TZID=America/New_York:20220605T100000
DURATION:PT1H0M0S
SUMMARY:Shalepro vs. RC Rentals
DESCRIPTION:Brianna Johnson --- Adult Softball League - Wheeling, WV Parks and Recreation
LOCATION:35th Street, South Wheeling
CATEGORIES:QuickScores, Softball - Adult Game
TRANSP:OPAQUE
BEGIN:VALARM
TRIGGER:-PT2H
ACTION:DISPLAY
DESCRIPTION:Shalepro vs. RC Rentals
END:VALARM
END:VEVENT
BEGIN:VEVENT
UID:wheelingwv-53341062-20220612T110000@quickscores.com
DTSTAMP:20260423T193900Z
DTSTART;TZID=America/New_York:20220612T110000
DURATION:PT1H0M0S
SUMMARY:Shalepro vs. C & H Building Contractors
DESCRIPTION:Brianna Johnson --- Adult Softball League - Wheeling, WV Parks and Recreation
LOCATION:35th Street, South Wheeling
CATEGORIES:QuickScores, Softball - Adult Game
TRANSP:OPAQUE
BEGIN:VALARM
TRIGGER:-PT2H
ACTION:DISPLAY
DESCRIPTION:Shalepro vs. C & H Building Contractors
END:VALARM
END:VEVENT
BEGIN:VEVENT
UID:wheelingwv-53341438-20220612T120000@quickscores.com
DTSTAMP:20260423T193900Z
DTSTART;TZID=America/New_York:20220612T120000
DURATION:PT1H0M0S
SUMMARY:C & H Building Contractors vs. Shalepro
DESCRIPTION:Brianna Johnson --- Adult Softball League - Wheeling, WV Parks and Recreation
LOCATION:35th Street, South Wheeling
CATEGORIES:QuickScores, Softball - Adult Game
TRANSP:OPAQUE
BEGIN:VALARM
TRIGGER:-PT2H
ACTION:DISPLAY
DESCRIPTION:C & H Building Contractors vs. Shalepro
END:VALARM
END:VEVENT
BEGIN:VEVENT
UID:wheelingwv-53341075-20220626T110000@quickscores.com
DTSTAMP:20260423T193900Z
DTSTART;TZID=America/New_York:20220626T110000
DURATION:PT1H0M0S
SUMMARY:Shalepro vs. LaRoche Tree Service
DESCRIPTION:Adult Softball League - Wheeling, WV Parks and Recreation
LOCATION:Whg Island-Bridge Park (Big Field)
CATEGORIES:QuickScores, Softball - Adult Game
TRANSP:OPAQUE
BEGIN:VALARM
TRIGGER:-PT2H
ACTION:DISPLAY
DESCRIPTION:Shalepro vs. LaRoche Tree Service
END:VALARM
END:VEVENT
BEGIN:VEVENT
UID:wheelingwv-53347507-20220626T120000@quickscores.com
DTSTAMP:20260423T193900Z
DTSTART;TZID=America/New_York:20220626T120000
DURATION:PT1H0M0S
SUMMARY:LaRoche Tree Service vs. Shalepro
DESCRIPTION:Jose Caban --- Adult Softball League - Wheeling, WV Parks and Recreation
LOCATION:Whg Island-Bridge Park (Big Field)
CATEGORIES:QuickScores, Softball - Adult Game
TRANSP:OPAQUE
BEGIN:VALARM
TRIGGER:-PT2H
ACTION:DISPLAY
DESCRIPTION:LaRoche Tree Service vs. Shalepro
END:VALARM
END:VEVENT
BEGIN:VEVENT
UID:wheelingwv-53341088-20220710T130000@quickscores.com
DTSTAMP:20260423T193900Z
DTSTART;TZID=America/New_York:20220710T130000
DURATION:PT1H0M0S
SUMMARY:Shalepro vs. Jokers
DESCRIPTION:Brianna Johnson --- Adult Softball League - Wheeling, WV Parks and Recreation
LOCATION:35th Street, South Wheeling
CATEGORIES:QuickScores, Softball - Adult Game
TRANSP:OPAQUE
BEGIN:VALARM
TRIGGER:-PT2H
ACTION:DISPLAY
DESCRIPTION:Shalepro vs. Jokers
END:VALARM
END:VEVENT
BEGIN:VEVENT
UID:wheelingwv-53347514-20220710T140000@quickscores.com
DTSTAMP:20260423T193900Z
DTSTART;TZID=America/New_York:20220710T140000
DURATION:PT1H0M0S
SUMMARY:Jokers vs. Shalepro
DESCRIPTION:Brianna Johnson --- Adult Softball League - Wheeling, WV Parks and Recreation
LOCATION:35th Street, South Wheeling
CATEGORIES:QuickScores, Softball - Adult Game
TRANSP:OPAQUE
BEGIN:VALARM
TRIGGER:-PT2H
ACTION:DISPLAY
DESCRIPTION:Jokers vs. Shalepro
END:VALARM
END:VEVENT
BEGIN:VEVENT
UID:wheelingwv-53341095-20220717T130000@quickscores.com
DTSTAMP:20260423T193900Z
DTSTART;TZID=America/New_York:20220717T130000
DURATION:PT1H0M0S
SUMMARY:Uncle Pete's vs. Shalepro
DESCRIPTION:Adult Softball League - Wheeling, WV Parks and Recreation
LOCATION:Whg Island-Bridge Park (Big Field)
CATEGORIES:QuickScores, Softball - Adult Game
TRANSP:OPAQUE
BEGIN:VALARM
TRIGGER:-PT2H
ACTION:DISPLAY
DESCRIPTION:Uncle Pete's vs. Shalepro
END:VALARM
END:VEVENT
BEGIN:VEVENT
UID:wheelingwv-53347522-20220717T140000@quickscores.com
DTSTAMP:20260423T193900Z
DTSTART;TZID=America/New_York:20220717T140000
DURATION:PT1H0M0S
SUMMARY:Shalepro vs. Uncle Pete's
DESCRIPTION:Adult Softball League - Wheeling, WV Parks and Recreation
LOCATION:Whg Island-Bridge Park (Big Field)
CATEGORIES:QuickScores, Softball - Adult Game
TRANSP:OPAQUE
BEGIN:VALARM
TRIGGER:-PT2H
ACTION:DISPLAY
DESCRIPTION:Shalepro vs. Uncle Pete's
END:VALARM
END:VEVENT
BEGIN:VEVENT
UID:wheelingwv-53341101-20220724T090000@quickscores.com
DTSTAMP:20260423T193900Z
DTSTART;TZID=America/New_York:20220724T090000
DURATION:PT1H0M0S
SUMMARY:Carin's Hitters vs. Shalepro
DESCRIPTION:Adult Softball League - Wheeling, WV Parks and Recreation
LOCATION:Whg Island-Bridge Park (Big Field)
CATEGORIES:QuickScores, Softball - Adult Game
TRANSP:OPAQUE
BEGIN:VALARM
TRIGGER:-PT2H
ACTION:DISPLAY
DESCRIPTION:Carin's Hitters vs. Shalepro
END:VALARM
END:VEVENT
BEGIN:VEVENT
UID:wheelingwv-53347524-20220724T100000@quickscores.com
DTSTAMP:20260423T193900Z
DTSTART;TZID=America/New_York:20220724T100000
DURATION:PT1H0M0S
SUMMARY:Shalepro vs. Carin's Hitters
DESCRIPTION:Adult Softball League - Wheeling, WV Parks and Recreation
LOCATION:Whg Island-Bridge Park (Big Field)
CATEGORIES:QuickScores, Softball - Adult Game
TRANSP:OPAQUE
BEGIN:VALARM
TRIGGER:-PT2H
ACTION:DISPLAY
DESCRIPTION:Shalepro vs. Carin's Hitters
END:VALARM
END:VEVENT
BEGIN:VEVENT
UID:wheelingwv-53341082-20220731T130000@quickscores.com
DTSTAMP:20260423T193900Z
DTSTART;TZID=America/New_York:20220731T130000
DURATION:PT1H0M0S
SUMMARY:Shalepro vs. Chaos
DESCRIPTION:Brianna Johnson --- Adult Softball League - Wheeling, WV Parks and Recreation
LOCATION:35th Street, South Wheeling
CATEGORIES:QuickScores, Softball - Adult Game
TRANSP:OPAQUE
BEGIN:VALARM
TRIGGER:-PT2H
ACTION:DISPLAY
DESCRIPTION:Shalepro vs. Chaos
END:VALARM
END:VEVENT
BEGIN:VEVENT
UID:wheelingwv-53347541-20220731T140000@quickscores.com
DTSTAMP:20260423T193900Z
DTSTART;TZID=America/New_York:20220731T140000
DURATION:PT1H0M0S
SUMMARY:Chaos vs. Shalepro
DESCRIPTION:Brianna Johnson --- Adult Softball League - Wheeling, WV Parks and Recreation
LOCATION:35th Street, South Wheeling
CATEGORIES:QuickScores, Softball - Adult Game
TRANSP:OPAQUE
BEGIN:VALARM
TRIGGER:-PT2H
ACTION:DISPLAY
DESCRIPTION:Chaos vs. Shalepro
END:VALARM
END:VEVENT
BEGIN:VEVENT
UID:wheelingwv-53341069-20220814T110000@quickscores.com
DTSTAMP:20260423T193900Z
DTSTART;TZID=America/New_York:20220814T110000
DURATION:PT1H0M0S
SUMMARY:Taylor's Preowned Autos vs. Shalepro
DESCRIPTION:Adult Softball League - Wheeling, WV Parks and Recreation
LOCATION:Whg Island-Bridge Park (Big Field)
CATEGORIES:QuickScores, Softball - Adult Game
TRANSP:OPAQUE
BEGIN:VALARM
TRIGGER:-PT2H
ACTION:DISPLAY
DESCRIPTION:Taylor's Preowned Autos vs. Shalepro
END:VALARM
END:VEVENT
BEGIN:VEVENT
UID:wheelingwv-53347501-20220814T120000@quickscores.com
DTSTAMP:20260423T193900Z
DTSTART;TZID=America/New_York:20220814T120000
DURATION:PT1H0M0S
SUMMARY:Shalepro vs. Taylor's Preowned Autos
DESCRIPTION:Adult Softball League - Wheeling, WV Parks and Recreation
LOCATION:Whg Island-Bridge Park (Big Field)
CATEGORIES:QuickScores, Softball - Adult Game
TRANSP:OPAQUE
BEGIN:VALARM
TRIGGER:-PT2H
ACTION:DISPLAY
DESCRIPTION:Shalepro vs. Taylor's Preowned Autos
END:VALARM
END:VEVENT
BEGIN:VEVENT
UID:wheelingwv-53341049-20220828T110000@quickscores.com
DTSTAMP:20260423T193900Z
DTSTART;TZID=America/New_York:20220828T110000
DURATION:PT1H0M0S
SUMMARY:The Voo Doo Lounge vs. Shalepro
DESCRIPTION:Brianna Johnson --- Adult Softball League - Wheeling, WV Parks and Recreation
LOCATION:35th Street, South Wheeling
CATEGORIES:QuickScores, Softball - Adult Game
TRANSP:OPAQUE
BEGIN:VALARM
TRIGGER:-PT2H
ACTION:DISPLAY
DESCRIPTION:The Voo Doo Lounge vs. Shalepro
END:VALARM
END:VEVENT
BEGIN:VEVENT
UID:wheelingwv-53347545-20220828T120000@quickscores.com
DTSTAMP:20260423T193900Z
DTSTART;TZID=America/New_York:20220828T120000
DURATION:PT1H0M0S
SUMMARY:Shalepro vs. The Voo Doo Lounge
DESCRIPTION:Brianna Johnson --- Adult Softball League - Wheeling, WV Parks and Recreation
LOCATION:35th Street, South Wheeling
CATEGORIES:QuickScores, Softball - Adult Game
TRANSP:OPAQUE
BEGIN:VALARM
TRIGGER:-PT2H
ACTION:DISPLAY
DESCRIPTION:Shalepro vs. The Voo Doo Lounge
END:VALARM
END:VEVENT
BEGIN:VEVENT
UID:wheelingwv-54838944-20220904T110000@quickscores.com
DTSTAMP:20260423T193900Z
DTSTART;TZID=America/New_York:20220904T110000
DURATION:PT1H0M0S
SUMMARY:[#2 ] Shalepro vs. [#7 ] Jokers
DESCRIPTION:Adult Softball League - Wheeling, WV Parks and Recreation
LOCATION:35th Street, South Wheeling
CATEGORIES:QuickScores, Softball - Adult Game
TRANSP:OPAQUE
BEGIN:VALARM
TRIGGER:-PT2H
ACTION:DISPLAY
DESCRIPTION:[#2 ] Shalepro vs. [#7 ] Jokers
END:VALARM
END:VEVENT
BEGIN:VEVENT
UID:wheelingwv-54839814-20220904T140000@quickscores.com
DTSTAMP:20260423T193900Z
DTSTART;TZID=America/New_York:20220904T140000
DURATION:PT1H0M0S
SUMMARY:[#6 ] Energizers vs. [#2 ] Shalepro
DESCRIPTION:Adult Softball League - Wheeling, WV Parks and Recreation
LOCATION:Whg Island-Bridge Park (Big Field)
CATEGORIES:QuickScores, Softball - Adult Game
TRANSP:OPAQUE
BEGIN:VALARM
TRIGGER:-PT2H
ACTION:DISPLAY
DESCRIPTION:[#6 ] Energizers vs. [#2 ] Shalepro
END:VALARM
END:VEVENT
END:VCALENDAR
