BEGIN:VCALENDAR
VERSION:2.0
PRODID:-//QuickScores.com//BQ Dynamic iCal Creator//EN
METHOD:PUBLISH
X-WR-CALNAME:RC Rentals - Adult Softball League - Spring 2022
X-WR-CALDESC:QuickScores game calendar
X-PUBLISHED-TTL:PT24H
REFRESH-INTERVAL;VALUE=DURATION:PT24H
CALSCALE:GREGORIAN
BEGIN:VTIMEZONE
TZID:America/New_York
X-LIC-LOCATION:America/New_York
BEGIN:DAYLIGHT
TZNAME:EDT
TZOFFSETFROM:-0500
TZOFFSETTO:-0400
DTSTART:19700308T020000
RRULE:FREQ=YEARLY;BYMONTH=3;BYDAY=2SU
END:DAYLIGHT
BEGIN:STANDARD
TZNAME:EST
TZOFFSETFROM:-0400
TZOFFSETTO:-0500
DTSTART:19701101T020000
RRULE:FREQ=YEARLY;BYMONTH=11;BYDAY=1SU
END:STANDARD
END:VTIMEZONE
BEGIN:VEVENT
UID:wheelingwv-53341040-20220515T130000@quickscores.com
DTSTAMP:20260424T010400Z
DTSTART;TZID=America/New_York:20220515T130000
DURATION:PT1H0M0S
SUMMARY:C & H Building Contractors vs. RC Rentals
DESCRIPTION:Jose Caban --- Adult Softball League - Wheeling, WV Parks and Recreation
LOCATION:Whg Island-Bridge Park (Big Field)
CATEGORIES:QuickScores, Softball - Adult Game
TRANSP:OPAQUE
BEGIN:VALARM
TRIGGER:-PT2H
ACTION:DISPLAY
DESCRIPTION:C & H Building Contractors vs. RC Rentals
END:VALARM
END:VEVENT
BEGIN:VEVENT
UID:wheelingwv-53341134-20220515T140000@quickscores.com
DTSTAMP:20260424T010400Z
DTSTART;TZID=America/New_York:20220515T140000
DURATION:PT1H0M0S
SUMMARY:RC Rentals vs. C & H Building Contractors
DESCRIPTION:Jose Caban --- Adult Softball League - Wheeling, WV Parks and Recreation
LOCATION:Whg Island-Bridge Park (Big Field)
CATEGORIES:QuickScores, Softball - Adult Game
TRANSP:OPAQUE
BEGIN:VALARM
TRIGGER:-PT2H
ACTION:DISPLAY
DESCRIPTION:RC Rentals vs. C & H Building Contractors
END:VALARM
END:VEVENT
BEGIN:VEVENT
UID:wheelingwv-53341045-20220522T110000@quickscores.com
DTSTAMP:20260424T010400Z
DTSTART;TZID=America/New_York:20220522T110000
DURATION:PT1H0M0S
SUMMARY:The Voo Doo Lounge vs. RC Rentals
DESCRIPTION:Jose Caban --- Adult Softball League - Wheeling, WV Parks and Recreation
LOCATION:Whg Island-Bridge Park (Big Field)
CATEGORIES:QuickScores, Softball - Adult Game
TRANSP:OPAQUE
BEGIN:VALARM
TRIGGER:-PT2H
ACTION:DISPLAY
DESCRIPTION:The Voo Doo Lounge vs. RC Rentals
END:VALARM
END:VEVENT
BEGIN:VEVENT
UID:wheelingwv-53341140-20220522T120000@quickscores.com
DTSTAMP:20260424T010400Z
DTSTART;TZID=America/New_York:20220522T120000
DURATION:PT1H0M0S
SUMMARY:RC Rentals vs. The Voo Doo Lounge
DESCRIPTION:Jose Caban --- Adult Softball League - Wheeling, WV Parks and Recreation
LOCATION:Whg Island-Bridge Park (Big Field)
CATEGORIES:QuickScores, Softball - Adult Game
TRANSP:OPAQUE
BEGIN:VALARM
TRIGGER:-PT2H
ACTION:DISPLAY
DESCRIPTION:RC Rentals vs. The Voo Doo Lounge
END:VALARM
END:VEVENT
BEGIN:VEVENT
UID:wheelingwv-53341056-20220605T090000@quickscores.com
DTSTAMP:20260424T010400Z
DTSTART;TZID=America/New_York:20220605T090000
DURATION:PT1H0M0S
SUMMARY:RC Rentals vs. Shalepro
DESCRIPTION:Brianna Johnson --- Adult Softball League - Wheeling, WV Parks and Recreation
LOCATION:35th Street, South Wheeling
CATEGORIES:QuickScores, Softball - Adult Game
TRANSP:OPAQUE
BEGIN:VALARM
TRIGGER:-PT2H
ACTION:DISPLAY
DESCRIPTION:RC Rentals vs. Shalepro
END:VALARM
END:VEVENT
BEGIN:VEVENT
UID:wheelingwv-53341214-20220605T100000@quickscores.com
DTSTAMP:20260424T010400Z
DTSTART;TZID=America/New_York:20220605T100000
DURATION:PT1H0M0S
SUMMARY:Shalepro vs. RC Rentals
DESCRIPTION:Brianna Johnson --- Adult Softball League - Wheeling, WV Parks and Recreation
LOCATION:35th Street, South Wheeling
CATEGORIES:QuickScores, Softball - Adult Game
TRANSP:OPAQUE
BEGIN:VALARM
TRIGGER:-PT2H
ACTION:DISPLAY
DESCRIPTION:Shalepro vs. RC Rentals
END:VALARM
END:VEVENT
BEGIN:VEVENT
UID:wheelingwv-53341065-20220612T130000@quickscores.com
DTSTAMP:20260424T010400Z
DTSTART;TZID=America/New_York:20220612T130000
DURATION:PT1H0M0S
SUMMARY:RC Rentals vs. Jokers
DESCRIPTION:Jose Caban --- Adult Softball League - Wheeling, WV Parks and Recreation
LOCATION:Whg Island-Bridge Park (Big Field)
CATEGORIES:QuickScores, Softball - Adult Game
TRANSP:OPAQUE
BEGIN:VALARM
TRIGGER:-PT2H
ACTION:DISPLAY
DESCRIPTION:RC Rentals vs. Jokers
END:VALARM
END:VEVENT
BEGIN:VEVENT
UID:wheelingwv-53341441-20220612T140000@quickscores.com
DTSTAMP:20260424T010400Z
DTSTART;TZID=America/New_York:20220612T140000
DURATION:PT1H0M0S
SUMMARY:Jokers vs. RC Rentals
DESCRIPTION:Jose Caban --- Adult Softball League - Wheeling, WV Parks and Recreation
LOCATION:Whg Island-Bridge Park (Big Field)
CATEGORIES:QuickScores, Softball - Adult Game
TRANSP:OPAQUE
BEGIN:VALARM
TRIGGER:-PT2H
ACTION:DISPLAY
DESCRIPTION:Jokers vs. RC Rentals
END:VALARM
END:VEVENT
BEGIN:VEVENT
UID:wheelingwv-53341076-20220626T130000@quickscores.com
DTSTAMP:20260424T010400Z
DTSTART;TZID=America/New_York:20220626T130000
DURATION:PT1H0M0S
SUMMARY:Carin's Hitters vs. RC Rentals
DESCRIPTION:Brianna Johnson --- Adult Softball League - Wheeling, WV Parks and Recreation
LOCATION:35th Street, South Wheeling
CATEGORIES:QuickScores, Softball - Adult Game
TRANSP:OPAQUE
BEGIN:VALARM
TRIGGER:-PT2H
ACTION:DISPLAY
DESCRIPTION:Carin's Hitters vs. RC Rentals
END:VALARM
END:VEVENT
BEGIN:VEVENT
UID:wheelingwv-53347508-20220626T140000@quickscores.com
DTSTAMP:20260424T010400Z
DTSTART;TZID=America/New_York:20220626T140000
DURATION:PT1H0M0S
SUMMARY:RC Rentals vs. Carin's Hitters
DESCRIPTION:Brianna Johnson --- Adult Softball League - Wheeling, WV Parks and Recreation
LOCATION:35th Street, South Wheeling
CATEGORIES:QuickScores, Softball - Adult Game
TRANSP:OPAQUE
BEGIN:VALARM
TRIGGER:-PT2H
ACTION:DISPLAY
DESCRIPTION:RC Rentals vs. Carin's Hitters
END:VALARM
END:VEVENT
BEGIN:VEVENT
UID:wheelingwv-53341087-20220710T110000@quickscores.com
DTSTAMP:20260424T010400Z
DTSTART;TZID=America/New_York:20220710T110000
DURATION:PT1H0M0S
SUMMARY:Uncle Pete's vs. RC Rentals
DESCRIPTION:Brianna Johnson --- Adult Softball League - Wheeling, WV Parks and Recreation
LOCATION:35th Street, South Wheeling
CATEGORIES:QuickScores, Softball - Adult Game
TRANSP:OPAQUE
BEGIN:VALARM
TRIGGER:-PT2H
ACTION:DISPLAY
DESCRIPTION:Uncle Pete's vs. RC Rentals
END:VALARM
END:VEVENT
BEGIN:VEVENT
UID:wheelingwv-53347512-20220710T120000@quickscores.com
DTSTAMP:20260424T010400Z
DTSTART;TZID=America/New_York:20220710T120000
DURATION:PT1H0M0S
SUMMARY:RC Rentals vs. Uncle Pete's
DESCRIPTION:Brianna Johnson --- Adult Softball League - Wheeling, WV Parks and Recreation
LOCATION:35th Street, South Wheeling
CATEGORIES:QuickScores, Softball - Adult Game
TRANSP:OPAQUE
BEGIN:VALARM
TRIGGER:-PT2H
ACTION:DISPLAY
DESCRIPTION:RC Rentals vs. Uncle Pete's
END:VALARM
END:VEVENT
BEGIN:VEVENT
UID:wheelingwv-53341091-20220717T110000@quickscores.com
DTSTAMP:20260424T010400Z
DTSTART;TZID=America/New_York:20220717T110000
DURATION:PT1H0M0S
SUMMARY:RC Rentals vs. Taylor's Preowned Autos
DESCRIPTION:Adult Softball League - Wheeling, WV Parks and Recreation
LOCATION:35th Street, South Wheeling
CATEGORIES:QuickScores, Softball - Adult Game
TRANSP:OPAQUE
BEGIN:VALARM
TRIGGER:-PT2H
ACTION:DISPLAY
DESCRIPTION:RC Rentals vs. Taylor's Preowned Autos
END:VALARM
END:VEVENT
BEGIN:VEVENT
UID:wheelingwv-53347519-20220717T120000@quickscores.com
DTSTAMP:20260424T010400Z
DTSTART;TZID=America/New_York:20220717T120000
DURATION:PT1H0M0S
SUMMARY:Taylor's Preowned Autos vs. RC Rentals
DESCRIPTION:Adult Softball League - Wheeling, WV Parks and Recreation
LOCATION:35th Street, South Wheeling
CATEGORIES:QuickScores, Softball - Adult Game
TRANSP:OPAQUE
BEGIN:VALARM
TRIGGER:-PT2H
ACTION:DISPLAY
DESCRIPTION:Taylor's Preowned Autos vs. RC Rentals
END:VALARM
END:VEVENT
BEGIN:VEVENT
UID:wheelingwv-53341098-20220724T110000@quickscores.com
DTSTAMP:20260424T010400Z
DTSTART;TZID=America/New_York:20220724T110000
DURATION:PT1H0M0S
SUMMARY:Chaos vs. RC Rentals
DESCRIPTION:Brianna Johnson --- Adult Softball League - Wheeling, WV Parks and Recreation
LOCATION:35th Street, South Wheeling
CATEGORIES:QuickScores, Softball - Adult Game
TRANSP:OPAQUE
BEGIN:VALARM
TRIGGER:-PT2H
ACTION:DISPLAY
DESCRIPTION:Chaos vs. RC Rentals
END:VALARM
END:VEVENT
BEGIN:VEVENT
UID:wheelingwv-53347525-20220724T120000@quickscores.com
DTSTAMP:20260424T010400Z
DTSTART;TZID=America/New_York:20220724T120000
DURATION:PT1H0M0S
SUMMARY:RC Rentals vs. Chaos
DESCRIPTION:Brianna Johnson --- Adult Softball League - Wheeling, WV Parks and Recreation
LOCATION:35th Street, South Wheeling
CATEGORIES:QuickScores, Softball - Adult Game
TRANSP:OPAQUE
BEGIN:VALARM
TRIGGER:-PT2H
ACTION:DISPLAY
DESCRIPTION:RC Rentals vs. Chaos
END:VALARM
END:VEVENT
BEGIN:VEVENT
UID:wheelingwv-53341078-20220731T110000@quickscores.com
DTSTAMP:20260424T010400Z
DTSTART;TZID=America/New_York:20220731T110000
DURATION:PT1H0M0S
SUMMARY:RC Rentals vs. Energizers
DESCRIPTION:Adult Softball League - Wheeling, WV Parks and Recreation
LOCATION:Whg Island-Bridge Park (Big Field)
CATEGORIES:QuickScores, Softball - Adult Game
TRANSP:OPAQUE
BEGIN:VALARM
TRIGGER:-PT2H
ACTION:DISPLAY
DESCRIPTION:RC Rentals vs. Energizers
END:VALARM
END:VEVENT
BEGIN:VEVENT
UID:wheelingwv-53347540-20220731T120000@quickscores.com
DTSTAMP:20260424T010400Z
DTSTART;TZID=America/New_York:20220731T120000
DURATION:PT1H0M0S
SUMMARY:Energizers vs. RC Rentals
DESCRIPTION:Adult Softball League - Wheeling, WV Parks and Recreation
LOCATION:Whg Island-Bridge Park (Big Field)
CATEGORIES:QuickScores, Softball - Adult Game
TRANSP:OPAQUE
BEGIN:VALARM
TRIGGER:-PT2H
ACTION:DISPLAY
DESCRIPTION:Energizers vs. RC Rentals
END:VALARM
END:VEVENT
BEGIN:VEVENT
UID:wheelingwv-53341067-20220814T090000@quickscores.com
DTSTAMP:20260424T010400Z
DTSTART;TZID=America/New_York:20220814T090000
DURATION:PT1H0M0S
SUMMARY:RC Rentals vs. PAP Club
DESCRIPTION:Brianna Johnson --- Adult Softball League - Wheeling, WV Parks and Recreation
LOCATION:35th Street, South Wheeling
CATEGORIES:QuickScores, Softball - Adult Game
TRANSP:OPAQUE
BEGIN:VALARM
TRIGGER:-PT2H
ACTION:DISPLAY
DESCRIPTION:RC Rentals vs. PAP Club
END:VALARM
END:VEVENT
BEGIN:VEVENT
UID:wheelingwv-53347499-20220814T100000@quickscores.com
DTSTAMP:20260424T010400Z
DTSTART;TZID=America/New_York:20220814T100000
DURATION:PT1H0M0S
SUMMARY:PAP Club vs. RC Rentals
DESCRIPTION:Brianna Johnson --- Adult Softball League - Wheeling, WV Parks and Recreation
LOCATION:35th Street, South Wheeling
CATEGORIES:QuickScores, Softball - Adult Game
TRANSP:OPAQUE
BEGIN:VALARM
TRIGGER:-PT2H
ACTION:DISPLAY
DESCRIPTION:PAP Club vs. RC Rentals
END:VALARM
END:VEVENT
BEGIN:VEVENT
UID:wheelingwv-53341053-20220828T130000@quickscores.com
DTSTAMP:20260424T010400Z
DTSTART;TZID=America/New_York:20220828T130000
DURATION:PT1H0M0S
SUMMARY:LaRoche Tree Service vs. RC Rentals
DESCRIPTION:Adult Softball League - Wheeling, WV Parks and Recreation
LOCATION:Whg Island-Bridge Park (Big Field)
CATEGORIES:QuickScores, Softball - Adult Game
TRANSP:OPAQUE
BEGIN:VALARM
TRIGGER:-PT2H
ACTION:DISPLAY
DESCRIPTION:LaRoche Tree Service vs. RC Rentals
END:VALARM
END:VEVENT
BEGIN:VEVENT
UID:wheelingwv-53347548-20220828T140000@quickscores.com
DTSTAMP:20260424T010400Z
DTSTART;TZID=America/New_York:20220828T140000
DURATION:PT1H0M0S
SUMMARY:RC Rentals vs. LaRoche Tree Service
DESCRIPTION:Adult Softball League - Wheeling, WV Parks and Recreation
LOCATION:Whg Island-Bridge Park (Big Field)
CATEGORIES:QuickScores, Softball - Adult Game
TRANSP:OPAQUE
BEGIN:VALARM
TRIGGER:-PT2H
ACTION:DISPLAY
DESCRIPTION:RC Rentals vs. LaRoche Tree Service
END:VALARM
END:VEVENT
END:VCALENDAR
