BEGIN:VCALENDAR
VERSION:2.0
PRODID:-//QuickScores.com//BQ Dynamic iCal Creator//EN
METHOD:PUBLISH
X-WR-CALNAME:SH - McGovern Maintainence - 7th/8th Volleyball - 2026 Spring Volleyball
X-WR-CALDESC:QuickScores game calendar
X-PUBLISHED-TTL:PT24H
REFRESH-INTERVAL;VALUE=DURATION:PT24H
CALSCALE:GREGORIAN
BEGIN:VTIMEZONE
TZID:America/Los_Angeles
X-LIC-LOCATION:America/Los_Angeles
BEGIN:DAYLIGHT
TZNAME:PDT
TZOFFSETFROM:-0800
TZOFFSETTO:-0700
DTSTART:19700308T020000
RRULE:FREQ=YEARLY;BYMONTH=3;BYDAY=2SU
END:DAYLIGHT
BEGIN:STANDARD
TZNAME:PST
TZOFFSETFROM:-0700
TZOFFSETTO:-0800
DTSTART:19701101T020000
RRULE:FREQ=YEARLY;BYMONTH=11;BYDAY=1SU
END:STANDARD
END:VTIMEZONE
BEGIN:VEVENT
UID:vls-73638320-20260408T170000@quickscores.com
DTSTAMP:20260422T211200Z
DTSTART;TZID=America/Los_Angeles:20260408T170000
DURATION:PT1H0M0S
SUMMARY:SH - A+ Roofing vs. SH - McGovern Maintainence
DESCRIPTION:7th/8th Volleyball - Valley League Sports
LOCATION:Sweet Home Jr. High Gym
CATEGORIES:QuickScores, Volleyball Game
TRANSP:OPAQUE
BEGIN:VALARM
TRIGGER:-PT2H
ACTION:DISPLAY
DESCRIPTION:SH - A+ Roofing vs. SH - McGovern Maintainence
END:VALARM
END:VEVENT
BEGIN:VEVENT
UID:vls-73638321-20260408T180000@quickscores.com
DTSTAMP:20260422T211200Z
DTSTART;TZID=America/Los_Angeles:20260408T180000
DURATION:PT1H0M0S
SUMMARY:TiSquared Technologies Inc vs. SH - McGovern Maintainence
DESCRIPTION:7th/8th Volleyball - Valley League Sports
LOCATION:Sweet Home Jr. High Gym
CATEGORIES:QuickScores, Volleyball Game
TRANSP:OPAQUE
BEGIN:VALARM
TRIGGER:-PT2H
ACTION:DISPLAY
DESCRIPTION:TiSquared Technologies Inc vs. SH - McGovern Maintainence
END:VALARM
END:VEVENT
BEGIN:VEVENT
UID:vls-73638334-20260413T171500@quickscores.com
DTSTAMP:20260422T211200Z
DTSTART;TZID=America/Los_Angeles:20260413T171500
DURATION:PT1H0M0S
SUMMARY:Leb 2 - Lebanon Volleyball Club vs. SH - McGovern Maintainence
DESCRIPTION:7th/8th Volleyball - Valley League Sports
LOCATION:BGC Lebanon #2
CATEGORIES:QuickScores, Volleyball Game
TRANSP:OPAQUE
BEGIN:VALARM
TRIGGER:-PT2H
ACTION:DISPLAY
DESCRIPTION:Leb 2 - Lebanon Volleyball Club vs. SH - McGovern Maintainence
END:VALARM
END:VEVENT
BEGIN:VEVENT
UID:vls-73638330-20260413T183000@quickscores.com
DTSTAMP:20260422T211200Z
DTSTART;TZID=America/Los_Angeles:20260413T183000
DURATION:PT1H0M0S
SUMMARY:SH - McGovern Maintainence vs. Corvallis Jiffy Lube
DESCRIPTION:7th/8th Volleyball - Valley League Sports
LOCATION:BGC Lebanon #2
CATEGORIES:QuickScores, Volleyball Game
TRANSP:OPAQUE
BEGIN:VALARM
TRIGGER:-PT2H
ACTION:DISPLAY
DESCRIPTION:SH - McGovern Maintainence vs. Corvallis Jiffy Lube
END:VALARM
END:VEVENT
BEGIN:VEVENT
UID:vls-73638339-20260420T173000@quickscores.com
DTSTAMP:20260422T211200Z
DTSTART;TZID=America/Los_Angeles:20260420T173000
DURATION:PT1H0M0S
SUMMARY:SH - McGovern Maintainence vs. SH - A+ Roofing
DESCRIPTION:7th/8th Volleyball - Valley League Sports
LOCATION:Sweet Home Jr. High Gym
CATEGORIES:QuickScores, Volleyball Game
TRANSP:OPAQUE
BEGIN:VALARM
TRIGGER:-PT2H
ACTION:DISPLAY
DESCRIPTION:SH - McGovern Maintainence vs. SH - A+ Roofing
END:VALARM
END:VEVENT
BEGIN:VEVENT
UID:vls-73638342-20260421T180000@quickscores.com
DTSTAMP:20260422T211200Z
DTSTART;TZID=America/Los_Angeles:20260421T180000
DURATION:PT1H0M0S
SUMMARY:Leb 1- North Santiam Coffee vs. SH - McGovern Maintainence
DESCRIPTION:7th/8th Volleyball - Valley League Sports
LOCATION:BGC Lebanon #2
CATEGORIES:QuickScores, Volleyball Game
TRANSP:OPAQUE
BEGIN:VALARM
TRIGGER:-PT2H
ACTION:DISPLAY
DESCRIPTION:Leb 1- North Santiam Coffee vs. SH - McGovern Maintainence
END:VALARM
END:VEVENT
BEGIN:VEVENT
UID:vls-73638351-20260429T170000@quickscores.com
DTSTAMP:20260422T211200Z
DTSTART;TZID=America/Los_Angeles:20260429T170000
DURATION:PT1H0M0S
SUMMARY:SH - McGovern Maintainence vs. Leb 1- North Santiam Coffee
DESCRIPTION:7th/8th Volleyball - Valley League Sports
LOCATION:Sweet Home Jr. High Gym
CATEGORIES:QuickScores, Volleyball Game
TRANSP:OPAQUE
BEGIN:VALARM
TRIGGER:-PT2H
ACTION:DISPLAY
DESCRIPTION:SH - McGovern Maintainence vs. Leb 1- North Santiam Coffee
END:VALARM
END:VEVENT
BEGIN:VEVENT
UID:vls-73638354-20260429T190000@quickscores.com
DTSTAMP:20260422T211200Z
DTSTART;TZID=America/Los_Angeles:20260429T190000
DURATION:PT1H0M0S
SUMMARY:Corvallis Ironhead Roofing vs. SH - McGovern Maintainence
DESCRIPTION:7th/8th Volleyball - Valley League Sports
LOCATION:Sweet Home Jr. High Gym
CATEGORIES:QuickScores, Volleyball Game
TRANSP:OPAQUE
BEGIN:VALARM
TRIGGER:-PT2H
ACTION:DISPLAY
DESCRIPTION:Corvallis Ironhead Roofing vs. SH - McGovern Maintainence
END:VALARM
END:VEVENT
BEGIN:VEVENT
UID:vls-73638361-20260505T183000@quickscores.com
DTSTAMP:20260422T211200Z
DTSTART;TZID=America/Los_Angeles:20260505T183000
DURATION:PT1H0M0S
SUMMARY:SH - McGovern Maintainence vs. Valley Fire Control
DESCRIPTION:7th/8th Volleyball - Valley League Sports
LOCATION:BGC Albany Coastal Farm Ct.
CATEGORIES:QuickScores, Volleyball Game
TRANSP:OPAQUE
BEGIN:VALARM
TRIGGER:-PT2H
ACTION:DISPLAY
DESCRIPTION:SH - McGovern Maintainence vs. Valley Fire Control
END:VALARM
END:VEVENT
BEGIN:VEVENT
UID:vls-73638359-20260505T193000@quickscores.com
DTSTAMP:20260422T211200Z
DTSTART;TZID=America/Los_Angeles:20260505T193000
DURATION:PT1H0M0S
SUMMARY:Papa Murphy's vs. SH - McGovern Maintainence
DESCRIPTION:7th/8th Volleyball - Valley League Sports
LOCATION:BGC Albany Mike's Heating & Air Ct.
CATEGORIES:QuickScores, Volleyball Game
TRANSP:OPAQUE
BEGIN:VALARM
TRIGGER:-PT2H
ACTION:DISPLAY
DESCRIPTION:Papa Murphy's vs. SH - McGovern Maintainence
END:VALARM
END:VEVENT
END:VCALENDAR
