BEGIN:VCALENDAR
VERSION:2.0
PRODID:-//QuickScores.com//BQ Dynamic iCal Creator//EN
METHOD:PUBLISH
X-WR-CALNAME:Corvallis Ironhead Roofing - 7th/8th Volleyball - 2026 Spring Volleyball
X-WR-CALDESC:QuickScores game calendar
X-PUBLISHED-TTL:PT24H
REFRESH-INTERVAL;VALUE=DURATION:PT24H
CALSCALE:GREGORIAN
BEGIN:VTIMEZONE
TZID:America/Los_Angeles
X-LIC-LOCATION:America/Los_Angeles
BEGIN:DAYLIGHT
TZNAME:PDT
TZOFFSETFROM:-0800
TZOFFSETTO:-0700
DTSTART:19700308T020000
RRULE:FREQ=YEARLY;BYMONTH=3;BYDAY=2SU
END:DAYLIGHT
BEGIN:STANDARD
TZNAME:PST
TZOFFSETFROM:-0700
TZOFFSETTO:-0800
DTSTART:19701101T020000
RRULE:FREQ=YEARLY;BYMONTH=11;BYDAY=1SU
END:STANDARD
END:VTIMEZONE
BEGIN:VEVENT
UID:vls-73638318-20260407T183000@quickscores.com
DTSTAMP:20260422T111300Z
DTSTART;TZID=America/Los_Angeles:20260407T183000
DURATION:PT1H0M0S
SUMMARY:Corvallis Ironhead Roofing vs. Leb 2 - Lebanon Volleyball Club
DESCRIPTION:7th/8th Volleyball - Valley League Sports
LOCATION:BGC Corvallis IHR Ken's Car Care Court #2
CATEGORIES:QuickScores, Volleyball Game
TRANSP:OPAQUE
BEGIN:VALARM
TRIGGER:-PT2H
ACTION:DISPLAY
DESCRIPTION:Corvallis Ironhead Roofing vs. Leb 2 - Lebanon Volleyball Club
END:VALARM
END:VEVENT
BEGIN:VEVENT
UID:vls-73638319-20260407T203000@quickscores.com
DTSTAMP:20260422T111300Z
DTSTART;TZID=America/Los_Angeles:20260407T203000
DURATION:PT1H0M0S
SUMMARY:Corvallis Ironhead Roofing vs. Papa Murphy's
DESCRIPTION:7th/8th Volleyball - Valley League Sports
LOCATION:BGC Corvallis IHR Ken's Car Care Court #2
CATEGORIES:QuickScores, Volleyball Game
TRANSP:OPAQUE
BEGIN:VALARM
TRIGGER:-PT2H
ACTION:DISPLAY
DESCRIPTION:Corvallis Ironhead Roofing vs. Papa Murphy's
END:VALARM
END:VEVENT
BEGIN:VEVENT
UID:vls-73638325-20260414T183000@quickscores.com
DTSTAMP:20260422T111300Z
DTSTART;TZID=America/Los_Angeles:20260414T183000
DURATION:PT1H0M0S
SUMMARY:Corvallis Ironhead Roofing vs. SH - A+ Roofing
DESCRIPTION:7th/8th Volleyball - Valley League Sports
LOCATION:BGC Albany Coastal Farm Ct.
CATEGORIES:QuickScores, Volleyball Game
TRANSP:OPAQUE
BEGIN:VALARM
TRIGGER:-PT2H
ACTION:DISPLAY
DESCRIPTION:Corvallis Ironhead Roofing vs. SH - A+ Roofing
END:VALARM
END:VEVENT
BEGIN:VEVENT
UID:vls-73638329-20260414T193000@quickscores.com
DTSTAMP:20260422T111300Z
DTSTART;TZID=America/Los_Angeles:20260414T193000
DURATION:PT1H0M0S
SUMMARY:Corvallis Ironhead Roofing vs. Valley Fire Control
DESCRIPTION:7th/8th Volleyball - Valley League Sports
LOCATION:BGC Albany Coastal Farm Ct.
CATEGORIES:QuickScores, Volleyball Game
TRANSP:OPAQUE
BEGIN:VALARM
TRIGGER:-PT2H
ACTION:DISPLAY
DESCRIPTION:Corvallis Ironhead Roofing vs. Valley Fire Control
END:VALARM
END:VEVENT
BEGIN:VEVENT
UID:vls-73638337-20260421T183000@quickscores.com
DTSTAMP:20260422T111300Z
DTSTART;TZID=America/Los_Angeles:20260421T183000
DURATION:PT1H0M0S
SUMMARY:Corvallis Ironhead Roofing vs. TiSquared Technologies Inc
DESCRIPTION:7th/8th Volleyball - Valley League Sports
LOCATION:BGC Corvallis IHR Ken's Car Care Court #2
CATEGORIES:QuickScores, Volleyball Game
TRANSP:OPAQUE
BEGIN:VALARM
TRIGGER:-PT2H
ACTION:DISPLAY
DESCRIPTION:Corvallis Ironhead Roofing vs. TiSquared Technologies Inc
END:VALARM
END:VEVENT
BEGIN:VEVENT
UID:vls-73638338-20260421T203000@quickscores.com
DTSTAMP:20260422T111300Z
DTSTART;TZID=America/Los_Angeles:20260421T203000
DURATION:PT1H0M0S
SUMMARY:Corvallis Jiffy Lube vs. Corvallis Ironhead Roofing
DESCRIPTION:7th/8th Volleyball - Valley League Sports
LOCATION:BGC Corvallis IHR Ken's Car Care Court #2
CATEGORIES:QuickScores, Volleyball Game
TRANSP:OPAQUE
BEGIN:VALARM
TRIGGER:-PT2H
ACTION:DISPLAY
DESCRIPTION:Corvallis Jiffy Lube vs. Corvallis Ironhead Roofing
END:VALARM
END:VEVENT
BEGIN:VEVENT
UID:vls-73638344-20260429T180000@quickscores.com
DTSTAMP:20260422T111300Z
DTSTART;TZID=America/Los_Angeles:20260429T180000
DURATION:PT1H0M0S
SUMMARY:Corvallis Ironhead Roofing vs. Leb 1- North Santiam Coffee
DESCRIPTION:7th/8th Volleyball - Valley League Sports
LOCATION:Sweet Home Jr. High Gym
CATEGORIES:QuickScores, Volleyball Game
TRANSP:OPAQUE
BEGIN:VALARM
TRIGGER:-PT2H
ACTION:DISPLAY
DESCRIPTION:Corvallis Ironhead Roofing vs. Leb 1- North Santiam Coffee
END:VALARM
END:VEVENT
BEGIN:VEVENT
UID:vls-73638354-20260429T190000@quickscores.com
DTSTAMP:20260422T111300Z
DTSTART;TZID=America/Los_Angeles:20260429T190000
DURATION:PT1H0M0S
SUMMARY:Corvallis Ironhead Roofing vs. SH - McGovern Maintainence
DESCRIPTION:7th/8th Volleyball - Valley League Sports
LOCATION:Sweet Home Jr. High Gym
CATEGORIES:QuickScores, Volleyball Game
TRANSP:OPAQUE
BEGIN:VALARM
TRIGGER:-PT2H
ACTION:DISPLAY
DESCRIPTION:Corvallis Ironhead Roofing vs. SH - McGovern Maintainence
END:VALARM
END:VEVENT
BEGIN:VEVENT
UID:vls-73638356-20260505T173000@quickscores.com
DTSTAMP:20260422T111300Z
DTSTART;TZID=America/Los_Angeles:20260505T173000
DURATION:PT1H0M0S
SUMMARY:Corvallis Ironhead Roofing vs. Valley Fire Control
DESCRIPTION:7th/8th Volleyball - Valley League Sports
LOCATION:BGC Albany Mike's Heating & Air Ct.
CATEGORIES:QuickScores, Volleyball Game
TRANSP:OPAQUE
BEGIN:VALARM
TRIGGER:-PT2H
ACTION:DISPLAY
DESCRIPTION:Corvallis Ironhead Roofing vs. Valley Fire Control
END:VALARM
END:VEVENT
BEGIN:VEVENT
UID:vls-73638352-20260505T183000@quickscores.com
DTSTAMP:20260422T111300Z
DTSTART;TZID=America/Los_Angeles:20260505T183000
DURATION:PT1H0M0S
SUMMARY:Corvallis Jiffy Lube vs. Corvallis Ironhead Roofing
DESCRIPTION:7th/8th Volleyball - Valley League Sports
LOCATION:BGC Albany Mike's Heating & Air Ct.
CATEGORIES:QuickScores, Volleyball Game
TRANSP:OPAQUE
BEGIN:VALARM
TRIGGER:-PT2H
ACTION:DISPLAY
DESCRIPTION:Corvallis Jiffy Lube vs. Corvallis Ironhead Roofing
END:VALARM
END:VEVENT
END:VCALENDAR
