BEGIN:VCALENDAR
VERSION:2.0
PRODID:-//QuickScores.com//BQ Dynamic iCal Creator//EN
METHOD:PUBLISH
X-WR-CALNAME:Corvallis Jiffy Lube - 7th/8th Volleyball - 2026 Spring Volleyball
X-WR-CALDESC:QuickScores game calendar
X-PUBLISHED-TTL:PT24H
REFRESH-INTERVAL;VALUE=DURATION:PT24H
CALSCALE:GREGORIAN
BEGIN:VTIMEZONE
TZID:America/Los_Angeles
X-LIC-LOCATION:America/Los_Angeles
BEGIN:DAYLIGHT
TZNAME:PDT
TZOFFSETFROM:-0800
TZOFFSETTO:-0700
DTSTART:19700308T020000
RRULE:FREQ=YEARLY;BYMONTH=3;BYDAY=2SU
END:DAYLIGHT
BEGIN:STANDARD
TZNAME:PST
TZOFFSETFROM:-0700
TZOFFSETTO:-0800
DTSTART:19701101T020000
RRULE:FREQ=YEARLY;BYMONTH=11;BYDAY=1SU
END:STANDARD
END:VTIMEZONE
BEGIN:VEVENT
UID:vls-73638328-20260407T183000@quickscores.com
DTSTAMP:20260422T180000Z
DTSTART;TZID=America/Los_Angeles:20260407T183000
DURATION:PT1H0M0S
SUMMARY:Corvallis Jiffy Lube vs. Leb 1- North Santiam Coffee
DESCRIPTION:7th/8th Volleyball - Valley League Sports
LOCATION:BGC Albany Mikesell Ct.
CATEGORIES:QuickScores, Volleyball Game
TRANSP:OPAQUE
BEGIN:VALARM
TRIGGER:-PT2H
ACTION:DISPLAY
DESCRIPTION:Corvallis Jiffy Lube vs. Leb 1- North Santiam Coffee
END:VALARM
END:VEVENT
BEGIN:VEVENT
UID:vls-73638327-20260407T193000@quickscores.com
DTSTAMP:20260422T180000Z
DTSTART;TZID=America/Los_Angeles:20260407T193000
DURATION:PT1H0M0S
SUMMARY:Valley Fire Control vs. Corvallis Jiffy Lube
DESCRIPTION:7th/8th Volleyball - Valley League Sports
LOCATION:BGC Albany Mikesell Ct.
CATEGORIES:QuickScores, Volleyball Game
TRANSP:OPAQUE
BEGIN:VALARM
TRIGGER:-PT2H
ACTION:DISPLAY
DESCRIPTION:Valley Fire Control vs. Corvallis Jiffy Lube
END:VALARM
END:VEVENT
BEGIN:VEVENT
UID:vls-73638330-20260413T183000@quickscores.com
DTSTAMP:20260422T180000Z
DTSTART;TZID=America/Los_Angeles:20260413T183000
DURATION:PT1H0M0S
SUMMARY:SH - McGovern Maintainence vs. Corvallis Jiffy Lube
DESCRIPTION:7th/8th Volleyball - Valley League Sports
LOCATION:BGC Lebanon #2
CATEGORIES:QuickScores, Volleyball Game
TRANSP:OPAQUE
BEGIN:VALARM
TRIGGER:-PT2H
ACTION:DISPLAY
DESCRIPTION:SH - McGovern Maintainence vs. Corvallis Jiffy Lube
END:VALARM
END:VEVENT
BEGIN:VEVENT
UID:vls-73638335-20260413T193000@quickscores.com
DTSTAMP:20260422T180000Z
DTSTART;TZID=America/Los_Angeles:20260413T193000
DURATION:PT1H0M0S
SUMMARY:Corvallis Jiffy Lube vs. Leb 2 - Lebanon Volleyball Club
DESCRIPTION:7th/8th Volleyball - Valley League Sports
LOCATION:BGC Lebanon #2
CATEGORIES:QuickScores, Volleyball Game
TRANSP:OPAQUE
BEGIN:VALARM
TRIGGER:-PT2H
ACTION:DISPLAY
DESCRIPTION:Corvallis Jiffy Lube vs. Leb 2 - Lebanon Volleyball Club
END:VALARM
END:VEVENT
BEGIN:VEVENT
UID:vls-73638343-20260421T193000@quickscores.com
DTSTAMP:20260422T180000Z
DTSTART;TZID=America/Los_Angeles:20260421T193000
DURATION:PT1H0M0S
SUMMARY:Corvallis Jiffy Lube vs. TiSquared Technologies Inc
DESCRIPTION:7th/8th Volleyball - Valley League Sports
LOCATION:BGC Corvallis IHR Ken's Car Care Court #2
CATEGORIES:QuickScores, Volleyball Game
TRANSP:OPAQUE
BEGIN:VALARM
TRIGGER:-PT2H
ACTION:DISPLAY
DESCRIPTION:Corvallis Jiffy Lube vs. TiSquared Technologies Inc
END:VALARM
END:VEVENT
BEGIN:VEVENT
UID:vls-73638338-20260421T203000@quickscores.com
DTSTAMP:20260422T180000Z
DTSTART;TZID=America/Los_Angeles:20260421T203000
DURATION:PT1H0M0S
SUMMARY:Corvallis Jiffy Lube vs. Corvallis Ironhead Roofing
DESCRIPTION:7th/8th Volleyball - Valley League Sports
LOCATION:BGC Corvallis IHR Ken's Car Care Court #2
CATEGORIES:QuickScores, Volleyball Game
TRANSP:OPAQUE
BEGIN:VALARM
TRIGGER:-PT2H
ACTION:DISPLAY
DESCRIPTION:Corvallis Jiffy Lube vs. Corvallis Ironhead Roofing
END:VALARM
END:VEVENT
BEGIN:VEVENT
UID:vls-73638349-20260428T183000@quickscores.com
DTSTAMP:20260422T180000Z
DTSTART;TZID=America/Los_Angeles:20260428T183000
DURATION:PT1H0M0S
SUMMARY:Papa Murphy's vs. Corvallis Jiffy Lube
DESCRIPTION:7th/8th Volleyball - Valley League Sports
LOCATION:BGC Corvallis IHR,  Mick's Glass Court #1
CATEGORIES:QuickScores, Volleyball Game
TRANSP:OPAQUE
BEGIN:VALARM
TRIGGER:-PT2H
ACTION:DISPLAY
DESCRIPTION:Papa Murphy's vs. Corvallis Jiffy Lube
END:VALARM
END:VEVENT
BEGIN:VEVENT
UID:vls-73638346-20260428T203000@quickscores.com
DTSTAMP:20260422T180000Z
DTSTART;TZID=America/Los_Angeles:20260428T203000
DURATION:PT1H0M0S
SUMMARY:Corvallis Jiffy Lube vs. SH - A+ Roofing
DESCRIPTION:7th/8th Volleyball - Valley League Sports
LOCATION:BGC Corvallis IHR,  Mick's Glass Court #1
CATEGORIES:QuickScores, Volleyball Game
TRANSP:OPAQUE
BEGIN:VALARM
TRIGGER:-PT2H
ACTION:DISPLAY
DESCRIPTION:Corvallis Jiffy Lube vs. SH - A+ Roofing
END:VALARM
END:VEVENT
BEGIN:VEVENT
UID:vls-73638352-20260505T183000@quickscores.com
DTSTAMP:20260422T180000Z
DTSTART;TZID=America/Los_Angeles:20260505T183000
DURATION:PT1H0M0S
SUMMARY:Corvallis Jiffy Lube vs. Corvallis Ironhead Roofing
DESCRIPTION:7th/8th Volleyball - Valley League Sports
LOCATION:BGC Albany Mike's Heating & Air Ct.
CATEGORIES:QuickScores, Volleyball Game
TRANSP:OPAQUE
BEGIN:VALARM
TRIGGER:-PT2H
ACTION:DISPLAY
DESCRIPTION:Corvallis Jiffy Lube vs. Corvallis Ironhead Roofing
END:VALARM
END:VEVENT
BEGIN:VEVENT
UID:vls-73638360-20260505T193000@quickscores.com
DTSTAMP:20260422T180000Z
DTSTART;TZID=America/Los_Angeles:20260505T193000
DURATION:PT1H0M0S
SUMMARY:TiSquared Technologies Inc vs. Corvallis Jiffy Lube
DESCRIPTION:7th/8th Volleyball - Valley League Sports
LOCATION:BGC Albany Mikesell Ct.
CATEGORIES:QuickScores, Volleyball Game
TRANSP:OPAQUE
BEGIN:VALARM
TRIGGER:-PT2H
ACTION:DISPLAY
DESCRIPTION:TiSquared Technologies Inc vs. Corvallis Jiffy Lube
END:VALARM
END:VEVENT
END:VCALENDAR
