BEGIN:VCALENDAR
VERSION:2.0
PRODID:-//QuickScores.com//BQ Dynamic iCal Creator//EN
METHOD:PUBLISH
X-WR-CALNAME:Tang/Peri/Oak - Gilchrist - 3/4th Girls Rec - WINTER 2025-2026 Basketball
X-WR-CALDESC:QuickScores game calendar
X-PUBLISHED-TTL:PT24H
REFRESH-INTERVAL;VALUE=DURATION:PT24H
CALSCALE:GREGORIAN
BEGIN:VTIMEZONE
TZID:America/Los_Angeles
X-LIC-LOCATION:America/Los_Angeles
BEGIN:DAYLIGHT
TZNAME:PDT
TZOFFSETFROM:-0800
TZOFFSETTO:-0700
DTSTART:19700308T020000
RRULE:FREQ=YEARLY;BYMONTH=3;BYDAY=2SU
END:DAYLIGHT
BEGIN:STANDARD
TZNAME:PST
TZOFFSETFROM:-0700
TZOFFSETTO:-0800
DTSTART:19701101T020000
RRULE:FREQ=YEARLY;BYMONTH=11;BYDAY=1SU
END:STANDARD
END:VTIMEZONE
BEGIN:VEVENT
UID:vls-72087474-20260120T191500@quickscores.com
DTSTAMP:20260425T185500Z
DTSTART;TZID=America/Los_Angeles:20260120T191500
DURATION:PT1H0M0S
SUMMARY:Tang/Peri/Oak - Gilchrist vs. Jefferson- Purple
DESCRIPTION:3/4th Girls Rec - Valley League Sports
LOCATION:Jefferson Old Middle School Gym
CATEGORIES:QuickScores, Basketball Game
TRANSP:OPAQUE
BEGIN:VALARM
TRIGGER:-PT2H
ACTION:DISPLAY
DESCRIPTION:Tang/Peri/Oak - Gilchrist vs. Jefferson- Purple
END:VALARM
END:VEVENT
BEGIN:VEVENT
UID:vls-72087467-20260124T103000@quickscores.com
DTSTAMP:20260425T185500Z
DTSTART;TZID=America/Los_Angeles:20260124T103000
DURATION:PT1H0M0S
SUMMARY:Tang/Peri/Oak - Gilchrist vs. NAE/Central - O'Kaine
DESCRIPTION:3/4th Girls Rec - Valley League Sports
LOCATION:BGC Albany McLagan Gym
CATEGORIES:QuickScores, Basketball Game
TRANSP:OPAQUE
BEGIN:VALARM
TRIGGER:-PT2H
ACTION:DISPLAY
DESCRIPTION:Tang/Peri/Oak - Gilchrist vs. NAE/Central - O'Kaine
END:VALARM
END:VEVENT
BEGIN:VEVENT
UID:vls-72087483-20260130T185500@quickscores.com
DTSTAMP:20260425T185500Z
DTSTART;TZID=America/Los_Angeles:20260130T185500
DURATION:PT1H0M0S
SUMMARY:Jefferson- White vs. Tang/Peri/Oak - Gilchrist
DESCRIPTION:3/4th Girls Rec - Valley League Sports
LOCATION:BGC Albany McLagan Gym
CATEGORIES:QuickScores, Basketball Game
TRANSP:OPAQUE
BEGIN:VALARM
TRIGGER:-PT2H
ACTION:DISPLAY
DESCRIPTION:Jefferson- White vs. Tang/Peri/Oak - Gilchrist
END:VALARM
END:VEVENT
BEGIN:VEVENT
UID:vls-72087499-20260206T182500@quickscores.com
DTSTAMP:20260425T185500Z
DTSTART;TZID=America/Los_Angeles:20260206T182500
DURATION:PT1H0M0S
SUMMARY:Oak Grove/Lib - Duncan vs. Tang/Peri/Oak - Gilchrist
DESCRIPTION:3/4th Girls Rec - Valley League Sports
LOCATION:BGC Albany Les Schwab Ct.
CATEGORIES:QuickScores, Basketball Game
TRANSP:OPAQUE
BEGIN:VALARM
TRIGGER:-PT2H
ACTION:DISPLAY
DESCRIPTION:Oak Grove/Lib - Duncan vs. Tang/Peri/Oak - Gilchrist
END:VALARM
END:VEVENT
BEGIN:VEVENT
UID:vls-72087514-20260210T181500@quickscores.com
DTSTAMP:20260425T185500Z
DTSTART;TZID=America/Los_Angeles:20260210T181500
DURATION:PT1H0M0S
SUMMARY:Tang/Peri/Oak - Gilchrist vs. Scio 3
DESCRIPTION:3/4th Girls Rec - Valley League Sports
LOCATION:Centennial Elementary
CATEGORIES:QuickScores, Basketball Game
TRANSP:OPAQUE
BEGIN:VALARM
TRIGGER:-PT2H
ACTION:DISPLAY
DESCRIPTION:Tang/Peri/Oak - Gilchrist vs. Scio 3
END:VALARM
END:VEVENT
BEGIN:VEVENT
UID:vls-72087516-20260214T114500@quickscores.com
DTSTAMP:20260425T185500Z
DTSTART;TZID=America/Los_Angeles:20260214T114500
DURATION:PT1H0M0S
SUMMARY:Tang/Peri/Oak - Gilchrist vs. Liberty/NAE - Weekly
DESCRIPTION:3/4th Girls Rec - Valley League Sports
LOCATION:BGC Albany McLagan Gym
CATEGORIES:QuickScores, Basketball Game
TRANSP:OPAQUE
BEGIN:VALARM
TRIGGER:-PT2H
ACTION:DISPLAY
DESCRIPTION:Tang/Peri/Oak - Gilchrist vs. Liberty/NAE - Weekly
END:VALARM
END:VEVENT
BEGIN:VEVENT
UID:vls-72087530-20260218T190000@quickscores.com
DTSTAMP:20260425T185500Z
DTSTART;TZID=America/Los_Angeles:20260218T190000
DURATION:PT1H0M0S
SUMMARY:BRC Game Fowl vs. Tang/Peri/Oak - Gilchrist
DESCRIPTION:3/4th Girls Rec - Valley League Sports
LOCATION:BGC Albany Rex Casey Gym
CATEGORIES:QuickScores, Basketball Game
TRANSP:OPAQUE
BEGIN:VALARM
TRIGGER:-PT2H
ACTION:DISPLAY
DESCRIPTION:BRC Game Fowl vs. Tang/Peri/Oak - Gilchrist
END:VALARM
END:VEVENT
BEGIN:VEVENT
UID:vls-72087528-20260220T181500@quickscores.com
DTSTAMP:20260425T185500Z
DTSTART;TZID=America/Los_Angeles:20260220T181500
DURATION:PT1H0M0S
SUMMARY:Tang/Peri/Oak - Gilchrist vs. Pacific Excavation
DESCRIPTION:GYM OPENS AT 5:45 --- 3/4th Girls Rec - Valley League Sports
LOCATION:Centennial Elementary
CATEGORIES:QuickScores, Basketball Game
TRANSP:OPAQUE
BEGIN:VALARM
TRIGGER:-PT2H
ACTION:DISPLAY
DESCRIPTION:Tang/Peri/Oak - Gilchrist vs. Pacific Excavation
END:VALARM
END:VEVENT
BEGIN:VEVENT
UID:vls-72087542-20260225T172000@quickscores.com
DTSTAMP:20260425T185500Z
DTSTART;TZID=America/Los_Angeles:20260225T172000
DURATION:PT1H0M0S
SUMMARY:MRidge/AC/Other - Roberts vs. Tang/Peri/Oak - Gilchrist
DESCRIPTION:3/4th Girls Rec - Valley League Sports
LOCATION:BGC Albany McLagan Gym
CATEGORIES:QuickScores, Basketball Game
TRANSP:OPAQUE
BEGIN:VALARM
TRIGGER:-PT2H
ACTION:DISPLAY
DESCRIPTION:MRidge/AC/Other - Roberts vs. Tang/Peri/Oak - Gilchrist
END:VALARM
END:VEVENT
BEGIN:VEVENT
UID:vls-72087546-20260226T172000@quickscores.com
DTSTAMP:20260425T185500Z
DTSTART;TZID=America/Los_Angeles:20260226T172000
DURATION:PT1H0M0S
SUMMARY:Tang/Peri/Oak - Gilchrist vs. S. Shore/Sunrise/Home - Strunk
DESCRIPTION:3/4th Girls Rec - Valley League Sports
LOCATION:BGC Albany McLagan Gym
CATEGORIES:QuickScores, Basketball Game
TRANSP:OPAQUE
BEGIN:VALARM
TRIGGER:-PT2H
ACTION:DISPLAY
DESCRIPTION:Tang/Peri/Oak - Gilchrist vs. S. Shore/Sunrise/Home - Strunk
END:VALARM
END:VEVENT
BEGIN:VEVENT
UID:vls-72087502-20260227T173000@quickscores.com
DTSTAMP:20260425T185500Z
DTSTART;TZID=America/Los_Angeles:20260227T173000
DURATION:PT1H0M0S
SUMMARY:Albany Christian/Other - Hostetler vs. Tang/Peri/Oak - Gilchrist
DESCRIPTION:3/4th Girls Rec - Valley League Sports
LOCATION:BGC Albany McLagan Gym
CATEGORIES:QuickScores, Basketball Game
TRANSP:OPAQUE
BEGIN:VALARM
TRIGGER:-PT2H
ACTION:DISPLAY
DESCRIPTION:Albany Christian/Other - Hostetler vs. Tang/Peri/Oak - Gilchrist
END:VALARM
END:VEVENT
BEGIN:VEVENT
UID:vls-72087488-20260306T184500@quickscores.com
DTSTAMP:20260425T185500Z
DTSTART;TZID=America/Los_Angeles:20260306T184500
DURATION:PT1H0M0S
SUMMARY:Santiam Christian - Vanorder vs. Tang/Peri/Oak - Gilchrist
DESCRIPTION:3/4th Girls Rec - Valley League Sports
LOCATION:BGC Albany Sullivan Gym
CATEGORIES:QuickScores, Basketball Game
TRANSP:OPAQUE
BEGIN:VALARM
TRIGGER:-PT2H
ACTION:DISPLAY
DESCRIPTION:Santiam Christian - Vanorder vs. Tang/Peri/Oak - Gilchrist
END:VALARM
END:VEVENT
END:VCALENDAR
