BEGIN:VCALENDAR
VERSION:2.0
PRODID:-//QuickScores.com//BQ Dynamic iCal Creator//EN
METHOD:PUBLISH
X-WR-CALNAME:Liberty/NAE - Weekly - 3/4th Girls Rec - WINTER 2025-2026 Basketball
X-WR-CALDESC:QuickScores game calendar
X-PUBLISHED-TTL:PT24H
REFRESH-INTERVAL;VALUE=DURATION:PT24H
CALSCALE:GREGORIAN
BEGIN:VTIMEZONE
TZID:America/Los_Angeles
X-LIC-LOCATION:America/Los_Angeles
BEGIN:DAYLIGHT
TZNAME:PDT
TZOFFSETFROM:-0800
TZOFFSETTO:-0700
DTSTART:19700308T020000
RRULE:FREQ=YEARLY;BYMONTH=3;BYDAY=2SU
END:DAYLIGHT
BEGIN:STANDARD
TZNAME:PST
TZOFFSETFROM:-0700
TZOFFSETTO:-0800
DTSTART:19701101T020000
RRULE:FREQ=YEARLY;BYMONTH=11;BYDAY=1SU
END:STANDARD
END:VTIMEZONE
BEGIN:VEVENT
UID:vls-72087465-20260121T193000@quickscores.com
DTSTAMP:20260424T052300Z
DTSTART;TZID=America/Los_Angeles:20260121T193000
DURATION:PT1H0M0S
SUMMARY:Liberty/NAE - Weekly vs. Jefferson- Purple
DESCRIPTION:3/4th Girls Rec - Valley League Sports
LOCATION:Jefferson Old Middle School Gym
CATEGORIES:QuickScores, Basketball Game
TRANSP:OPAQUE
BEGIN:VALARM
TRIGGER:-PT2H
ACTION:DISPLAY
DESCRIPTION:Liberty/NAE - Weekly vs. Jefferson- Purple
END:VALARM
END:VEVENT
BEGIN:VEVENT
UID:vls-72087486-20260130T172000@quickscores.com
DTSTAMP:20260424T052300Z
DTSTART;TZID=America/Los_Angeles:20260130T172000
DURATION:PT1H0M0S
SUMMARY:Albany Christian/Other - Hostetler vs. Liberty/NAE - Weekly
DESCRIPTION:3/4th Girls Rec - Valley League Sports
LOCATION:BGC Albany Sullivan Gym
CATEGORIES:QuickScores, Basketball Game
TRANSP:OPAQUE
BEGIN:VALARM
TRIGGER:-PT2H
ACTION:DISPLAY
DESCRIPTION:Albany Christian/Other - Hostetler vs. Liberty/NAE - Weekly
END:VALARM
END:VEVENT
BEGIN:VEVENT
UID:vls-72087497-20260203T184000@quickscores.com
DTSTAMP:20260424T052300Z
DTSTART;TZID=America/Los_Angeles:20260203T184000
DURATION:PT1H0M0S
SUMMARY:Jefferson- White vs. Liberty/NAE - Weekly
DESCRIPTION:3/4th Girls Rec - Valley League Sports
LOCATION:BGC Albany Mike's Heating & Air Ct.
CATEGORIES:QuickScores, Basketball Game
TRANSP:OPAQUE
BEGIN:VALARM
TRIGGER:-PT2H
ACTION:DISPLAY
DESCRIPTION:Jefferson- White vs. Liberty/NAE - Weekly
END:VALARM
END:VEVENT
BEGIN:VEVENT
UID:vls-72087500-20260206T174000@quickscores.com
DTSTAMP:20260424T052300Z
DTSTART;TZID=America/Los_Angeles:20260206T174000
DURATION:PT1H0M0S
SUMMARY:MRidge/TRidge/Other - Parten vs. Liberty/NAE - Weekly
DESCRIPTION:3/4th Girls Rec - Valley League Sports
LOCATION:BGC Albany Mike's Heating & Air Ct.
CATEGORIES:QuickScores, Basketball Game
TRANSP:OPAQUE
BEGIN:VALARM
TRIGGER:-PT2H
ACTION:DISPLAY
DESCRIPTION:MRidge/TRidge/Other - Parten vs. Liberty/NAE - Weekly
END:VALARM
END:VEVENT
BEGIN:VEVENT
UID:vls-72087513-20260213T184500@quickscores.com
DTSTAMP:20260424T052300Z
DTSTART;TZID=America/Los_Angeles:20260213T184500
DURATION:PT1H0M0S
SUMMARY:Oak Grove/Lib - Duncan vs. Liberty/NAE - Weekly
DESCRIPTION:3/4th Girls Rec - Valley League Sports
LOCATION:BGC Albany McLagan Gym
CATEGORIES:QuickScores, Basketball Game
TRANSP:OPAQUE
BEGIN:VALARM
TRIGGER:-PT2H
ACTION:DISPLAY
DESCRIPTION:Oak Grove/Lib - Duncan vs. Liberty/NAE - Weekly
END:VALARM
END:VEVENT
BEGIN:VEVENT
UID:vls-72087516-20260214T114500@quickscores.com
DTSTAMP:20260424T052300Z
DTSTART;TZID=America/Los_Angeles:20260214T114500
DURATION:PT1H0M0S
SUMMARY:Tang/Peri/Oak - Gilchrist vs. Liberty/NAE - Weekly
DESCRIPTION:3/4th Girls Rec - Valley League Sports
LOCATION:BGC Albany McLagan Gym
CATEGORIES:QuickScores, Basketball Game
TRANSP:OPAQUE
BEGIN:VALARM
TRIGGER:-PT2H
ACTION:DISPLAY
DESCRIPTION:Tang/Peri/Oak - Gilchrist vs. Liberty/NAE - Weekly
END:VALARM
END:VEVENT
BEGIN:VEVENT
UID:vls-72087529-20260217T193000@quickscores.com
DTSTAMP:20260424T052300Z
DTSTART;TZID=America/Los_Angeles:20260217T193000
DURATION:PT1H0M0S
SUMMARY:Liberty/NAE - Weekly vs. Scio 3
DESCRIPTION:GYM OPENS AT 5:45 --- 3/4th Girls Rec - Valley League Sports
LOCATION:Centennial Elementary
CATEGORIES:QuickScores, Basketball Game
TRANSP:OPAQUE
BEGIN:VALARM
TRIGGER:-PT2H
ACTION:DISPLAY
DESCRIPTION:Liberty/NAE - Weekly vs. Scio 3
END:VALARM
END:VEVENT
BEGIN:VEVENT
UID:vls-72087532-20260220T182500@quickscores.com
DTSTAMP:20260424T052300Z
DTSTART;TZID=America/Los_Angeles:20260220T182500
DURATION:PT1H0M0S
SUMMARY:Liberty/NAE - Weekly vs. S. Shore/Sunrise/Home - Strunk
DESCRIPTION:3/4th Girls Rec - Valley League Sports
LOCATION:BGC Albany McLagan Gym
CATEGORIES:QuickScores, Basketball Game
TRANSP:OPAQUE
BEGIN:VALARM
TRIGGER:-PT2H
ACTION:DISPLAY
DESCRIPTION:Liberty/NAE - Weekly vs. S. Shore/Sunrise/Home - Strunk
END:VALARM
END:VEVENT
BEGIN:VEVENT
UID:vls-72087544-20260223T174500@quickscores.com
DTSTAMP:20260424T052300Z
DTSTART;TZID=America/Los_Angeles:20260223T174500
DURATION:PT1H0M0S
SUMMARY:Liberty/NAE - Weekly vs. Pacific Excavation
DESCRIPTION:GYM OPENS AT 5:15 --- 3/4th Girls Rec - Valley League Sports
LOCATION:Centennial Elementary
CATEGORIES:QuickScores, Basketball Game
TRANSP:OPAQUE
BEGIN:VALARM
TRIGGER:-PT2H
ACTION:DISPLAY
DESCRIPTION:Liberty/NAE - Weekly vs. Pacific Excavation
END:VALARM
END:VEVENT
BEGIN:VEVENT
UID:vls-72087548-20260226T182500@quickscores.com
DTSTAMP:20260424T052300Z
DTSTART;TZID=America/Los_Angeles:20260226T182500
DURATION:PT1H0M0S
SUMMARY:Liberty/NAE - Weekly vs. Santiam Christian-Martinez
DESCRIPTION:3/4th Girls Rec - Valley League Sports
LOCATION:BGC Albany McLagan Gym
CATEGORIES:QuickScores, Basketball Game
TRANSP:OPAQUE
BEGIN:VALARM
TRIGGER:-PT2H
ACTION:DISPLAY
DESCRIPTION:Liberty/NAE - Weekly vs. Santiam Christian-Martinez
END:VALARM
END:VEVENT
BEGIN:VEVENT
UID:vls-72087472-20260303T184500@quickscores.com
DTSTAMP:20260424T052300Z
DTSTART;TZID=America/Los_Angeles:20260303T184500
DURATION:PT1H0M0S
SUMMARY:Liberty/NAE - Weekly vs. Santiam Christian - Vanorder
DESCRIPTION:3/4th Girls Rec - Valley League Sports
LOCATION:BGC Albany McLagan Gym
CATEGORIES:QuickScores, Basketball Game
TRANSP:OPAQUE
BEGIN:VALARM
TRIGGER:-PT2H
ACTION:DISPLAY
DESCRIPTION:Liberty/NAE - Weekly vs. Santiam Christian - Vanorder
END:VALARM
END:VEVENT
BEGIN:VEVENT
UID:vls-72087481-20260306T173000@quickscores.com
DTSTAMP:20260424T052300Z
DTSTART;TZID=America/Los_Angeles:20260306T173000
DURATION:PT1H0M0S
SUMMARY:NAE/Central - O'Kaine vs. Liberty/NAE - Weekly
DESCRIPTION:3/4th Girls Rec - Valley League Sports
LOCATION:BGC Albany Sullivan Gym
CATEGORIES:QuickScores, Basketball Game
TRANSP:OPAQUE
BEGIN:VALARM
TRIGGER:-PT2H
ACTION:DISPLAY
DESCRIPTION:NAE/Central - O'Kaine vs. Liberty/NAE - Weekly
END:VALARM
END:VEVENT
END:VCALENDAR
