BEGIN:VCALENDAR
VERSION:2.0
PRODID:-//QuickScores.com//BQ Dynamic iCal Creator//EN
METHOD:PUBLISH
X-WR-CALNAME:Pacific Excavation - 3/4th Girls Rec - WINTER 2025-2026 Basketball
X-WR-CALDESC:QuickScores game calendar
X-PUBLISHED-TTL:PT24H
REFRESH-INTERVAL;VALUE=DURATION:PT24H
CALSCALE:GREGORIAN
BEGIN:VTIMEZONE
TZID:America/Los_Angeles
X-LIC-LOCATION:America/Los_Angeles
BEGIN:DAYLIGHT
TZNAME:PDT
TZOFFSETFROM:-0800
TZOFFSETTO:-0700
DTSTART:19700308T020000
RRULE:FREQ=YEARLY;BYMONTH=3;BYDAY=2SU
END:DAYLIGHT
BEGIN:STANDARD
TZNAME:PST
TZOFFSETFROM:-0700
TZOFFSETTO:-0800
DTSTART:19701101T020000
RRULE:FREQ=YEARLY;BYMONTH=11;BYDAY=1SU
END:STANDARD
END:VTIMEZONE
BEGIN:VEVENT
UID:vls-72087471-20260121T181500@quickscores.com
DTSTAMP:20260423T144500Z
DTSTART;TZID=America/Los_Angeles:20260121T181500
DURATION:PT1H0M0S
SUMMARY:MRidge/AC/Other - Roberts vs. Pacific Excavation
DESCRIPTION:GYM OPENS AT 5:45 --- 3/4th Girls Rec - Valley League Sports
LOCATION:Centennial Elementary
CATEGORIES:QuickScores, Basketball Game
TRANSP:OPAQUE
BEGIN:VALARM
TRIGGER:-PT2H
ACTION:DISPLAY
DESCRIPTION:MRidge/AC/Other - Roberts vs. Pacific Excavation
END:VALARM
END:VEVENT
BEGIN:VEVENT
UID:vls-72087464-20260123T190000@quickscores.com
DTSTAMP:20260423T144500Z
DTSTART;TZID=America/Los_Angeles:20260123T190000
DURATION:PT1H0M0S
SUMMARY:Pacific Excavation vs. MRidge/TRidge/Other - Parten
DESCRIPTION:3/4th Girls Rec - Valley League Sports
LOCATION:BGC Albany Rex Casey Gym
CATEGORIES:QuickScores, Basketball Game
TRANSP:OPAQUE
BEGIN:VALARM
TRIGGER:-PT2H
ACTION:DISPLAY
DESCRIPTION:Pacific Excavation vs. MRidge/TRidge/Other - Parten
END:VALARM
END:VEVENT
BEGIN:VEVENT
UID:vls-72087485-20260130T182500@quickscores.com
DTSTAMP:20260423T144500Z
DTSTART;TZID=America/Los_Angeles:20260130T182500
DURATION:PT1H0M0S
SUMMARY:Pacific Excavation vs. Santiam Christian - Vanorder
DESCRIPTION:Getting Rescheduled --- 3/4th Girls Rec - Valley League Sports
LOCATION:BGC Albany Sullivan Gym
CATEGORIES:QuickScores, Basketball Game
TRANSP:OPAQUE
BEGIN:VALARM
TRIGGER:-PT2H
ACTION:DISPLAY
DESCRIPTION:Pacific Excavation vs. Santiam Christian - Vanorder
END:VALARM
END:VEVENT
BEGIN:VEVENT
UID:vls-72087496-20260206T181500@quickscores.com
DTSTAMP:20260423T144500Z
DTSTART;TZID=America/Los_Angeles:20260206T181500
DURATION:PT1H0M0S
SUMMARY:Santiam Christian-Martinez vs. Pacific Excavation
DESCRIPTION:GYM OPENS AT 5:45 --- 3/4th Girls Rec - Valley League Sports
LOCATION:Centennial Elementary
CATEGORIES:QuickScores, Basketball Game
TRANSP:OPAQUE
BEGIN:VALARM
TRIGGER:-PT2H
ACTION:DISPLAY
DESCRIPTION:Santiam Christian-Martinez vs. Pacific Excavation
END:VALARM
END:VEVENT
BEGIN:VEVENT
UID:vls-72087512-20260213T173000@quickscores.com
DTSTAMP:20260423T144500Z
DTSTART;TZID=America/Los_Angeles:20260213T173000
DURATION:PT1H0M0S
SUMMARY:Pacific Excavation vs. S. Shore/Sunrise/Home - Strunk
DESCRIPTION:3/4th Girls Rec - Valley League Sports
LOCATION:BGC Albany McLagan Gym
CATEGORIES:QuickScores, Basketball Game
TRANSP:OPAQUE
BEGIN:VALARM
TRIGGER:-PT2H
ACTION:DISPLAY
DESCRIPTION:Pacific Excavation vs. S. Shore/Sunrise/Home - Strunk
END:VALARM
END:VEVENT
BEGIN:VEVENT
UID:vls-72087480-20260216T193000@quickscores.com
DTSTAMP:20260423T144500Z
DTSTART;TZID=America/Los_Angeles:20260216T193000
DURATION:PT1H0M0S
SUMMARY:Pacific Excavation vs. BRC Game Fowl
DESCRIPTION:3/4th Girls Rec - Valley League Sports
LOCATION:Centennial Elementary
CATEGORIES:QuickScores, Basketball Game
TRANSP:OPAQUE
BEGIN:VALARM
TRIGGER:-PT2H
ACTION:DISPLAY
DESCRIPTION:Pacific Excavation vs. BRC Game Fowl
END:VALARM
END:VEVENT
BEGIN:VEVENT
UID:vls-72087533-20260217T181500@quickscores.com
DTSTAMP:20260423T144500Z
DTSTART;TZID=America/Los_Angeles:20260217T181500
DURATION:PT1H0M0S
SUMMARY:Jefferson- White vs. Pacific Excavation
DESCRIPTION:GYM OPENS AT 5:45 --- 3/4th Girls Rec - Valley League Sports
LOCATION:Centennial Elementary
CATEGORIES:QuickScores, Basketball Game
TRANSP:OPAQUE
BEGIN:VALARM
TRIGGER:-PT2H
ACTION:DISPLAY
DESCRIPTION:Jefferson- White vs. Pacific Excavation
END:VALARM
END:VEVENT
BEGIN:VEVENT
UID:vls-72087528-20260220T181500@quickscores.com
DTSTAMP:20260423T144500Z
DTSTART;TZID=America/Los_Angeles:20260220T181500
DURATION:PT1H0M0S
SUMMARY:Tang/Peri/Oak - Gilchrist vs. Pacific Excavation
DESCRIPTION:GYM OPENS AT 5:45 --- 3/4th Girls Rec - Valley League Sports
LOCATION:Centennial Elementary
CATEGORIES:QuickScores, Basketball Game
TRANSP:OPAQUE
BEGIN:VALARM
TRIGGER:-PT2H
ACTION:DISPLAY
DESCRIPTION:Tang/Peri/Oak - Gilchrist vs. Pacific Excavation
END:VALARM
END:VEVENT
BEGIN:VEVENT
UID:vls-72087544-20260223T174500@quickscores.com
DTSTAMP:20260423T144500Z
DTSTART;TZID=America/Los_Angeles:20260223T174500
DURATION:PT1H0M0S
SUMMARY:Liberty/NAE - Weekly vs. Pacific Excavation
DESCRIPTION:GYM OPENS AT 5:15 --- 3/4th Girls Rec - Valley League Sports
LOCATION:Centennial Elementary
CATEGORIES:QuickScores, Basketball Game
TRANSP:OPAQUE
BEGIN:VALARM
TRIGGER:-PT2H
ACTION:DISPLAY
DESCRIPTION:Liberty/NAE - Weekly vs. Pacific Excavation
END:VALARM
END:VEVENT
BEGIN:VEVENT
UID:vls-72087549-20260225T174500@quickscores.com
DTSTAMP:20260423T144500Z
DTSTART;TZID=America/Los_Angeles:20260225T174500
DURATION:PT1H0M0S
SUMMARY:NAE/Central - O'Kaine vs. Pacific Excavation
DESCRIPTION:GYM OPENS AT 5:15 --- 3/4th Girls Rec - Valley League Sports
LOCATION:Centennial Elementary
CATEGORIES:QuickScores, Basketball Game
TRANSP:OPAQUE
BEGIN:VALARM
TRIGGER:-PT2H
ACTION:DISPLAY
DESCRIPTION:NAE/Central - O'Kaine vs. Pacific Excavation
END:VALARM
END:VEVENT
BEGIN:VEVENT
UID:vls-72087501-20260304T174500@quickscores.com
DTSTAMP:20260423T144500Z
DTSTART;TZID=America/Los_Angeles:20260304T174500
DURATION:PT1H0M0S
SUMMARY:Pacific Excavation vs. Scio 3
DESCRIPTION:3/4th Girls Rec - Valley League Sports
LOCATION:Centennial Elementary
CATEGORIES:QuickScores, Basketball Game
TRANSP:OPAQUE
BEGIN:VALARM
TRIGGER:-PT2H
ACTION:DISPLAY
DESCRIPTION:Pacific Excavation vs. Scio 3
END:VALARM
END:VEVENT
BEGIN:VEVENT
UID:vls-72087517-20260305T174500@quickscores.com
DTSTAMP:20260423T144500Z
DTSTART;TZID=America/Los_Angeles:20260305T174500
DURATION:PT1H0M0S
SUMMARY:Pacific Excavation vs. Oak Grove/Lib - Duncan
DESCRIPTION:2/14 Game rescheduled for 3/5 --- 3/4th Girls Rec - Valley League Sports
LOCATION:BGC Albany Rex Casey Gym
CATEGORIES:QuickScores, Basketball Game
TRANSP:OPAQUE
BEGIN:VALARM
TRIGGER:-PT2H
ACTION:DISPLAY
DESCRIPTION:Pacific Excavation vs. Oak Grove/Lib - Duncan
END:VALARM
END:VEVENT
END:VCALENDAR
