BEGIN:VCALENDAR
VERSION:2.0
PRODID:-//QuickScores.com//BQ Dynamic iCal Creator//EN
METHOD:PUBLISH
X-WR-CALNAME:Albany Christian/Other - Hostetler - 3/4th Girls Rec - WINTER 2025-2026 Basketball
X-WR-CALDESC:QuickScores game calendar
X-PUBLISHED-TTL:PT24H
REFRESH-INTERVAL;VALUE=DURATION:PT24H
CALSCALE:GREGORIAN
BEGIN:VTIMEZONE
TZID:America/Los_Angeles
X-LIC-LOCATION:America/Los_Angeles
BEGIN:DAYLIGHT
TZNAME:PDT
TZOFFSETFROM:-0800
TZOFFSETTO:-0700
DTSTART:19700308T020000
RRULE:FREQ=YEARLY;BYMONTH=3;BYDAY=2SU
END:DAYLIGHT
BEGIN:STANDARD
TZNAME:PST
TZOFFSETFROM:-0700
TZOFFSETTO:-0800
DTSTART:19701101T020000
RRULE:FREQ=YEARLY;BYMONTH=11;BYDAY=1SU
END:STANDARD
END:VTIMEZONE
BEGIN:VEVENT
UID:vls-72087463-20260123T174500@quickscores.com
DTSTAMP:20260423T201200Z
DTSTART;TZID=America/Los_Angeles:20260123T174500
DURATION:PT1H0M0S
SUMMARY:Santiam Christian - Vanorder vs. Albany Christian/Other - Hostetler
DESCRIPTION:3/4th Girls Rec - Valley League Sports
LOCATION:BGC Albany Rex Casey Gym
CATEGORIES:QuickScores, Basketball Game
TRANSP:OPAQUE
BEGIN:VALARM
TRIGGER:-PT2H
ACTION:DISPLAY
DESCRIPTION:Santiam Christian - Vanorder vs. Albany Christian/Other - Hostetler
END:VALARM
END:VEVENT
BEGIN:VEVENT
UID:vls-72087479-20260127T183000@quickscores.com
DTSTAMP:20260423T201200Z
DTSTART;TZID=America/Los_Angeles:20260127T183000
DURATION:PT1H0M0S
SUMMARY:Albany Christian/Other - Hostetler vs. Jefferson- Purple
DESCRIPTION:3/4th Girls Rec - Valley League Sports
LOCATION:Jefferson Middle School (New Gym)
CATEGORIES:QuickScores, Basketball Game
TRANSP:OPAQUE
BEGIN:VALARM
TRIGGER:-PT2H
ACTION:DISPLAY
DESCRIPTION:Albany Christian/Other - Hostetler vs. Jefferson- Purple
END:VALARM
END:VEVENT
BEGIN:VEVENT
UID:vls-72087486-20260130T172000@quickscores.com
DTSTAMP:20260423T201200Z
DTSTART;TZID=America/Los_Angeles:20260130T172000
DURATION:PT1H0M0S
SUMMARY:Albany Christian/Other - Hostetler vs. Liberty/NAE - Weekly
DESCRIPTION:3/4th Girls Rec - Valley League Sports
LOCATION:BGC Albany Sullivan Gym
CATEGORIES:QuickScores, Basketball Game
TRANSP:OPAQUE
BEGIN:VALARM
TRIGGER:-PT2H
ACTION:DISPLAY
DESCRIPTION:Albany Christian/Other - Hostetler vs. Liberty/NAE - Weekly
END:VALARM
END:VEVENT
BEGIN:VEVENT
UID:vls-72087495-20260206T185000@quickscores.com
DTSTAMP:20260423T201200Z
DTSTART;TZID=America/Los_Angeles:20260206T185000
DURATION:PT1H0M0S
SUMMARY:NAE/Central - O'Kaine vs. Albany Christian/Other - Hostetler
DESCRIPTION:3/4th Girls Rec - Valley League Sports
LOCATION:BGC Albany Mike's Heating & Air Ct.
CATEGORIES:QuickScores, Basketball Game
TRANSP:OPAQUE
BEGIN:VALARM
TRIGGER:-PT2H
ACTION:DISPLAY
DESCRIPTION:NAE/Central - O'Kaine vs. Albany Christian/Other - Hostetler
END:VALARM
END:VEVENT
BEGIN:VEVENT
UID:vls-72087511-20260210T172000@quickscores.com
DTSTAMP:20260423T201200Z
DTSTART;TZID=America/Los_Angeles:20260210T172000
DURATION:PT1H0M0S
SUMMARY:Jefferson- White vs. Albany Christian/Other - Hostetler
DESCRIPTION:3/4th Girls Rec - Valley League Sports
LOCATION:BGC Albany Les Schwab Ct.
CATEGORIES:QuickScores, Basketball Game
TRANSP:OPAQUE
BEGIN:VALARM
TRIGGER:-PT2H
ACTION:DISPLAY
DESCRIPTION:Jefferson- White vs. Albany Christian/Other - Hostetler
END:VALARM
END:VEVENT
BEGIN:VEVENT
UID:vls-72087518-20260214T141500@quickscores.com
DTSTAMP:20260423T201200Z
DTSTART;TZID=America/Los_Angeles:20260214T141500
DURATION:PT1H0M0S
SUMMARY:S. Shore/Sunrise/Home - Strunk vs. Albany Christian/Other - Hostetler
DESCRIPTION:3/4th Girls Rec - Valley League Sports
LOCATION:BGC Albany McLagan Gym
CATEGORIES:QuickScores, Basketball Game
TRANSP:OPAQUE
BEGIN:VALARM
TRIGGER:-PT2H
ACTION:DISPLAY
DESCRIPTION:S. Shore/Sunrise/Home - Strunk vs. Albany Christian/Other - Hostetler
END:VALARM
END:VEVENT
BEGIN:VEVENT
UID:vls-72087527-20260217T193000@quickscores.com
DTSTAMP:20260423T201200Z
DTSTART;TZID=America/Los_Angeles:20260217T193000
DURATION:PT1H0M0S
SUMMARY:Oak Grove/Lib - Duncan vs. Albany Christian/Other - Hostetler
DESCRIPTION:3/4th Girls Rec - Valley League Sports
LOCATION:BGC Albany Mike's Heating & Air Ct.
CATEGORIES:QuickScores, Basketball Game
TRANSP:OPAQUE
BEGIN:VALARM
TRIGGER:-PT2H
ACTION:DISPLAY
DESCRIPTION:Oak Grove/Lib - Duncan vs. Albany Christian/Other - Hostetler
END:VALARM
END:VEVENT
BEGIN:VEVENT
UID:vls-72087534-20260219T190000@quickscores.com
DTSTAMP:20260423T201200Z
DTSTART;TZID=America/Los_Angeles:20260219T190000
DURATION:PT1H0M0S
SUMMARY:Albany Christian/Other - Hostetler vs. Santiam Christian-Martinez
DESCRIPTION:3/4th Girls Rec - Valley League Sports
LOCATION:BGC Albany Rex Casey Gym
CATEGORIES:QuickScores, Basketball Game
TRANSP:OPAQUE
BEGIN:VALARM
TRIGGER:-PT2H
ACTION:DISPLAY
DESCRIPTION:Albany Christian/Other - Hostetler vs. Santiam Christian-Martinez
END:VALARM
END:VEVENT
BEGIN:VEVENT
UID:vls-72087543-20260224T174500@quickscores.com
DTSTAMP:20260423T201200Z
DTSTART;TZID=America/Los_Angeles:20260224T174500
DURATION:PT1H0M0S
SUMMARY:Scio 3 vs. Albany Christian/Other - Hostetler
DESCRIPTION:3/4th Girls Rec - Valley League Sports
LOCATION:BGC Albany Rex Casey Gym
CATEGORIES:QuickScores, Basketball Game
TRANSP:OPAQUE
BEGIN:VALARM
TRIGGER:-PT2H
ACTION:DISPLAY
DESCRIPTION:Scio 3 vs. Albany Christian/Other - Hostetler
END:VALARM
END:VEVENT
BEGIN:VEVENT
UID:vls-72087550-20260226T174500@quickscores.com
DTSTAMP:20260423T201200Z
DTSTART;TZID=America/Los_Angeles:20260226T174500
DURATION:PT1H0M0S
SUMMARY:Albany Christian/Other - Hostetler vs. BRC Game Fowl
DESCRIPTION:GYM OPENS AT 5:15 --- 3/4th Girls Rec - Valley League Sports
LOCATION:Centennial Elementary
CATEGORIES:QuickScores, Basketball Game
TRANSP:OPAQUE
BEGIN:VALARM
TRIGGER:-PT2H
ACTION:DISPLAY
DESCRIPTION:Albany Christian/Other - Hostetler vs. BRC Game Fowl
END:VALARM
END:VEVENT
BEGIN:VEVENT
UID:vls-72087502-20260227T173000@quickscores.com
DTSTAMP:20260423T201200Z
DTSTART;TZID=America/Los_Angeles:20260227T173000
DURATION:PT1H0M0S
SUMMARY:Albany Christian/Other - Hostetler vs. Tang/Peri/Oak - Gilchrist
DESCRIPTION:3/4th Girls Rec - Valley League Sports
LOCATION:BGC Albany McLagan Gym
CATEGORIES:QuickScores, Basketball Game
TRANSP:OPAQUE
BEGIN:VALARM
TRIGGER:-PT2H
ACTION:DISPLAY
DESCRIPTION:Albany Christian/Other - Hostetler vs. Tang/Peri/Oak - Gilchrist
END:VALARM
END:VEVENT
BEGIN:VEVENT
UID:vls-72087470-20260304T185000@quickscores.com
DTSTAMP:20260423T201200Z
DTSTART;TZID=America/Los_Angeles:20260304T185000
DURATION:PT1H0M0S
SUMMARY:Albany Christian/Other - Hostetler vs. MRidge/AC/Other - Roberts
DESCRIPTION:3/4th Girls Rec - Valley League Sports
LOCATION:BGC Albany McLagan Gym
CATEGORIES:QuickScores, Basketball Game
TRANSP:OPAQUE
BEGIN:VALARM
TRIGGER:-PT2H
ACTION:DISPLAY
DESCRIPTION:Albany Christian/Other - Hostetler vs. MRidge/AC/Other - Roberts
END:VALARM
END:VEVENT
END:VCALENDAR
