BEGIN:VCALENDAR
VERSION:2.0
PRODID:-//QuickScores.com//BQ Dynamic iCal Creator//EN
METHOD:PUBLISH
X-WR-CALNAME:Santiam Christian - Backer - 2/3rd Girls League - BGCA/Jefferson Fall 2025 K-3rd Basketball
X-WR-CALDESC:QuickScores game calendar
X-PUBLISHED-TTL:PT24H
REFRESH-INTERVAL;VALUE=DURATION:PT24H
CALSCALE:GREGORIAN
BEGIN:VTIMEZONE
TZID:America/Los_Angeles
X-LIC-LOCATION:America/Los_Angeles
BEGIN:DAYLIGHT
TZNAME:PDT
TZOFFSETFROM:-0800
TZOFFSETTO:-0700
DTSTART:19700308T020000
RRULE:FREQ=YEARLY;BYMONTH=3;BYDAY=2SU
END:DAYLIGHT
BEGIN:STANDARD
TZNAME:PST
TZOFFSETFROM:-0700
TZOFFSETTO:-0800
DTSTART:19701101T020000
RRULE:FREQ=YEARLY;BYMONTH=11;BYDAY=1SU
END:STANDARD
END:VTIMEZONE
BEGIN:VEVENT
UID:vls-71245453-20251020T173000@quickscores.com
DTSTAMP:20260421T113300Z
DTSTART;TZID=America/Los_Angeles:20251020T173000
DURATION:PT1H0M0S
SUMMARY:Santiam Christian - Backer vs. ACS/Other - Duran
DESCRIPTION:2/3rd Girls League - Valley League Sports
LOCATION:BGC Albany Les Schwab Ct.
CATEGORIES:QuickScores, Basketball Game
TRANSP:OPAQUE
BEGIN:VALARM
TRIGGER:-PT2H
ACTION:DISPLAY
DESCRIPTION:Santiam Christian - Backer vs. ACS/Other - Duran
END:VALARM
END:VEVENT
BEGIN:VEVENT
UID:vls-71245450-20251023T173000@quickscores.com
DTSTAMP:20260421T113300Z
DTSTART;TZID=America/Los_Angeles:20251023T173000
DURATION:PT1H0M0S
SUMMARY:Santiam Christian - Backer vs. Jefferson- Purple
DESCRIPTION:2/3rd Girls League - Valley League Sports
LOCATION:Jefferson Middle School (New Gym)
CATEGORIES:QuickScores, Basketball Game
TRANSP:OPAQUE
BEGIN:VALARM
TRIGGER:-PT2H
ACTION:DISPLAY
DESCRIPTION:Santiam Christian - Backer vs. Jefferson- Purple
END:VALARM
END:VEVENT
BEGIN:VEVENT
UID:vls-71245457-20251027T173000@quickscores.com
DTSTAMP:20260421T113300Z
DTSTART;TZID=America/Los_Angeles:20251027T173000
DURATION:PT1H0M0S
SUMMARY:Santiam Christian - Backer vs. Jefferson- Pink
DESCRIPTION:2/3rd Girls League - Valley League Sports
LOCATION:Jefferson Middle School (New Gym)
CATEGORIES:QuickScores, Basketball Game
TRANSP:OPAQUE
BEGIN:VALARM
TRIGGER:-PT2H
ACTION:DISPLAY
DESCRIPTION:Santiam Christian - Backer vs. Jefferson- Pink
END:VALARM
END:VEVENT
BEGIN:VEVENT
UID:vls-71245461-20251028T174500@quickscores.com
DTSTAMP:20260421T113300Z
DTSTART;TZID=America/Los_Angeles:20251028T174500
DURATION:PT1H0M0S
SUMMARY:Liberty/Other - Hostetler vs. Santiam Christian - Backer
DESCRIPTION:2/3rd Girls League - Valley League Sports
LOCATION:BGC Albany Progressive Software Solutions
CATEGORIES:QuickScores, Basketball Game
TRANSP:OPAQUE
BEGIN:VALARM
TRIGGER:-PT2H
ACTION:DISPLAY
DESCRIPTION:Liberty/Other - Hostetler vs. Santiam Christian - Backer
END:VALARM
END:VEVENT
BEGIN:VEVENT
UID:vls-71245465-20251103T173000@quickscores.com
DTSTAMP:20260421T113300Z
DTSTART;TZID=America/Los_Angeles:20251103T173000
DURATION:PT1H0M0S
SUMMARY:ACS/Other - Duran vs. Santiam Christian - Backer
DESCRIPTION:2/3rd Girls League - Valley League Sports
LOCATION:BGC Albany Progressive Software Solutions
CATEGORIES:QuickScores, Basketball Game
TRANSP:OPAQUE
BEGIN:VALARM
TRIGGER:-PT2H
ACTION:DISPLAY
DESCRIPTION:ACS/Other - Duran vs. Santiam Christian - Backer
END:VALARM
END:VEVENT
BEGIN:VEVENT
UID:vls-71245447-20251105T173000@quickscores.com
DTSTAMP:20260421T113300Z
DTSTART;TZID=America/Los_Angeles:20251105T173000
DURATION:PT1H0M0S
SUMMARY:Jefferson- Purple vs. Santiam Christian - Backer
DESCRIPTION:2/3rd Girls League - Valley League Sports
LOCATION:BGC Albany Progressive Software Solutions
CATEGORIES:QuickScores, Basketball Game
TRANSP:OPAQUE
BEGIN:VALARM
TRIGGER:-PT2H
ACTION:DISPLAY
DESCRIPTION:Jefferson- Purple vs. Santiam Christian - Backer
END:VALARM
END:VEVENT
BEGIN:VEVENT
UID:vls-71245443-20251112T173000@quickscores.com
DTSTAMP:20260421T113300Z
DTSTART;TZID=America/Los_Angeles:20251112T173000
DURATION:PT1H0M0S
SUMMARY:Meadow Ridge/Peri - Andersen vs. Santiam Christian - Backer
DESCRIPTION:2/3rd Girls League - Valley League Sports
LOCATION:BGC Albany Les Schwab Ct.
CATEGORIES:QuickScores, Basketball Game
TRANSP:OPAQUE
BEGIN:VALARM
TRIGGER:-PT2H
ACTION:DISPLAY
DESCRIPTION:Meadow Ridge/Peri - Andersen vs. Santiam Christian - Backer
END:VALARM
END:VEVENT
BEGIN:VEVENT
UID:vls-71245468-20251113T173000@quickscores.com
DTSTAMP:20260421T113300Z
DTSTART;TZID=America/Los_Angeles:20251113T173000
DURATION:PT1H0M0S
SUMMARY:Santiam Christian - Backer vs. Team Huber/Katzenstein
DESCRIPTION:2/3rd Girls League - Valley League Sports
LOCATION:BGC Albany Les Schwab Ct.
CATEGORIES:QuickScores, Basketball Game
TRANSP:OPAQUE
BEGIN:VALARM
TRIGGER:-PT2H
ACTION:DISPLAY
DESCRIPTION:Santiam Christian - Backer vs. Team Huber/Katzenstein
END:VALARM
END:VEVENT
END:VCALENDAR
