BEGIN:VCALENDAR
VERSION:2.0
PRODID:-//QuickScores.com//BQ Dynamic iCal Creator//EN
METHOD:PUBLISH
X-WR-CALNAME:Team Huber/Katzenstein - 2/3rd Girls League - BGCA/Jefferson Fall 2025 K-3rd Basketball
X-WR-CALDESC:QuickScores game calendar
X-PUBLISHED-TTL:PT24H
REFRESH-INTERVAL;VALUE=DURATION:PT24H
CALSCALE:GREGORIAN
BEGIN:VTIMEZONE
TZID:America/Los_Angeles
X-LIC-LOCATION:America/Los_Angeles
BEGIN:DAYLIGHT
TZNAME:PDT
TZOFFSETFROM:-0800
TZOFFSETTO:-0700
DTSTART:19700308T020000
RRULE:FREQ=YEARLY;BYMONTH=3;BYDAY=2SU
END:DAYLIGHT
BEGIN:STANDARD
TZNAME:PST
TZOFFSETFROM:-0700
TZOFFSETTO:-0800
DTSTART:19701101T020000
RRULE:FREQ=YEARLY;BYMONTH=11;BYDAY=1SU
END:STANDARD
END:VTIMEZONE
BEGIN:VEVENT
UID:vls-71245445-20251013T183000@quickscores.com
DTSTAMP:20260421T193000Z
DTSTART;TZID=America/Los_Angeles:20251013T183000
DURATION:PT1H0M0S
SUMMARY:Liberty/Other - Hostetler vs. Team Huber/Katzenstein
DESCRIPTION:2/3rd Girls League - Valley League Sports
LOCATION:BGC Albany Les Schwab Ct.
CATEGORIES:QuickScores, Basketball Game
TRANSP:OPAQUE
BEGIN:VALARM
TRIGGER:-PT2H
ACTION:DISPLAY
DESCRIPTION:Liberty/Other - Hostetler vs. Team Huber/Katzenstein
END:VALARM
END:VEVENT
BEGIN:VEVENT
UID:vls-71245455-20251022T181500@quickscores.com
DTSTAMP:20260421T193000Z
DTSTART;TZID=America/Los_Angeles:20251022T181500
DURATION:PT1H0M0S
SUMMARY:Team Huber/Katzenstein vs. ACS/Other - Duran
DESCRIPTION:2/3rd Girls League - Valley League Sports
LOCATION:BGC Albany Les Schwab Ct.
CATEGORIES:QuickScores, Basketball Game
TRANSP:OPAQUE
BEGIN:VALARM
TRIGGER:-PT2H
ACTION:DISPLAY
DESCRIPTION:Team Huber/Katzenstein vs. ACS/Other - Duran
END:VALARM
END:VEVENT
BEGIN:VEVENT
UID:vls-71245462-20251029T183000@quickscores.com
DTSTAMP:20260421T193000Z
DTSTART;TZID=America/Los_Angeles:20251029T183000
DURATION:PT1H0M0S
SUMMARY:Team Huber/Katzenstein vs. Jefferson- Purple
DESCRIPTION:2/3rd Girls League - Valley League Sports
LOCATION:Jefferson Middle School (New Gym)
CATEGORIES:QuickScores, Basketball Game
TRANSP:OPAQUE
BEGIN:VALARM
TRIGGER:-PT2H
ACTION:DISPLAY
DESCRIPTION:Team Huber/Katzenstein vs. Jefferson- Purple
END:VALARM
END:VEVENT
BEGIN:VEVENT
UID:vls-71245459-20251030T173000@quickscores.com
DTSTAMP:20260421T193000Z
DTSTART;TZID=America/Los_Angeles:20251030T173000
DURATION:PT1H0M0S
SUMMARY:Team Huber/Katzenstein vs. Meadow Ridge/Peri - Andersen
DESCRIPTION:2/3rd Girls League - Valley League Sports
LOCATION:BGC Albany Les Schwab Ct.
CATEGORIES:QuickScores, Basketball Game
TRANSP:OPAQUE
BEGIN:VALARM
TRIGGER:-PT2H
ACTION:DISPLAY
DESCRIPTION:Team Huber/Katzenstein vs. Meadow Ridge/Peri - Andersen
END:VALARM
END:VEVENT
BEGIN:VEVENT
UID:vls-71245467-20251104T173000@quickscores.com
DTSTAMP:20260421T193000Z
DTSTART;TZID=America/Los_Angeles:20251104T173000
DURATION:PT1H0M0S
SUMMARY:ACS/Other - Duran vs. Team Huber/Katzenstein
DESCRIPTION:2/3rd Girls League - Valley League Sports
LOCATION:BGC Albany Progressive Software Solutions
CATEGORIES:QuickScores, Basketball Game
TRANSP:OPAQUE
BEGIN:VALARM
TRIGGER:-PT2H
ACTION:DISPLAY
DESCRIPTION:ACS/Other - Duran vs. Team Huber/Katzenstein
END:VALARM
END:VEVENT
BEGIN:VEVENT
UID:vls-71245463-20251107T174500@quickscores.com
DTSTAMP:20260421T193000Z
DTSTART;TZID=America/Los_Angeles:20251107T174500
DURATION:PT1H0M0S
SUMMARY:Jefferson- Pink vs. Team Huber/Katzenstein
DESCRIPTION:2/3rd Girls League - Valley League Sports
LOCATION:BGC Albany Les Schwab Ct.
CATEGORIES:QuickScores, Basketball Game
TRANSP:OPAQUE
BEGIN:VALARM
TRIGGER:-PT2H
ACTION:DISPLAY
DESCRIPTION:Jefferson- Pink vs. Team Huber/Katzenstein
END:VALARM
END:VEVENT
BEGIN:VEVENT
UID:vls-71245451-20251108T100000@quickscores.com
DTSTAMP:20260421T193000Z
DTSTART;TZID=America/Los_Angeles:20251108T100000
DURATION:PT1H0M0S
SUMMARY:Team Huber/Katzenstein vs. Jefferson- Pink
DESCRIPTION:moved from 10/24 --- 2/3rd Girls League - Valley League Sports
LOCATION:Jefferson Old Middle School Gym
CATEGORIES:QuickScores, Basketball Game
TRANSP:OPAQUE
BEGIN:VALARM
TRIGGER:-PT2H
ACTION:DISPLAY
DESCRIPTION:Team Huber/Katzenstein vs. Jefferson- Pink
END:VALARM
END:VEVENT
BEGIN:VEVENT
UID:vls-71245468-20251113T173000@quickscores.com
DTSTAMP:20260421T193000Z
DTSTART;TZID=America/Los_Angeles:20251113T173000
DURATION:PT1H0M0S
SUMMARY:Santiam Christian - Backer vs. Team Huber/Katzenstein
DESCRIPTION:2/3rd Girls League - Valley League Sports
LOCATION:BGC Albany Les Schwab Ct.
CATEGORIES:QuickScores, Basketball Game
TRANSP:OPAQUE
BEGIN:VALARM
TRIGGER:-PT2H
ACTION:DISPLAY
DESCRIPTION:Santiam Christian - Backer vs. Team Huber/Katzenstein
END:VALARM
END:VEVENT
END:VCALENDAR
